BEGIN:VCALENDAR
VERSION:2.0
PRODID:-//St Johns Golf Course - ECPv6.13.2.1//NONSGML v1.0//EN
CALSCALE:GREGORIAN
METHOD:PUBLISH
X-WR-CALNAME:St Johns Golf Course
X-ORIGINAL-URL:https://sjgc.com
X-WR-CALDESC:Events for St Johns Golf Course
REFRESH-INTERVAL;VALUE=DURATION:PT1H
X-Robots-Tag:noindex
X-PUBLISHED-TTL:PT1H
BEGIN:VTIMEZONE
TZID:America/New_York
BEGIN:DAYLIGHT
TZOFFSETFROM:-0500
TZOFFSETTO:-0400
TZNAME:EDT
DTSTART:20260308T070000
END:DAYLIGHT
BEGIN:STANDARD
TZOFFSETFROM:-0400
TZOFFSETTO:-0500
TZNAME:EST
DTSTART:20261101T060000
END:STANDARD
END:VTIMEZONE
BEGIN:VEVENT
DTSTART;TZID=America/New_York:20260425T070000
DTEND;TZID=America/New_York:20260425T074500
DTSTAMP:20260424T015022
CREATED:20250509T180230Z
LAST-MODIFIED:20250522T125432Z
UID:10007124-1777100400-1777103100@sjgc.com
SUMMARY:Skins Group
DESCRIPTION:Plays Thursdays and Saturdays year-round.
URL:https://sjgc.com/event/skins-group/2026-04-25/
LOCATION:St. Johns Golf Club\, 4900 Cypress Links Blvd\, Elkton\, FL\, 32033\, United States
CATEGORIES:Players Groups,Skins Group
ATTACH;FMTTYPE=image/jpeg:https://sjgc.com/wp-content/uploads/2025/03/golfballs-600.jpg
END:VEVENT
BEGIN:VEVENT
DTSTART;TZID=America/New_York:20260430T070000
DTEND;TZID=America/New_York:20260430T074500
DTSTAMP:20260424T015022
CREATED:20250509T180230Z
LAST-MODIFIED:20250522T125432Z
UID:10007125-1777532400-1777535100@sjgc.com
SUMMARY:Skins Group
DESCRIPTION:Plays Thursdays and Saturdays year-round.
URL:https://sjgc.com/event/skins-group/2026-04-30/
LOCATION:St. Johns Golf Club\, 4900 Cypress Links Blvd\, Elkton\, FL\, 32033\, United States
CATEGORIES:Players Groups,Skins Group
ATTACH;FMTTYPE=image/jpeg:https://sjgc.com/wp-content/uploads/2025/03/golfballs-600.jpg
END:VEVENT
BEGIN:VEVENT
DTSTART;TZID=America/New_York:20260502T070000
DTEND;TZID=America/New_York:20260502T074500
DTSTAMP:20260424T015022
CREATED:20250509T180230Z
LAST-MODIFIED:20250522T125432Z
UID:10007126-1777705200-1777707900@sjgc.com
SUMMARY:Skins Group
DESCRIPTION:Plays Thursdays and Saturdays year-round.
URL:https://sjgc.com/event/skins-group/2026-05-02/
LOCATION:St. Johns Golf Club\, 4900 Cypress Links Blvd\, Elkton\, FL\, 32033\, United States
CATEGORIES:Players Groups,Skins Group
ATTACH;FMTTYPE=image/jpeg:https://sjgc.com/wp-content/uploads/2025/03/golfballs-600.jpg
END:VEVENT
BEGIN:VEVENT
DTSTART;TZID=America/New_York:20260507T070000
DTEND;TZID=America/New_York:20260507T074500
DTSTAMP:20260424T015022
CREATED:20250509T180230Z
LAST-MODIFIED:20250522T125432Z
UID:10007127-1778137200-1778139900@sjgc.com
SUMMARY:Skins Group
DESCRIPTION:Plays Thursdays and Saturdays year-round.
URL:https://sjgc.com/event/skins-group/2026-05-07/
LOCATION:St. Johns Golf Club\, 4900 Cypress Links Blvd\, Elkton\, FL\, 32033\, United States
CATEGORIES:Players Groups,Skins Group
ATTACH;FMTTYPE=image/jpeg:https://sjgc.com/wp-content/uploads/2025/03/golfballs-600.jpg
END:VEVENT
BEGIN:VEVENT
DTSTART;TZID=America/New_York:20260509T070000
DTEND;TZID=America/New_York:20260509T074500
DTSTAMP:20260424T015022
CREATED:20250509T180230Z
LAST-MODIFIED:20250522T125432Z
UID:10007128-1778310000-1778312700@sjgc.com
SUMMARY:Skins Group
DESCRIPTION:Plays Thursdays and Saturdays year-round.
URL:https://sjgc.com/event/skins-group/2026-05-09/
LOCATION:St. Johns Golf Club\, 4900 Cypress Links Blvd\, Elkton\, FL\, 32033\, United States
CATEGORIES:Players Groups,Skins Group
ATTACH;FMTTYPE=image/jpeg:https://sjgc.com/wp-content/uploads/2025/03/golfballs-600.jpg
END:VEVENT
BEGIN:VEVENT
DTSTART;TZID=America/New_York:20260514T070000
DTEND;TZID=America/New_York:20260514T074500
DTSTAMP:20260424T015022
CREATED:20250509T180230Z
LAST-MODIFIED:20250522T125432Z
UID:10007129-1778742000-1778744700@sjgc.com
SUMMARY:Skins Group
DESCRIPTION:Plays Thursdays and Saturdays year-round.
URL:https://sjgc.com/event/skins-group/2026-05-14/
LOCATION:St. Johns Golf Club\, 4900 Cypress Links Blvd\, Elkton\, FL\, 32033\, United States
CATEGORIES:Players Groups,Skins Group
ATTACH;FMTTYPE=image/jpeg:https://sjgc.com/wp-content/uploads/2025/03/golfballs-600.jpg
END:VEVENT
BEGIN:VEVENT
DTSTART;TZID=America/New_York:20260516T070000
DTEND;TZID=America/New_York:20260516T074500
DTSTAMP:20260424T015022
CREATED:20250509T180230Z
LAST-MODIFIED:20250522T125432Z
UID:10007130-1778914800-1778917500@sjgc.com
SUMMARY:Skins Group
DESCRIPTION:Plays Thursdays and Saturdays year-round.
URL:https://sjgc.com/event/skins-group/2026-05-16/
LOCATION:St. Johns Golf Club\, 4900 Cypress Links Blvd\, Elkton\, FL\, 32033\, United States
CATEGORIES:Players Groups,Skins Group
ATTACH;FMTTYPE=image/jpeg:https://sjgc.com/wp-content/uploads/2025/03/golfballs-600.jpg
END:VEVENT
BEGIN:VEVENT
DTSTART;TZID=America/New_York:20260521T070000
DTEND;TZID=America/New_York:20260521T074500
DTSTAMP:20260424T015022
CREATED:20250509T180230Z
LAST-MODIFIED:20250522T125432Z
UID:10007131-1779346800-1779349500@sjgc.com
SUMMARY:Skins Group
DESCRIPTION:Plays Thursdays and Saturdays year-round.
URL:https://sjgc.com/event/skins-group/2026-05-21/
LOCATION:St. Johns Golf Club\, 4900 Cypress Links Blvd\, Elkton\, FL\, 32033\, United States
CATEGORIES:Players Groups,Skins Group
ATTACH;FMTTYPE=image/jpeg:https://sjgc.com/wp-content/uploads/2025/03/golfballs-600.jpg
END:VEVENT
BEGIN:VEVENT
DTSTART;TZID=America/New_York:20260523T070000
DTEND;TZID=America/New_York:20260523T074500
DTSTAMP:20260424T015022
CREATED:20250509T180230Z
LAST-MODIFIED:20250522T125432Z
UID:10007132-1779519600-1779522300@sjgc.com
SUMMARY:Skins Group
DESCRIPTION:Plays Thursdays and Saturdays year-round.
URL:https://sjgc.com/event/skins-group/2026-05-23/
LOCATION:St. Johns Golf Club\, 4900 Cypress Links Blvd\, Elkton\, FL\, 32033\, United States
CATEGORIES:Players Groups,Skins Group
ATTACH;FMTTYPE=image/jpeg:https://sjgc.com/wp-content/uploads/2025/03/golfballs-600.jpg
END:VEVENT
BEGIN:VEVENT
DTSTART;TZID=America/New_York:20260528T070000
DTEND;TZID=America/New_York:20260528T074500
DTSTAMP:20260424T015022
CREATED:20250509T180230Z
LAST-MODIFIED:20250522T125432Z
UID:10007133-1779951600-1779954300@sjgc.com
SUMMARY:Skins Group
DESCRIPTION:Plays Thursdays and Saturdays year-round.
URL:https://sjgc.com/event/skins-group/2026-05-28/
LOCATION:St. Johns Golf Club\, 4900 Cypress Links Blvd\, Elkton\, FL\, 32033\, United States
CATEGORIES:Players Groups,Skins Group
ATTACH;FMTTYPE=image/jpeg:https://sjgc.com/wp-content/uploads/2025/03/golfballs-600.jpg
END:VEVENT
BEGIN:VEVENT
DTSTART;TZID=America/New_York:20260530T070000
DTEND;TZID=America/New_York:20260530T074500
DTSTAMP:20260424T015022
CREATED:20250509T180230Z
LAST-MODIFIED:20250522T125432Z
UID:10007134-1780124400-1780127100@sjgc.com
SUMMARY:Skins Group
DESCRIPTION:Plays Thursdays and Saturdays year-round.
URL:https://sjgc.com/event/skins-group/2026-05-30/
LOCATION:St. Johns Golf Club\, 4900 Cypress Links Blvd\, Elkton\, FL\, 32033\, United States
CATEGORIES:Players Groups,Skins Group
ATTACH;FMTTYPE=image/jpeg:https://sjgc.com/wp-content/uploads/2025/03/golfballs-600.jpg
END:VEVENT
BEGIN:VEVENT
DTSTART;TZID=America/New_York:20260604T070000
DTEND;TZID=America/New_York:20260604T074500
DTSTAMP:20260424T015022
CREATED:20250509T180230Z
LAST-MODIFIED:20250522T125432Z
UID:10007135-1780556400-1780559100@sjgc.com
SUMMARY:Skins Group
DESCRIPTION:Plays Thursdays and Saturdays year-round.
URL:https://sjgc.com/event/skins-group/2026-06-04/
LOCATION:St. Johns Golf Club\, 4900 Cypress Links Blvd\, Elkton\, FL\, 32033\, United States
CATEGORIES:Players Groups,Skins Group
ATTACH;FMTTYPE=image/jpeg:https://sjgc.com/wp-content/uploads/2025/03/golfballs-600.jpg
END:VEVENT
BEGIN:VEVENT
DTSTART;TZID=America/New_York:20260606T070000
DTEND;TZID=America/New_York:20260606T074500
DTSTAMP:20260424T015022
CREATED:20250509T180230Z
LAST-MODIFIED:20250522T125432Z
UID:10007136-1780729200-1780731900@sjgc.com
SUMMARY:Skins Group
DESCRIPTION:Plays Thursdays and Saturdays year-round.
URL:https://sjgc.com/event/skins-group/2026-06-06/
LOCATION:St. Johns Golf Club\, 4900 Cypress Links Blvd\, Elkton\, FL\, 32033\, United States
CATEGORIES:Players Groups,Skins Group
ATTACH;FMTTYPE=image/jpeg:https://sjgc.com/wp-content/uploads/2025/03/golfballs-600.jpg
END:VEVENT
BEGIN:VEVENT
DTSTART;TZID=America/New_York:20260611T070000
DTEND;TZID=America/New_York:20260611T074500
DTSTAMP:20260424T015022
CREATED:20250509T180230Z
LAST-MODIFIED:20250522T125432Z
UID:10007137-1781161200-1781163900@sjgc.com
SUMMARY:Skins Group
DESCRIPTION:Plays Thursdays and Saturdays year-round.
URL:https://sjgc.com/event/skins-group/2026-06-11/
LOCATION:St. Johns Golf Club\, 4900 Cypress Links Blvd\, Elkton\, FL\, 32033\, United States
CATEGORIES:Players Groups,Skins Group
ATTACH;FMTTYPE=image/jpeg:https://sjgc.com/wp-content/uploads/2025/03/golfballs-600.jpg
END:VEVENT
BEGIN:VEVENT
DTSTART;TZID=America/New_York:20260613T070000
DTEND;TZID=America/New_York:20260613T074500
DTSTAMP:20260424T015022
CREATED:20250509T180230Z
LAST-MODIFIED:20250522T125432Z
UID:10007138-1781334000-1781336700@sjgc.com
SUMMARY:Skins Group
DESCRIPTION:Plays Thursdays and Saturdays year-round.
URL:https://sjgc.com/event/skins-group/2026-06-13/
LOCATION:St. Johns Golf Club\, 4900 Cypress Links Blvd\, Elkton\, FL\, 32033\, United States
CATEGORIES:Players Groups,Skins Group
ATTACH;FMTTYPE=image/jpeg:https://sjgc.com/wp-content/uploads/2025/03/golfballs-600.jpg
END:VEVENT
BEGIN:VEVENT
DTSTART;TZID=America/New_York:20260618T070000
DTEND;TZID=America/New_York:20260618T074500
DTSTAMP:20260424T015022
CREATED:20250509T180230Z
LAST-MODIFIED:20250522T125432Z
UID:10007139-1781766000-1781768700@sjgc.com
SUMMARY:Skins Group
DESCRIPTION:Plays Thursdays and Saturdays year-round.
URL:https://sjgc.com/event/skins-group/2026-06-18/
LOCATION:St. Johns Golf Club\, 4900 Cypress Links Blvd\, Elkton\, FL\, 32033\, United States
CATEGORIES:Players Groups,Skins Group
ATTACH;FMTTYPE=image/jpeg:https://sjgc.com/wp-content/uploads/2025/03/golfballs-600.jpg
END:VEVENT
BEGIN:VEVENT
DTSTART;TZID=America/New_York:20260620T070000
DTEND;TZID=America/New_York:20260620T074500
DTSTAMP:20260424T015022
CREATED:20250509T180230Z
LAST-MODIFIED:20250522T125432Z
UID:10007140-1781938800-1781941500@sjgc.com
SUMMARY:Skins Group
DESCRIPTION:Plays Thursdays and Saturdays year-round.
URL:https://sjgc.com/event/skins-group/2026-06-20/
LOCATION:St. Johns Golf Club\, 4900 Cypress Links Blvd\, Elkton\, FL\, 32033\, United States
CATEGORIES:Players Groups,Skins Group
ATTACH;FMTTYPE=image/jpeg:https://sjgc.com/wp-content/uploads/2025/03/golfballs-600.jpg
END:VEVENT
BEGIN:VEVENT
DTSTART;TZID=America/New_York:20260625T070000
DTEND;TZID=America/New_York:20260625T074500
DTSTAMP:20260424T015022
CREATED:20250509T180230Z
LAST-MODIFIED:20250522T125432Z
UID:10007141-1782370800-1782373500@sjgc.com
SUMMARY:Skins Group
DESCRIPTION:Plays Thursdays and Saturdays year-round.
URL:https://sjgc.com/event/skins-group/2026-06-25/
LOCATION:St. Johns Golf Club\, 4900 Cypress Links Blvd\, Elkton\, FL\, 32033\, United States
CATEGORIES:Players Groups,Skins Group
ATTACH;FMTTYPE=image/jpeg:https://sjgc.com/wp-content/uploads/2025/03/golfballs-600.jpg
END:VEVENT
BEGIN:VEVENT
DTSTART;TZID=America/New_York:20260627T070000
DTEND;TZID=America/New_York:20260627T074500
DTSTAMP:20260424T015022
CREATED:20250509T180230Z
LAST-MODIFIED:20250522T125432Z
UID:10007142-1782543600-1782546300@sjgc.com
SUMMARY:Skins Group
DESCRIPTION:Plays Thursdays and Saturdays year-round.
URL:https://sjgc.com/event/skins-group/2026-06-27/
LOCATION:St. Johns Golf Club\, 4900 Cypress Links Blvd\, Elkton\, FL\, 32033\, United States
CATEGORIES:Players Groups,Skins Group
ATTACH;FMTTYPE=image/jpeg:https://sjgc.com/wp-content/uploads/2025/03/golfballs-600.jpg
END:VEVENT
BEGIN:VEVENT
DTSTART;TZID=America/New_York:20260702T070000
DTEND;TZID=America/New_York:20260702T074500
DTSTAMP:20260424T015022
CREATED:20250509T180230Z
LAST-MODIFIED:20250522T125432Z
UID:10007143-1782975600-1782978300@sjgc.com
SUMMARY:Skins Group
DESCRIPTION:Plays Thursdays and Saturdays year-round.
URL:https://sjgc.com/event/skins-group/2026-07-02/
LOCATION:St. Johns Golf Club\, 4900 Cypress Links Blvd\, Elkton\, FL\, 32033\, United States
CATEGORIES:Players Groups,Skins Group
ATTACH;FMTTYPE=image/jpeg:https://sjgc.com/wp-content/uploads/2025/03/golfballs-600.jpg
END:VEVENT
BEGIN:VEVENT
DTSTART;TZID=America/New_York:20260704T070000
DTEND;TZID=America/New_York:20260704T074500
DTSTAMP:20260424T015022
CREATED:20250509T180230Z
LAST-MODIFIED:20250522T125432Z
UID:10007144-1783148400-1783151100@sjgc.com
SUMMARY:Skins Group
DESCRIPTION:Plays Thursdays and Saturdays year-round.
URL:https://sjgc.com/event/skins-group/2026-07-04/
LOCATION:St. Johns Golf Club\, 4900 Cypress Links Blvd\, Elkton\, FL\, 32033\, United States
CATEGORIES:Players Groups,Skins Group
ATTACH;FMTTYPE=image/jpeg:https://sjgc.com/wp-content/uploads/2025/03/golfballs-600.jpg
END:VEVENT
BEGIN:VEVENT
DTSTART;TZID=America/New_York:20260709T070000
DTEND;TZID=America/New_York:20260709T074500
DTSTAMP:20260424T015022
CREATED:20250509T180230Z
LAST-MODIFIED:20250522T125432Z
UID:10007145-1783580400-1783583100@sjgc.com
SUMMARY:Skins Group
DESCRIPTION:Plays Thursdays and Saturdays year-round.
URL:https://sjgc.com/event/skins-group/2026-07-09/
LOCATION:St. Johns Golf Club\, 4900 Cypress Links Blvd\, Elkton\, FL\, 32033\, United States
CATEGORIES:Players Groups,Skins Group
ATTACH;FMTTYPE=image/jpeg:https://sjgc.com/wp-content/uploads/2025/03/golfballs-600.jpg
END:VEVENT
BEGIN:VEVENT
DTSTART;TZID=America/New_York:20260711T070000
DTEND;TZID=America/New_York:20260711T074500
DTSTAMP:20260424T015022
CREATED:20250509T180230Z
LAST-MODIFIED:20250522T125432Z
UID:10007146-1783753200-1783755900@sjgc.com
SUMMARY:Skins Group
DESCRIPTION:Plays Thursdays and Saturdays year-round.
URL:https://sjgc.com/event/skins-group/2026-07-11/
LOCATION:St. Johns Golf Club\, 4900 Cypress Links Blvd\, Elkton\, FL\, 32033\, United States
CATEGORIES:Players Groups,Skins Group
ATTACH;FMTTYPE=image/jpeg:https://sjgc.com/wp-content/uploads/2025/03/golfballs-600.jpg
END:VEVENT
BEGIN:VEVENT
DTSTART;TZID=America/New_York:20260716T070000
DTEND;TZID=America/New_York:20260716T074500
DTSTAMP:20260424T015022
CREATED:20250509T180230Z
LAST-MODIFIED:20250522T125432Z
UID:10007147-1784185200-1784187900@sjgc.com
SUMMARY:Skins Group
DESCRIPTION:Plays Thursdays and Saturdays year-round.
URL:https://sjgc.com/event/skins-group/2026-07-16/
LOCATION:St. Johns Golf Club\, 4900 Cypress Links Blvd\, Elkton\, FL\, 32033\, United States
CATEGORIES:Players Groups,Skins Group
ATTACH;FMTTYPE=image/jpeg:https://sjgc.com/wp-content/uploads/2025/03/golfballs-600.jpg
END:VEVENT
BEGIN:VEVENT
DTSTART;TZID=America/New_York:20260718T070000
DTEND;TZID=America/New_York:20260718T074500
DTSTAMP:20260424T015022
CREATED:20250509T180230Z
LAST-MODIFIED:20250522T125432Z
UID:10007148-1784358000-1784360700@sjgc.com
SUMMARY:Skins Group
DESCRIPTION:Plays Thursdays and Saturdays year-round.
URL:https://sjgc.com/event/skins-group/2026-07-18/
LOCATION:St. Johns Golf Club\, 4900 Cypress Links Blvd\, Elkton\, FL\, 32033\, United States
CATEGORIES:Players Groups,Skins Group
ATTACH;FMTTYPE=image/jpeg:https://sjgc.com/wp-content/uploads/2025/03/golfballs-600.jpg
END:VEVENT
BEGIN:VEVENT
DTSTART;TZID=America/New_York:20260723T070000
DTEND;TZID=America/New_York:20260723T074500
DTSTAMP:20260424T015022
CREATED:20250509T180230Z
LAST-MODIFIED:20250522T125432Z
UID:10007149-1784790000-1784792700@sjgc.com
SUMMARY:Skins Group
DESCRIPTION:Plays Thursdays and Saturdays year-round.
URL:https://sjgc.com/event/skins-group/2026-07-23/
LOCATION:St. Johns Golf Club\, 4900 Cypress Links Blvd\, Elkton\, FL\, 32033\, United States
CATEGORIES:Players Groups,Skins Group
ATTACH;FMTTYPE=image/jpeg:https://sjgc.com/wp-content/uploads/2025/03/golfballs-600.jpg
END:VEVENT
BEGIN:VEVENT
DTSTART;TZID=America/New_York:20260725T070000
DTEND;TZID=America/New_York:20260725T074500
DTSTAMP:20260424T015022
CREATED:20250509T180230Z
LAST-MODIFIED:20250522T125432Z
UID:10007150-1784962800-1784965500@sjgc.com
SUMMARY:Skins Group
DESCRIPTION:Plays Thursdays and Saturdays year-round.
URL:https://sjgc.com/event/skins-group/2026-07-25/
LOCATION:St. Johns Golf Club\, 4900 Cypress Links Blvd\, Elkton\, FL\, 32033\, United States
CATEGORIES:Players Groups,Skins Group
ATTACH;FMTTYPE=image/jpeg:https://sjgc.com/wp-content/uploads/2025/03/golfballs-600.jpg
END:VEVENT
BEGIN:VEVENT
DTSTART;TZID=America/New_York:20260730T070000
DTEND;TZID=America/New_York:20260730T074500
DTSTAMP:20260424T015022
CREATED:20250509T180230Z
LAST-MODIFIED:20250522T125432Z
UID:10007151-1785394800-1785397500@sjgc.com
SUMMARY:Skins Group
DESCRIPTION:Plays Thursdays and Saturdays year-round.
URL:https://sjgc.com/event/skins-group/2026-07-30/
LOCATION:St. Johns Golf Club\, 4900 Cypress Links Blvd\, Elkton\, FL\, 32033\, United States
CATEGORIES:Players Groups,Skins Group
ATTACH;FMTTYPE=image/jpeg:https://sjgc.com/wp-content/uploads/2025/03/golfballs-600.jpg
END:VEVENT
BEGIN:VEVENT
DTSTART;TZID=America/New_York:20260801T070000
DTEND;TZID=America/New_York:20260801T074500
DTSTAMP:20260424T015022
CREATED:20250509T180230Z
LAST-MODIFIED:20250522T125432Z
UID:10007152-1785567600-1785570300@sjgc.com
SUMMARY:Skins Group
DESCRIPTION:Plays Thursdays and Saturdays year-round.
URL:https://sjgc.com/event/skins-group/2026-08-01/
LOCATION:St. Johns Golf Club\, 4900 Cypress Links Blvd\, Elkton\, FL\, 32033\, United States
CATEGORIES:Players Groups,Skins Group
ATTACH;FMTTYPE=image/jpeg:https://sjgc.com/wp-content/uploads/2025/03/golfballs-600.jpg
END:VEVENT
BEGIN:VEVENT
DTSTART;TZID=America/New_York:20260806T070000
DTEND;TZID=America/New_York:20260806T074500
DTSTAMP:20260424T015022
CREATED:20250509T180230Z
LAST-MODIFIED:20250522T125432Z
UID:10007153-1785999600-1786002300@sjgc.com
SUMMARY:Skins Group
DESCRIPTION:Plays Thursdays and Saturdays year-round.
URL:https://sjgc.com/event/skins-group/2026-08-06/
LOCATION:St. Johns Golf Club\, 4900 Cypress Links Blvd\, Elkton\, FL\, 32033\, United States
CATEGORIES:Players Groups,Skins Group
ATTACH;FMTTYPE=image/jpeg:https://sjgc.com/wp-content/uploads/2025/03/golfballs-600.jpg
END:VEVENT
END:VCALENDAR