BEGIN:VCALENDAR
VERSION:2.0
PRODID:-//St Johns Golf Course - ECPv6.13.2.1//NONSGML v1.0//EN
CALSCALE:GREGORIAN
METHOD:PUBLISH
X-WR-CALNAME:St Johns Golf Course
X-ORIGINAL-URL:https://sjgc.com
X-WR-CALDESC:Events for St Johns Golf Course
REFRESH-INTERVAL;VALUE=DURATION:PT1H
X-Robots-Tag:noindex
X-PUBLISHED-TTL:PT1H
BEGIN:VTIMEZONE
TZID:America/New_York
BEGIN:DAYLIGHT
TZOFFSETFROM:-0500
TZOFFSETTO:-0400
TZNAME:EDT
DTSTART:20280312T070000
END:DAYLIGHT
BEGIN:STANDARD
TZOFFSETFROM:-0400
TZOFFSETTO:-0500
TZNAME:EST
DTSTART:20281105T060000
END:STANDARD
END:VTIMEZONE
BEGIN:VEVENT
DTSTART;TZID=America/New_York:20280608T070000
DTEND;TZID=America/New_York:20280608T074500
DTSTAMP:20260425T172119
CREATED:20250509T180230Z
LAST-MODIFIED:20250522T125432Z
UID:10007345-1844060400-1844063100@sjgc.com
SUMMARY:Skins Group
DESCRIPTION:Plays Thursdays and Saturdays year-round.
URL:https://sjgc.com/event/skins-group/2028-06-08/
LOCATION:St. Johns Golf Club\, 4900 Cypress Links Blvd\, Elkton\, FL\, 32033\, United States
CATEGORIES:Players Groups,Skins Group
ATTACH;FMTTYPE=image/jpeg:https://sjgc.com/wp-content/uploads/2025/03/golfballs-600.jpg
END:VEVENT
BEGIN:VEVENT
DTSTART;TZID=America/New_York:20280610T070000
DTEND;TZID=America/New_York:20280610T074500
DTSTAMP:20260425T172119
CREATED:20250509T180230Z
LAST-MODIFIED:20250522T125432Z
UID:10007346-1844233200-1844235900@sjgc.com
SUMMARY:Skins Group
DESCRIPTION:Plays Thursdays and Saturdays year-round.
URL:https://sjgc.com/event/skins-group/2028-06-10/
LOCATION:St. Johns Golf Club\, 4900 Cypress Links Blvd\, Elkton\, FL\, 32033\, United States
CATEGORIES:Players Groups,Skins Group
ATTACH;FMTTYPE=image/jpeg:https://sjgc.com/wp-content/uploads/2025/03/golfballs-600.jpg
END:VEVENT
BEGIN:VEVENT
DTSTART;TZID=America/New_York:20280615T070000
DTEND;TZID=America/New_York:20280615T074500
DTSTAMP:20260425T172119
CREATED:20250509T180230Z
LAST-MODIFIED:20250522T125432Z
UID:10007347-1844665200-1844667900@sjgc.com
SUMMARY:Skins Group
DESCRIPTION:Plays Thursdays and Saturdays year-round.
URL:https://sjgc.com/event/skins-group/2028-06-15/
LOCATION:St. Johns Golf Club\, 4900 Cypress Links Blvd\, Elkton\, FL\, 32033\, United States
CATEGORIES:Players Groups,Skins Group
ATTACH;FMTTYPE=image/jpeg:https://sjgc.com/wp-content/uploads/2025/03/golfballs-600.jpg
END:VEVENT
BEGIN:VEVENT
DTSTART;TZID=America/New_York:20280617T070000
DTEND;TZID=America/New_York:20280617T074500
DTSTAMP:20260425T172119
CREATED:20250509T180230Z
LAST-MODIFIED:20250522T125432Z
UID:10007348-1844838000-1844840700@sjgc.com
SUMMARY:Skins Group
DESCRIPTION:Plays Thursdays and Saturdays year-round.
URL:https://sjgc.com/event/skins-group/2028-06-17/
LOCATION:St. Johns Golf Club\, 4900 Cypress Links Blvd\, Elkton\, FL\, 32033\, United States
CATEGORIES:Players Groups,Skins Group
ATTACH;FMTTYPE=image/jpeg:https://sjgc.com/wp-content/uploads/2025/03/golfballs-600.jpg
END:VEVENT
BEGIN:VEVENT
DTSTART;TZID=America/New_York:20280622T070000
DTEND;TZID=America/New_York:20280622T074500
DTSTAMP:20260425T172119
CREATED:20250509T180230Z
LAST-MODIFIED:20250522T125432Z
UID:10007349-1845270000-1845272700@sjgc.com
SUMMARY:Skins Group
DESCRIPTION:Plays Thursdays and Saturdays year-round.
URL:https://sjgc.com/event/skins-group/2028-06-22/
LOCATION:St. Johns Golf Club\, 4900 Cypress Links Blvd\, Elkton\, FL\, 32033\, United States
CATEGORIES:Players Groups,Skins Group
ATTACH;FMTTYPE=image/jpeg:https://sjgc.com/wp-content/uploads/2025/03/golfballs-600.jpg
END:VEVENT
BEGIN:VEVENT
DTSTART;TZID=America/New_York:20280624T070000
DTEND;TZID=America/New_York:20280624T074500
DTSTAMP:20260425T172119
CREATED:20250509T180230Z
LAST-MODIFIED:20250522T125432Z
UID:10007350-1845442800-1845445500@sjgc.com
SUMMARY:Skins Group
DESCRIPTION:Plays Thursdays and Saturdays year-round.
URL:https://sjgc.com/event/skins-group/2028-06-24/
LOCATION:St. Johns Golf Club\, 4900 Cypress Links Blvd\, Elkton\, FL\, 32033\, United States
CATEGORIES:Players Groups,Skins Group
ATTACH;FMTTYPE=image/jpeg:https://sjgc.com/wp-content/uploads/2025/03/golfballs-600.jpg
END:VEVENT
BEGIN:VEVENT
DTSTART;TZID=America/New_York:20280629T070000
DTEND;TZID=America/New_York:20280629T074500
DTSTAMP:20260425T172119
CREATED:20250509T180230Z
LAST-MODIFIED:20250522T125432Z
UID:10007351-1845874800-1845877500@sjgc.com
SUMMARY:Skins Group
DESCRIPTION:Plays Thursdays and Saturdays year-round.
URL:https://sjgc.com/event/skins-group/2028-06-29/
LOCATION:St. Johns Golf Club\, 4900 Cypress Links Blvd\, Elkton\, FL\, 32033\, United States
CATEGORIES:Players Groups,Skins Group
ATTACH;FMTTYPE=image/jpeg:https://sjgc.com/wp-content/uploads/2025/03/golfballs-600.jpg
END:VEVENT
BEGIN:VEVENT
DTSTART;TZID=America/New_York:20280701T070000
DTEND;TZID=America/New_York:20280701T074500
DTSTAMP:20260425T172119
CREATED:20250509T180230Z
LAST-MODIFIED:20250522T125432Z
UID:10007352-1846047600-1846050300@sjgc.com
SUMMARY:Skins Group
DESCRIPTION:Plays Thursdays and Saturdays year-round.
URL:https://sjgc.com/event/skins-group/2028-07-01/
LOCATION:St. Johns Golf Club\, 4900 Cypress Links Blvd\, Elkton\, FL\, 32033\, United States
CATEGORIES:Players Groups,Skins Group
ATTACH;FMTTYPE=image/jpeg:https://sjgc.com/wp-content/uploads/2025/03/golfballs-600.jpg
END:VEVENT
BEGIN:VEVENT
DTSTART;TZID=America/New_York:20280706T070000
DTEND;TZID=America/New_York:20280706T074500
DTSTAMP:20260425T172119
CREATED:20250509T180230Z
LAST-MODIFIED:20250522T125432Z
UID:10007353-1846479600-1846482300@sjgc.com
SUMMARY:Skins Group
DESCRIPTION:Plays Thursdays and Saturdays year-round.
URL:https://sjgc.com/event/skins-group/2028-07-06/
LOCATION:St. Johns Golf Club\, 4900 Cypress Links Blvd\, Elkton\, FL\, 32033\, United States
CATEGORIES:Players Groups,Skins Group
ATTACH;FMTTYPE=image/jpeg:https://sjgc.com/wp-content/uploads/2025/03/golfballs-600.jpg
END:VEVENT
BEGIN:VEVENT
DTSTART;TZID=America/New_York:20280708T070000
DTEND;TZID=America/New_York:20280708T074500
DTSTAMP:20260425T172119
CREATED:20250509T180230Z
LAST-MODIFIED:20250522T125432Z
UID:10007354-1846652400-1846655100@sjgc.com
SUMMARY:Skins Group
DESCRIPTION:Plays Thursdays and Saturdays year-round.
URL:https://sjgc.com/event/skins-group/2028-07-08/
LOCATION:St. Johns Golf Club\, 4900 Cypress Links Blvd\, Elkton\, FL\, 32033\, United States
CATEGORIES:Players Groups,Skins Group
ATTACH;FMTTYPE=image/jpeg:https://sjgc.com/wp-content/uploads/2025/03/golfballs-600.jpg
END:VEVENT
BEGIN:VEVENT
DTSTART;TZID=America/New_York:20280713T070000
DTEND;TZID=America/New_York:20280713T074500
DTSTAMP:20260425T172119
CREATED:20250509T180230Z
LAST-MODIFIED:20250522T125432Z
UID:10007355-1847084400-1847087100@sjgc.com
SUMMARY:Skins Group
DESCRIPTION:Plays Thursdays and Saturdays year-round.
URL:https://sjgc.com/event/skins-group/2028-07-13/
LOCATION:St. Johns Golf Club\, 4900 Cypress Links Blvd\, Elkton\, FL\, 32033\, United States
CATEGORIES:Players Groups,Skins Group
ATTACH;FMTTYPE=image/jpeg:https://sjgc.com/wp-content/uploads/2025/03/golfballs-600.jpg
END:VEVENT
BEGIN:VEVENT
DTSTART;TZID=America/New_York:20280715T070000
DTEND;TZID=America/New_York:20280715T074500
DTSTAMP:20260425T172119
CREATED:20250509T180230Z
LAST-MODIFIED:20250522T125432Z
UID:10007356-1847257200-1847259900@sjgc.com
SUMMARY:Skins Group
DESCRIPTION:Plays Thursdays and Saturdays year-round.
URL:https://sjgc.com/event/skins-group/2028-07-15/
LOCATION:St. Johns Golf Club\, 4900 Cypress Links Blvd\, Elkton\, FL\, 32033\, United States
CATEGORIES:Players Groups,Skins Group
ATTACH;FMTTYPE=image/jpeg:https://sjgc.com/wp-content/uploads/2025/03/golfballs-600.jpg
END:VEVENT
BEGIN:VEVENT
DTSTART;TZID=America/New_York:20280720T070000
DTEND;TZID=America/New_York:20280720T074500
DTSTAMP:20260425T172119
CREATED:20250509T180230Z
LAST-MODIFIED:20250522T125432Z
UID:10007357-1847689200-1847691900@sjgc.com
SUMMARY:Skins Group
DESCRIPTION:Plays Thursdays and Saturdays year-round.
URL:https://sjgc.com/event/skins-group/2028-07-20/
LOCATION:St. Johns Golf Club\, 4900 Cypress Links Blvd\, Elkton\, FL\, 32033\, United States
CATEGORIES:Players Groups,Skins Group
ATTACH;FMTTYPE=image/jpeg:https://sjgc.com/wp-content/uploads/2025/03/golfballs-600.jpg
END:VEVENT
BEGIN:VEVENT
DTSTART;TZID=America/New_York:20280722T070000
DTEND;TZID=America/New_York:20280722T074500
DTSTAMP:20260425T172119
CREATED:20250509T180230Z
LAST-MODIFIED:20250522T125432Z
UID:10007358-1847862000-1847864700@sjgc.com
SUMMARY:Skins Group
DESCRIPTION:Plays Thursdays and Saturdays year-round.
URL:https://sjgc.com/event/skins-group/2028-07-22/
LOCATION:St. Johns Golf Club\, 4900 Cypress Links Blvd\, Elkton\, FL\, 32033\, United States
CATEGORIES:Players Groups,Skins Group
ATTACH;FMTTYPE=image/jpeg:https://sjgc.com/wp-content/uploads/2025/03/golfballs-600.jpg
END:VEVENT
BEGIN:VEVENT
DTSTART;TZID=America/New_York:20280727T070000
DTEND;TZID=America/New_York:20280727T074500
DTSTAMP:20260425T172119
CREATED:20250509T180230Z
LAST-MODIFIED:20250522T125432Z
UID:10007359-1848294000-1848296700@sjgc.com
SUMMARY:Skins Group
DESCRIPTION:Plays Thursdays and Saturdays year-round.
URL:https://sjgc.com/event/skins-group/2028-07-27/
LOCATION:St. Johns Golf Club\, 4900 Cypress Links Blvd\, Elkton\, FL\, 32033\, United States
CATEGORIES:Players Groups,Skins Group
ATTACH;FMTTYPE=image/jpeg:https://sjgc.com/wp-content/uploads/2025/03/golfballs-600.jpg
END:VEVENT
BEGIN:VEVENT
DTSTART;TZID=America/New_York:20280729T070000
DTEND;TZID=America/New_York:20280729T074500
DTSTAMP:20260425T172119
CREATED:20250509T180230Z
LAST-MODIFIED:20250522T125432Z
UID:10007360-1848466800-1848469500@sjgc.com
SUMMARY:Skins Group
DESCRIPTION:Plays Thursdays and Saturdays year-round.
URL:https://sjgc.com/event/skins-group/2028-07-29/
LOCATION:St. Johns Golf Club\, 4900 Cypress Links Blvd\, Elkton\, FL\, 32033\, United States
CATEGORIES:Players Groups,Skins Group
ATTACH;FMTTYPE=image/jpeg:https://sjgc.com/wp-content/uploads/2025/03/golfballs-600.jpg
END:VEVENT
BEGIN:VEVENT
DTSTART;TZID=America/New_York:20280803T070000
DTEND;TZID=America/New_York:20280803T074500
DTSTAMP:20260425T172119
CREATED:20250509T180230Z
LAST-MODIFIED:20250522T125432Z
UID:10007361-1848898800-1848901500@sjgc.com
SUMMARY:Skins Group
DESCRIPTION:Plays Thursdays and Saturdays year-round.
URL:https://sjgc.com/event/skins-group/2028-08-03/
LOCATION:St. Johns Golf Club\, 4900 Cypress Links Blvd\, Elkton\, FL\, 32033\, United States
CATEGORIES:Players Groups,Skins Group
ATTACH;FMTTYPE=image/jpeg:https://sjgc.com/wp-content/uploads/2025/03/golfballs-600.jpg
END:VEVENT
BEGIN:VEVENT
DTSTART;TZID=America/New_York:20280805T070000
DTEND;TZID=America/New_York:20280805T074500
DTSTAMP:20260425T172119
CREATED:20250509T180230Z
LAST-MODIFIED:20250522T125432Z
UID:10007362-1849071600-1849074300@sjgc.com
SUMMARY:Skins Group
DESCRIPTION:Plays Thursdays and Saturdays year-round.
URL:https://sjgc.com/event/skins-group/2028-08-05/
LOCATION:St. Johns Golf Club\, 4900 Cypress Links Blvd\, Elkton\, FL\, 32033\, United States
CATEGORIES:Players Groups,Skins Group
ATTACH;FMTTYPE=image/jpeg:https://sjgc.com/wp-content/uploads/2025/03/golfballs-600.jpg
END:VEVENT
BEGIN:VEVENT
DTSTART;TZID=America/New_York:20280810T070000
DTEND;TZID=America/New_York:20280810T074500
DTSTAMP:20260425T172119
CREATED:20250509T180230Z
LAST-MODIFIED:20250522T125432Z
UID:10007363-1849503600-1849506300@sjgc.com
SUMMARY:Skins Group
DESCRIPTION:Plays Thursdays and Saturdays year-round.
URL:https://sjgc.com/event/skins-group/2028-08-10/
LOCATION:St. Johns Golf Club\, 4900 Cypress Links Blvd\, Elkton\, FL\, 32033\, United States
CATEGORIES:Players Groups,Skins Group
ATTACH;FMTTYPE=image/jpeg:https://sjgc.com/wp-content/uploads/2025/03/golfballs-600.jpg
END:VEVENT
BEGIN:VEVENT
DTSTART;TZID=America/New_York:20280812T070000
DTEND;TZID=America/New_York:20280812T074500
DTSTAMP:20260425T172119
CREATED:20250509T180230Z
LAST-MODIFIED:20250522T125432Z
UID:10007364-1849676400-1849679100@sjgc.com
SUMMARY:Skins Group
DESCRIPTION:Plays Thursdays and Saturdays year-round.
URL:https://sjgc.com/event/skins-group/2028-08-12/
LOCATION:St. Johns Golf Club\, 4900 Cypress Links Blvd\, Elkton\, FL\, 32033\, United States
CATEGORIES:Players Groups,Skins Group
ATTACH;FMTTYPE=image/jpeg:https://sjgc.com/wp-content/uploads/2025/03/golfballs-600.jpg
END:VEVENT
BEGIN:VEVENT
DTSTART;TZID=America/New_York:20280817T070000
DTEND;TZID=America/New_York:20280817T074500
DTSTAMP:20260425T172119
CREATED:20250509T180230Z
LAST-MODIFIED:20250522T125432Z
UID:10007365-1850108400-1850111100@sjgc.com
SUMMARY:Skins Group
DESCRIPTION:Plays Thursdays and Saturdays year-round.
URL:https://sjgc.com/event/skins-group/2028-08-17/
LOCATION:St. Johns Golf Club\, 4900 Cypress Links Blvd\, Elkton\, FL\, 32033\, United States
CATEGORIES:Players Groups,Skins Group
ATTACH;FMTTYPE=image/jpeg:https://sjgc.com/wp-content/uploads/2025/03/golfballs-600.jpg
END:VEVENT
BEGIN:VEVENT
DTSTART;TZID=America/New_York:20280819T070000
DTEND;TZID=America/New_York:20280819T074500
DTSTAMP:20260425T172119
CREATED:20250509T180230Z
LAST-MODIFIED:20250522T125432Z
UID:10007366-1850281200-1850283900@sjgc.com
SUMMARY:Skins Group
DESCRIPTION:Plays Thursdays and Saturdays year-round.
URL:https://sjgc.com/event/skins-group/2028-08-19/
LOCATION:St. Johns Golf Club\, 4900 Cypress Links Blvd\, Elkton\, FL\, 32033\, United States
CATEGORIES:Players Groups,Skins Group
ATTACH;FMTTYPE=image/jpeg:https://sjgc.com/wp-content/uploads/2025/03/golfballs-600.jpg
END:VEVENT
BEGIN:VEVENT
DTSTART;TZID=America/New_York:20280824T070000
DTEND;TZID=America/New_York:20280824T074500
DTSTAMP:20260425T172119
CREATED:20250509T180230Z
LAST-MODIFIED:20250522T125432Z
UID:10007367-1850713200-1850715900@sjgc.com
SUMMARY:Skins Group
DESCRIPTION:Plays Thursdays and Saturdays year-round.
URL:https://sjgc.com/event/skins-group/2028-08-24/
LOCATION:St. Johns Golf Club\, 4900 Cypress Links Blvd\, Elkton\, FL\, 32033\, United States
CATEGORIES:Players Groups,Skins Group
ATTACH;FMTTYPE=image/jpeg:https://sjgc.com/wp-content/uploads/2025/03/golfballs-600.jpg
END:VEVENT
BEGIN:VEVENT
DTSTART;TZID=America/New_York:20280826T070000
DTEND;TZID=America/New_York:20280826T074500
DTSTAMP:20260425T172119
CREATED:20250509T180230Z
LAST-MODIFIED:20250522T125432Z
UID:10007368-1850886000-1850888700@sjgc.com
SUMMARY:Skins Group
DESCRIPTION:Plays Thursdays and Saturdays year-round.
URL:https://sjgc.com/event/skins-group/2028-08-26/
LOCATION:St. Johns Golf Club\, 4900 Cypress Links Blvd\, Elkton\, FL\, 32033\, United States
CATEGORIES:Players Groups,Skins Group
ATTACH;FMTTYPE=image/jpeg:https://sjgc.com/wp-content/uploads/2025/03/golfballs-600.jpg
END:VEVENT
BEGIN:VEVENT
DTSTART;TZID=America/New_York:20280831T070000
DTEND;TZID=America/New_York:20280831T074500
DTSTAMP:20260425T172119
CREATED:20250509T180230Z
LAST-MODIFIED:20250522T125432Z
UID:10007369-1851318000-1851320700@sjgc.com
SUMMARY:Skins Group
DESCRIPTION:Plays Thursdays and Saturdays year-round.
URL:https://sjgc.com/event/skins-group/2028-08-31/
LOCATION:St. Johns Golf Club\, 4900 Cypress Links Blvd\, Elkton\, FL\, 32033\, United States
CATEGORIES:Players Groups,Skins Group
ATTACH;FMTTYPE=image/jpeg:https://sjgc.com/wp-content/uploads/2025/03/golfballs-600.jpg
END:VEVENT
BEGIN:VEVENT
DTSTART;TZID=America/New_York:20280902T070000
DTEND;TZID=America/New_York:20280902T074500
DTSTAMP:20260425T172119
CREATED:20250509T180230Z
LAST-MODIFIED:20250522T125432Z
UID:10007370-1851490800-1851493500@sjgc.com
SUMMARY:Skins Group
DESCRIPTION:Plays Thursdays and Saturdays year-round.
URL:https://sjgc.com/event/skins-group/2028-09-02/
LOCATION:St. Johns Golf Club\, 4900 Cypress Links Blvd\, Elkton\, FL\, 32033\, United States
CATEGORIES:Players Groups,Skins Group
ATTACH;FMTTYPE=image/jpeg:https://sjgc.com/wp-content/uploads/2025/03/golfballs-600.jpg
END:VEVENT
BEGIN:VEVENT
DTSTART;TZID=America/New_York:20280907T070000
DTEND;TZID=America/New_York:20280907T074500
DTSTAMP:20260425T172119
CREATED:20250509T180230Z
LAST-MODIFIED:20250522T125432Z
UID:10007371-1851922800-1851925500@sjgc.com
SUMMARY:Skins Group
DESCRIPTION:Plays Thursdays and Saturdays year-round.
URL:https://sjgc.com/event/skins-group/2028-09-07/
LOCATION:St. Johns Golf Club\, 4900 Cypress Links Blvd\, Elkton\, FL\, 32033\, United States
CATEGORIES:Players Groups,Skins Group
ATTACH;FMTTYPE=image/jpeg:https://sjgc.com/wp-content/uploads/2025/03/golfballs-600.jpg
END:VEVENT
BEGIN:VEVENT
DTSTART;TZID=America/New_York:20280909T070000
DTEND;TZID=America/New_York:20280909T074500
DTSTAMP:20260425T172119
CREATED:20250509T180230Z
LAST-MODIFIED:20250522T125432Z
UID:10007372-1852095600-1852098300@sjgc.com
SUMMARY:Skins Group
DESCRIPTION:Plays Thursdays and Saturdays year-round.
URL:https://sjgc.com/event/skins-group/2028-09-09/
LOCATION:St. Johns Golf Club\, 4900 Cypress Links Blvd\, Elkton\, FL\, 32033\, United States
CATEGORIES:Players Groups,Skins Group
ATTACH;FMTTYPE=image/jpeg:https://sjgc.com/wp-content/uploads/2025/03/golfballs-600.jpg
END:VEVENT
BEGIN:VEVENT
DTSTART;TZID=America/New_York:20280914T070000
DTEND;TZID=America/New_York:20280914T074500
DTSTAMP:20260425T172119
CREATED:20250509T180230Z
LAST-MODIFIED:20250522T125432Z
UID:10007373-1852527600-1852530300@sjgc.com
SUMMARY:Skins Group
DESCRIPTION:Plays Thursdays and Saturdays year-round.
URL:https://sjgc.com/event/skins-group/2028-09-14/
LOCATION:St. Johns Golf Club\, 4900 Cypress Links Blvd\, Elkton\, FL\, 32033\, United States
CATEGORIES:Players Groups,Skins Group
ATTACH;FMTTYPE=image/jpeg:https://sjgc.com/wp-content/uploads/2025/03/golfballs-600.jpg
END:VEVENT
BEGIN:VEVENT
DTSTART;TZID=America/New_York:20280916T070000
DTEND;TZID=America/New_York:20280916T074500
DTSTAMP:20260425T172119
CREATED:20250509T180230Z
LAST-MODIFIED:20250522T125432Z
UID:10007374-1852700400-1852703100@sjgc.com
SUMMARY:Skins Group
DESCRIPTION:Plays Thursdays and Saturdays year-round.
URL:https://sjgc.com/event/skins-group/2028-09-16/
LOCATION:St. Johns Golf Club\, 4900 Cypress Links Blvd\, Elkton\, FL\, 32033\, United States
CATEGORIES:Players Groups,Skins Group
ATTACH;FMTTYPE=image/jpeg:https://sjgc.com/wp-content/uploads/2025/03/golfballs-600.jpg
END:VEVENT
END:VCALENDAR