BEGIN:VCALENDAR
VERSION:2.0
PRODID:-//St Johns Golf Course - ECPv6.13.2.1//NONSGML v1.0//EN
CALSCALE:GREGORIAN
METHOD:PUBLISH
X-WR-CALNAME:St Johns Golf Course
X-ORIGINAL-URL:https://sjgc.com
X-WR-CALDESC:Events for St Johns Golf Course
REFRESH-INTERVAL;VALUE=DURATION:PT1H
X-Robots-Tag:noindex
X-PUBLISHED-TTL:PT1H
BEGIN:VTIMEZONE
TZID:America/New_York
BEGIN:DAYLIGHT
TZOFFSETFROM:-0500
TZOFFSETTO:-0400
TZNAME:EDT
DTSTART:20280312T070000
END:DAYLIGHT
BEGIN:STANDARD
TZOFFSETFROM:-0400
TZOFFSETTO:-0500
TZNAME:EST
DTSTART:20281105T060000
END:STANDARD
END:VTIMEZONE
BEGIN:VEVENT
DTSTART;TZID=America/New_York:20280817T070000
DTEND;TZID=America/New_York:20280817T074500
DTSTAMP:20260425T185100
CREATED:20250509T180230Z
LAST-MODIFIED:20250522T125432Z
UID:10007365-1850108400-1850111100@sjgc.com
SUMMARY:Skins Group
DESCRIPTION:Plays Thursdays and Saturdays year-round.
URL:https://sjgc.com/event/skins-group/2028-08-17/
LOCATION:St. Johns Golf Club\, 4900 Cypress Links Blvd\, Elkton\, FL\, 32033\, United States
CATEGORIES:Players Groups,Skins Group
ATTACH;FMTTYPE=image/jpeg:https://sjgc.com/wp-content/uploads/2025/03/golfballs-600.jpg
END:VEVENT
BEGIN:VEVENT
DTSTART;TZID=America/New_York:20280819T070000
DTEND;TZID=America/New_York:20280819T074500
DTSTAMP:20260425T185100
CREATED:20250509T180230Z
LAST-MODIFIED:20250522T125432Z
UID:10007366-1850281200-1850283900@sjgc.com
SUMMARY:Skins Group
DESCRIPTION:Plays Thursdays and Saturdays year-round.
URL:https://sjgc.com/event/skins-group/2028-08-19/
LOCATION:St. Johns Golf Club\, 4900 Cypress Links Blvd\, Elkton\, FL\, 32033\, United States
CATEGORIES:Players Groups,Skins Group
ATTACH;FMTTYPE=image/jpeg:https://sjgc.com/wp-content/uploads/2025/03/golfballs-600.jpg
END:VEVENT
BEGIN:VEVENT
DTSTART;TZID=America/New_York:20280824T070000
DTEND;TZID=America/New_York:20280824T074500
DTSTAMP:20260425T185100
CREATED:20250509T180230Z
LAST-MODIFIED:20250522T125432Z
UID:10007367-1850713200-1850715900@sjgc.com
SUMMARY:Skins Group
DESCRIPTION:Plays Thursdays and Saturdays year-round.
URL:https://sjgc.com/event/skins-group/2028-08-24/
LOCATION:St. Johns Golf Club\, 4900 Cypress Links Blvd\, Elkton\, FL\, 32033\, United States
CATEGORIES:Players Groups,Skins Group
ATTACH;FMTTYPE=image/jpeg:https://sjgc.com/wp-content/uploads/2025/03/golfballs-600.jpg
END:VEVENT
BEGIN:VEVENT
DTSTART;TZID=America/New_York:20280826T070000
DTEND;TZID=America/New_York:20280826T074500
DTSTAMP:20260425T185100
CREATED:20250509T180230Z
LAST-MODIFIED:20250522T125432Z
UID:10007368-1850886000-1850888700@sjgc.com
SUMMARY:Skins Group
DESCRIPTION:Plays Thursdays and Saturdays year-round.
URL:https://sjgc.com/event/skins-group/2028-08-26/
LOCATION:St. Johns Golf Club\, 4900 Cypress Links Blvd\, Elkton\, FL\, 32033\, United States
CATEGORIES:Players Groups,Skins Group
ATTACH;FMTTYPE=image/jpeg:https://sjgc.com/wp-content/uploads/2025/03/golfballs-600.jpg
END:VEVENT
BEGIN:VEVENT
DTSTART;TZID=America/New_York:20280831T070000
DTEND;TZID=America/New_York:20280831T074500
DTSTAMP:20260425T185100
CREATED:20250509T180230Z
LAST-MODIFIED:20250522T125432Z
UID:10007369-1851318000-1851320700@sjgc.com
SUMMARY:Skins Group
DESCRIPTION:Plays Thursdays and Saturdays year-round.
URL:https://sjgc.com/event/skins-group/2028-08-31/
LOCATION:St. Johns Golf Club\, 4900 Cypress Links Blvd\, Elkton\, FL\, 32033\, United States
CATEGORIES:Players Groups,Skins Group
ATTACH;FMTTYPE=image/jpeg:https://sjgc.com/wp-content/uploads/2025/03/golfballs-600.jpg
END:VEVENT
BEGIN:VEVENT
DTSTART;TZID=America/New_York:20280902T070000
DTEND;TZID=America/New_York:20280902T074500
DTSTAMP:20260425T185100
CREATED:20250509T180230Z
LAST-MODIFIED:20250522T125432Z
UID:10007370-1851490800-1851493500@sjgc.com
SUMMARY:Skins Group
DESCRIPTION:Plays Thursdays and Saturdays year-round.
URL:https://sjgc.com/event/skins-group/2028-09-02/
LOCATION:St. Johns Golf Club\, 4900 Cypress Links Blvd\, Elkton\, FL\, 32033\, United States
CATEGORIES:Players Groups,Skins Group
ATTACH;FMTTYPE=image/jpeg:https://sjgc.com/wp-content/uploads/2025/03/golfballs-600.jpg
END:VEVENT
BEGIN:VEVENT
DTSTART;TZID=America/New_York:20280907T070000
DTEND;TZID=America/New_York:20280907T074500
DTSTAMP:20260425T185100
CREATED:20250509T180230Z
LAST-MODIFIED:20250522T125432Z
UID:10007371-1851922800-1851925500@sjgc.com
SUMMARY:Skins Group
DESCRIPTION:Plays Thursdays and Saturdays year-round.
URL:https://sjgc.com/event/skins-group/2028-09-07/
LOCATION:St. Johns Golf Club\, 4900 Cypress Links Blvd\, Elkton\, FL\, 32033\, United States
CATEGORIES:Players Groups,Skins Group
ATTACH;FMTTYPE=image/jpeg:https://sjgc.com/wp-content/uploads/2025/03/golfballs-600.jpg
END:VEVENT
BEGIN:VEVENT
DTSTART;TZID=America/New_York:20280909T070000
DTEND;TZID=America/New_York:20280909T074500
DTSTAMP:20260425T185100
CREATED:20250509T180230Z
LAST-MODIFIED:20250522T125432Z
UID:10007372-1852095600-1852098300@sjgc.com
SUMMARY:Skins Group
DESCRIPTION:Plays Thursdays and Saturdays year-round.
URL:https://sjgc.com/event/skins-group/2028-09-09/
LOCATION:St. Johns Golf Club\, 4900 Cypress Links Blvd\, Elkton\, FL\, 32033\, United States
CATEGORIES:Players Groups,Skins Group
ATTACH;FMTTYPE=image/jpeg:https://sjgc.com/wp-content/uploads/2025/03/golfballs-600.jpg
END:VEVENT
BEGIN:VEVENT
DTSTART;TZID=America/New_York:20280914T070000
DTEND;TZID=America/New_York:20280914T074500
DTSTAMP:20260425T185100
CREATED:20250509T180230Z
LAST-MODIFIED:20250522T125432Z
UID:10007373-1852527600-1852530300@sjgc.com
SUMMARY:Skins Group
DESCRIPTION:Plays Thursdays and Saturdays year-round.
URL:https://sjgc.com/event/skins-group/2028-09-14/
LOCATION:St. Johns Golf Club\, 4900 Cypress Links Blvd\, Elkton\, FL\, 32033\, United States
CATEGORIES:Players Groups,Skins Group
ATTACH;FMTTYPE=image/jpeg:https://sjgc.com/wp-content/uploads/2025/03/golfballs-600.jpg
END:VEVENT
BEGIN:VEVENT
DTSTART;TZID=America/New_York:20280916T070000
DTEND;TZID=America/New_York:20280916T074500
DTSTAMP:20260425T185100
CREATED:20250509T180230Z
LAST-MODIFIED:20250522T125432Z
UID:10007374-1852700400-1852703100@sjgc.com
SUMMARY:Skins Group
DESCRIPTION:Plays Thursdays and Saturdays year-round.
URL:https://sjgc.com/event/skins-group/2028-09-16/
LOCATION:St. Johns Golf Club\, 4900 Cypress Links Blvd\, Elkton\, FL\, 32033\, United States
CATEGORIES:Players Groups,Skins Group
ATTACH;FMTTYPE=image/jpeg:https://sjgc.com/wp-content/uploads/2025/03/golfballs-600.jpg
END:VEVENT
BEGIN:VEVENT
DTSTART;TZID=America/New_York:20280921T070000
DTEND;TZID=America/New_York:20280921T074500
DTSTAMP:20260425T185100
CREATED:20250509T180230Z
LAST-MODIFIED:20250522T125432Z
UID:10007375-1853132400-1853135100@sjgc.com
SUMMARY:Skins Group
DESCRIPTION:Plays Thursdays and Saturdays year-round.
URL:https://sjgc.com/event/skins-group/2028-09-21/
LOCATION:St. Johns Golf Club\, 4900 Cypress Links Blvd\, Elkton\, FL\, 32033\, United States
CATEGORIES:Players Groups,Skins Group
ATTACH;FMTTYPE=image/jpeg:https://sjgc.com/wp-content/uploads/2025/03/golfballs-600.jpg
END:VEVENT
BEGIN:VEVENT
DTSTART;TZID=America/New_York:20280923T070000
DTEND;TZID=America/New_York:20280923T074500
DTSTAMP:20260425T185100
CREATED:20250509T180230Z
LAST-MODIFIED:20250522T125432Z
UID:10007376-1853305200-1853307900@sjgc.com
SUMMARY:Skins Group
DESCRIPTION:Plays Thursdays and Saturdays year-round.
URL:https://sjgc.com/event/skins-group/2028-09-23/
LOCATION:St. Johns Golf Club\, 4900 Cypress Links Blvd\, Elkton\, FL\, 32033\, United States
CATEGORIES:Players Groups,Skins Group
ATTACH;FMTTYPE=image/jpeg:https://sjgc.com/wp-content/uploads/2025/03/golfballs-600.jpg
END:VEVENT
BEGIN:VEVENT
DTSTART;TZID=America/New_York:20280928T070000
DTEND;TZID=America/New_York:20280928T074500
DTSTAMP:20260425T185100
CREATED:20250509T180230Z
LAST-MODIFIED:20250522T125432Z
UID:10007377-1853737200-1853739900@sjgc.com
SUMMARY:Skins Group
DESCRIPTION:Plays Thursdays and Saturdays year-round.
URL:https://sjgc.com/event/skins-group/2028-09-28/
LOCATION:St. Johns Golf Club\, 4900 Cypress Links Blvd\, Elkton\, FL\, 32033\, United States
CATEGORIES:Players Groups,Skins Group
ATTACH;FMTTYPE=image/jpeg:https://sjgc.com/wp-content/uploads/2025/03/golfballs-600.jpg
END:VEVENT
BEGIN:VEVENT
DTSTART;TZID=America/New_York:20280930T070000
DTEND;TZID=America/New_York:20280930T074500
DTSTAMP:20260425T185100
CREATED:20250509T180230Z
LAST-MODIFIED:20250522T125432Z
UID:10007378-1853910000-1853912700@sjgc.com
SUMMARY:Skins Group
DESCRIPTION:Plays Thursdays and Saturdays year-round.
URL:https://sjgc.com/event/skins-group/2028-09-30/
LOCATION:St. Johns Golf Club\, 4900 Cypress Links Blvd\, Elkton\, FL\, 32033\, United States
CATEGORIES:Players Groups,Skins Group
ATTACH;FMTTYPE=image/jpeg:https://sjgc.com/wp-content/uploads/2025/03/golfballs-600.jpg
END:VEVENT
BEGIN:VEVENT
DTSTART;TZID=America/New_York:20281005T070000
DTEND;TZID=America/New_York:20281005T074500
DTSTAMP:20260425T185100
CREATED:20250509T180230Z
LAST-MODIFIED:20250522T125432Z
UID:10007379-1854342000-1854344700@sjgc.com
SUMMARY:Skins Group
DESCRIPTION:Plays Thursdays and Saturdays year-round.
URL:https://sjgc.com/event/skins-group/2028-10-05/
LOCATION:St. Johns Golf Club\, 4900 Cypress Links Blvd\, Elkton\, FL\, 32033\, United States
CATEGORIES:Players Groups,Skins Group
ATTACH;FMTTYPE=image/jpeg:https://sjgc.com/wp-content/uploads/2025/03/golfballs-600.jpg
END:VEVENT
BEGIN:VEVENT
DTSTART;TZID=America/New_York:20281007T070000
DTEND;TZID=America/New_York:20281007T074500
DTSTAMP:20260425T185100
CREATED:20250509T180230Z
LAST-MODIFIED:20250522T125432Z
UID:10007380-1854514800-1854517500@sjgc.com
SUMMARY:Skins Group
DESCRIPTION:Plays Thursdays and Saturdays year-round.
URL:https://sjgc.com/event/skins-group/2028-10-07/
LOCATION:St. Johns Golf Club\, 4900 Cypress Links Blvd\, Elkton\, FL\, 32033\, United States
CATEGORIES:Players Groups,Skins Group
ATTACH;FMTTYPE=image/jpeg:https://sjgc.com/wp-content/uploads/2025/03/golfballs-600.jpg
END:VEVENT
BEGIN:VEVENT
DTSTART;TZID=America/New_York:20281012T070000
DTEND;TZID=America/New_York:20281012T074500
DTSTAMP:20260425T185100
CREATED:20250509T180230Z
LAST-MODIFIED:20250522T125432Z
UID:10007381-1854946800-1854949500@sjgc.com
SUMMARY:Skins Group
DESCRIPTION:Plays Thursdays and Saturdays year-round.
URL:https://sjgc.com/event/skins-group/2028-10-12/
LOCATION:St. Johns Golf Club\, 4900 Cypress Links Blvd\, Elkton\, FL\, 32033\, United States
CATEGORIES:Players Groups,Skins Group
ATTACH;FMTTYPE=image/jpeg:https://sjgc.com/wp-content/uploads/2025/03/golfballs-600.jpg
END:VEVENT
BEGIN:VEVENT
DTSTART;TZID=America/New_York:20281014T070000
DTEND;TZID=America/New_York:20281014T074500
DTSTAMP:20260425T185100
CREATED:20250509T180230Z
LAST-MODIFIED:20250522T125432Z
UID:10007382-1855119600-1855122300@sjgc.com
SUMMARY:Skins Group
DESCRIPTION:Plays Thursdays and Saturdays year-round.
URL:https://sjgc.com/event/skins-group/2028-10-14/
LOCATION:St. Johns Golf Club\, 4900 Cypress Links Blvd\, Elkton\, FL\, 32033\, United States
CATEGORIES:Players Groups,Skins Group
ATTACH;FMTTYPE=image/jpeg:https://sjgc.com/wp-content/uploads/2025/03/golfballs-600.jpg
END:VEVENT
BEGIN:VEVENT
DTSTART;TZID=America/New_York:20281019T070000
DTEND;TZID=America/New_York:20281019T074500
DTSTAMP:20260425T185100
CREATED:20250509T180230Z
LAST-MODIFIED:20250522T125432Z
UID:10007383-1855551600-1855554300@sjgc.com
SUMMARY:Skins Group
DESCRIPTION:Plays Thursdays and Saturdays year-round.
URL:https://sjgc.com/event/skins-group/2028-10-19/
LOCATION:St. Johns Golf Club\, 4900 Cypress Links Blvd\, Elkton\, FL\, 32033\, United States
CATEGORIES:Players Groups,Skins Group
ATTACH;FMTTYPE=image/jpeg:https://sjgc.com/wp-content/uploads/2025/03/golfballs-600.jpg
END:VEVENT
BEGIN:VEVENT
DTSTART;TZID=America/New_York:20281021T070000
DTEND;TZID=America/New_York:20281021T074500
DTSTAMP:20260425T185100
CREATED:20250509T180230Z
LAST-MODIFIED:20250522T125432Z
UID:10007384-1855724400-1855727100@sjgc.com
SUMMARY:Skins Group
DESCRIPTION:Plays Thursdays and Saturdays year-round.
URL:https://sjgc.com/event/skins-group/2028-10-21/
LOCATION:St. Johns Golf Club\, 4900 Cypress Links Blvd\, Elkton\, FL\, 32033\, United States
CATEGORIES:Players Groups,Skins Group
ATTACH;FMTTYPE=image/jpeg:https://sjgc.com/wp-content/uploads/2025/03/golfballs-600.jpg
END:VEVENT
BEGIN:VEVENT
DTSTART;TZID=America/New_York:20281026T070000
DTEND;TZID=America/New_York:20281026T074500
DTSTAMP:20260425T185100
CREATED:20250509T180230Z
LAST-MODIFIED:20250522T125432Z
UID:10007385-1856156400-1856159100@sjgc.com
SUMMARY:Skins Group
DESCRIPTION:Plays Thursdays and Saturdays year-round.
URL:https://sjgc.com/event/skins-group/2028-10-26/
LOCATION:St. Johns Golf Club\, 4900 Cypress Links Blvd\, Elkton\, FL\, 32033\, United States
CATEGORIES:Players Groups,Skins Group
ATTACH;FMTTYPE=image/jpeg:https://sjgc.com/wp-content/uploads/2025/03/golfballs-600.jpg
END:VEVENT
BEGIN:VEVENT
DTSTART;TZID=America/New_York:20281028T070000
DTEND;TZID=America/New_York:20281028T074500
DTSTAMP:20260425T185100
CREATED:20250509T180230Z
LAST-MODIFIED:20250522T125432Z
UID:10007386-1856329200-1856331900@sjgc.com
SUMMARY:Skins Group
DESCRIPTION:Plays Thursdays and Saturdays year-round.
URL:https://sjgc.com/event/skins-group/2028-10-28/
LOCATION:St. Johns Golf Club\, 4900 Cypress Links Blvd\, Elkton\, FL\, 32033\, United States
CATEGORIES:Players Groups,Skins Group
ATTACH;FMTTYPE=image/jpeg:https://sjgc.com/wp-content/uploads/2025/03/golfballs-600.jpg
END:VEVENT
BEGIN:VEVENT
DTSTART;TZID=America/New_York:20281102T070000
DTEND;TZID=America/New_York:20281102T074500
DTSTAMP:20260425T185100
CREATED:20250509T180230Z
LAST-MODIFIED:20250522T125432Z
UID:10007387-1856761200-1856763900@sjgc.com
SUMMARY:Skins Group
DESCRIPTION:Plays Thursdays and Saturdays year-round.
URL:https://sjgc.com/event/skins-group/2028-11-02/
LOCATION:St. Johns Golf Club\, 4900 Cypress Links Blvd\, Elkton\, FL\, 32033\, United States
CATEGORIES:Players Groups,Skins Group
ATTACH;FMTTYPE=image/jpeg:https://sjgc.com/wp-content/uploads/2025/03/golfballs-600.jpg
END:VEVENT
BEGIN:VEVENT
DTSTART;TZID=America/New_York:20281104T070000
DTEND;TZID=America/New_York:20281104T074500
DTSTAMP:20260425T185100
CREATED:20250509T180230Z
LAST-MODIFIED:20250522T125432Z
UID:10007388-1856934000-1856936700@sjgc.com
SUMMARY:Skins Group
DESCRIPTION:Plays Thursdays and Saturdays year-round.
URL:https://sjgc.com/event/skins-group/2028-11-04/
LOCATION:St. Johns Golf Club\, 4900 Cypress Links Blvd\, Elkton\, FL\, 32033\, United States
CATEGORIES:Players Groups,Skins Group
ATTACH;FMTTYPE=image/jpeg:https://sjgc.com/wp-content/uploads/2025/03/golfballs-600.jpg
END:VEVENT
BEGIN:VEVENT
DTSTART;TZID=America/New_York:20281109T070000
DTEND;TZID=America/New_York:20281109T074500
DTSTAMP:20260425T185100
CREATED:20250509T180230Z
LAST-MODIFIED:20250522T125432Z
UID:10007389-1857366000-1857368700@sjgc.com
SUMMARY:Skins Group
DESCRIPTION:Plays Thursdays and Saturdays year-round.
URL:https://sjgc.com/event/skins-group/2028-11-09/
LOCATION:St. Johns Golf Club\, 4900 Cypress Links Blvd\, Elkton\, FL\, 32033\, United States
CATEGORIES:Players Groups,Skins Group
ATTACH;FMTTYPE=image/jpeg:https://sjgc.com/wp-content/uploads/2025/03/golfballs-600.jpg
END:VEVENT
BEGIN:VEVENT
DTSTART;TZID=America/New_York:20281111T070000
DTEND;TZID=America/New_York:20281111T074500
DTSTAMP:20260425T185100
CREATED:20250509T180230Z
LAST-MODIFIED:20250522T125432Z
UID:10007390-1857538800-1857541500@sjgc.com
SUMMARY:Skins Group
DESCRIPTION:Plays Thursdays and Saturdays year-round.
URL:https://sjgc.com/event/skins-group/2028-11-11/
LOCATION:St. Johns Golf Club\, 4900 Cypress Links Blvd\, Elkton\, FL\, 32033\, United States
CATEGORIES:Players Groups,Skins Group
ATTACH;FMTTYPE=image/jpeg:https://sjgc.com/wp-content/uploads/2025/03/golfballs-600.jpg
END:VEVENT
BEGIN:VEVENT
DTSTART;TZID=America/New_York:20281116T070000
DTEND;TZID=America/New_York:20281116T074500
DTSTAMP:20260425T185100
CREATED:20250509T180230Z
LAST-MODIFIED:20250522T125432Z
UID:10007391-1857970800-1857973500@sjgc.com
SUMMARY:Skins Group
DESCRIPTION:Plays Thursdays and Saturdays year-round.
URL:https://sjgc.com/event/skins-group/2028-11-16/
LOCATION:St. Johns Golf Club\, 4900 Cypress Links Blvd\, Elkton\, FL\, 32033\, United States
CATEGORIES:Players Groups,Skins Group
ATTACH;FMTTYPE=image/jpeg:https://sjgc.com/wp-content/uploads/2025/03/golfballs-600.jpg
END:VEVENT
BEGIN:VEVENT
DTSTART;TZID=America/New_York:20281118T070000
DTEND;TZID=America/New_York:20281118T074500
DTSTAMP:20260425T185100
CREATED:20250509T180230Z
LAST-MODIFIED:20250522T125432Z
UID:10007392-1858143600-1858146300@sjgc.com
SUMMARY:Skins Group
DESCRIPTION:Plays Thursdays and Saturdays year-round.
URL:https://sjgc.com/event/skins-group/2028-11-18/
LOCATION:St. Johns Golf Club\, 4900 Cypress Links Blvd\, Elkton\, FL\, 32033\, United States
CATEGORIES:Players Groups,Skins Group
ATTACH;FMTTYPE=image/jpeg:https://sjgc.com/wp-content/uploads/2025/03/golfballs-600.jpg
END:VEVENT
BEGIN:VEVENT
DTSTART;TZID=America/New_York:20281123T070000
DTEND;TZID=America/New_York:20281123T074500
DTSTAMP:20260425T185100
CREATED:20250509T180230Z
LAST-MODIFIED:20250522T125432Z
UID:10007393-1858575600-1858578300@sjgc.com
SUMMARY:Skins Group
DESCRIPTION:Plays Thursdays and Saturdays year-round.
URL:https://sjgc.com/event/skins-group/2028-11-23/
LOCATION:St. Johns Golf Club\, 4900 Cypress Links Blvd\, Elkton\, FL\, 32033\, United States
CATEGORIES:Players Groups,Skins Group
ATTACH;FMTTYPE=image/jpeg:https://sjgc.com/wp-content/uploads/2025/03/golfballs-600.jpg
END:VEVENT
BEGIN:VEVENT
DTSTART;TZID=America/New_York:20281125T070000
DTEND;TZID=America/New_York:20281125T074500
DTSTAMP:20260425T185100
CREATED:20250509T180230Z
LAST-MODIFIED:20250522T125432Z
UID:10007394-1858748400-1858751100@sjgc.com
SUMMARY:Skins Group
DESCRIPTION:Plays Thursdays and Saturdays year-round.
URL:https://sjgc.com/event/skins-group/2028-11-25/
LOCATION:St. Johns Golf Club\, 4900 Cypress Links Blvd\, Elkton\, FL\, 32033\, United States
CATEGORIES:Players Groups,Skins Group
ATTACH;FMTTYPE=image/jpeg:https://sjgc.com/wp-content/uploads/2025/03/golfballs-600.jpg
END:VEVENT
END:VCALENDAR