BEGIN:VCALENDAR
VERSION:2.0
PRODID:-//St Johns Golf Course - ECPv6.13.2.1//NONSGML v1.0//EN
CALSCALE:GREGORIAN
METHOD:PUBLISH
X-WR-CALNAME:St Johns Golf Course
X-ORIGINAL-URL:https://sjgc.com
X-WR-CALDESC:Events for St Johns Golf Course
REFRESH-INTERVAL;VALUE=DURATION:PT1H
X-Robots-Tag:noindex
X-PUBLISHED-TTL:PT1H
BEGIN:VTIMEZONE
TZID:America/New_York
BEGIN:DAYLIGHT
TZOFFSETFROM:-0500
TZOFFSETTO:-0400
TZNAME:EDT
DTSTART:20280312T070000
END:DAYLIGHT
BEGIN:STANDARD
TZOFFSETFROM:-0400
TZOFFSETTO:-0500
TZNAME:EST
DTSTART:20281105T060000
END:STANDARD
BEGIN:DAYLIGHT
TZOFFSETFROM:-0500
TZOFFSETTO:-0400
TZNAME:EDT
DTSTART:20290311T070000
END:DAYLIGHT
BEGIN:STANDARD
TZOFFSETFROM:-0400
TZOFFSETTO:-0500
TZNAME:EST
DTSTART:20291104T060000
END:STANDARD
END:VTIMEZONE
BEGIN:VEVENT
DTSTART;TZID=America/New_York:20281130T070000
DTEND;TZID=America/New_York:20281130T074500
DTSTAMP:20260425T235032
CREATED:20250509T180230Z
LAST-MODIFIED:20250522T125432Z
UID:10007395-1859180400-1859183100@sjgc.com
SUMMARY:Skins Group
DESCRIPTION:Plays Thursdays and Saturdays year-round.
URL:https://sjgc.com/event/skins-group/2028-11-30/
LOCATION:St. Johns Golf Club\, 4900 Cypress Links Blvd\, Elkton\, FL\, 32033\, United States
CATEGORIES:Players Groups,Skins Group
ATTACH;FMTTYPE=image/jpeg:https://sjgc.com/wp-content/uploads/2025/03/golfballs-600.jpg
END:VEVENT
BEGIN:VEVENT
DTSTART;TZID=America/New_York:20281202T070000
DTEND;TZID=America/New_York:20281202T074500
DTSTAMP:20260425T235032
CREATED:20250509T180230Z
LAST-MODIFIED:20250522T125432Z
UID:10007396-1859353200-1859355900@sjgc.com
SUMMARY:Skins Group
DESCRIPTION:Plays Thursdays and Saturdays year-round.
URL:https://sjgc.com/event/skins-group/2028-12-02/
LOCATION:St. Johns Golf Club\, 4900 Cypress Links Blvd\, Elkton\, FL\, 32033\, United States
CATEGORIES:Players Groups,Skins Group
ATTACH;FMTTYPE=image/jpeg:https://sjgc.com/wp-content/uploads/2025/03/golfballs-600.jpg
END:VEVENT
BEGIN:VEVENT
DTSTART;TZID=America/New_York:20281207T070000
DTEND;TZID=America/New_York:20281207T074500
DTSTAMP:20260425T235032
CREATED:20250509T180230Z
LAST-MODIFIED:20250522T125432Z
UID:10007397-1859785200-1859787900@sjgc.com
SUMMARY:Skins Group
DESCRIPTION:Plays Thursdays and Saturdays year-round.
URL:https://sjgc.com/event/skins-group/2028-12-07/
LOCATION:St. Johns Golf Club\, 4900 Cypress Links Blvd\, Elkton\, FL\, 32033\, United States
CATEGORIES:Players Groups,Skins Group
ATTACH;FMTTYPE=image/jpeg:https://sjgc.com/wp-content/uploads/2025/03/golfballs-600.jpg
END:VEVENT
BEGIN:VEVENT
DTSTART;TZID=America/New_York:20281209T070000
DTEND;TZID=America/New_York:20281209T074500
DTSTAMP:20260425T235032
CREATED:20250509T180230Z
LAST-MODIFIED:20250522T125432Z
UID:10007398-1859958000-1859960700@sjgc.com
SUMMARY:Skins Group
DESCRIPTION:Plays Thursdays and Saturdays year-round.
URL:https://sjgc.com/event/skins-group/2028-12-09/
LOCATION:St. Johns Golf Club\, 4900 Cypress Links Blvd\, Elkton\, FL\, 32033\, United States
CATEGORIES:Players Groups,Skins Group
ATTACH;FMTTYPE=image/jpeg:https://sjgc.com/wp-content/uploads/2025/03/golfballs-600.jpg
END:VEVENT
BEGIN:VEVENT
DTSTART;TZID=America/New_York:20281214T070000
DTEND;TZID=America/New_York:20281214T074500
DTSTAMP:20260425T235032
CREATED:20250509T180230Z
LAST-MODIFIED:20250522T125432Z
UID:10007399-1860390000-1860392700@sjgc.com
SUMMARY:Skins Group
DESCRIPTION:Plays Thursdays and Saturdays year-round.
URL:https://sjgc.com/event/skins-group/2028-12-14/
LOCATION:St. Johns Golf Club\, 4900 Cypress Links Blvd\, Elkton\, FL\, 32033\, United States
CATEGORIES:Players Groups,Skins Group
ATTACH;FMTTYPE=image/jpeg:https://sjgc.com/wp-content/uploads/2025/03/golfballs-600.jpg
END:VEVENT
BEGIN:VEVENT
DTSTART;TZID=America/New_York:20281216T070000
DTEND;TZID=America/New_York:20281216T074500
DTSTAMP:20260425T235032
CREATED:20250509T180230Z
LAST-MODIFIED:20250522T125432Z
UID:10007400-1860562800-1860565500@sjgc.com
SUMMARY:Skins Group
DESCRIPTION:Plays Thursdays and Saturdays year-round.
URL:https://sjgc.com/event/skins-group/2028-12-16/
LOCATION:St. Johns Golf Club\, 4900 Cypress Links Blvd\, Elkton\, FL\, 32033\, United States
CATEGORIES:Players Groups,Skins Group
ATTACH;FMTTYPE=image/jpeg:https://sjgc.com/wp-content/uploads/2025/03/golfballs-600.jpg
END:VEVENT
BEGIN:VEVENT
DTSTART;TZID=America/New_York:20281221T070000
DTEND;TZID=America/New_York:20281221T074500
DTSTAMP:20260425T235032
CREATED:20250509T180230Z
LAST-MODIFIED:20250522T125432Z
UID:10007401-1860994800-1860997500@sjgc.com
SUMMARY:Skins Group
DESCRIPTION:Plays Thursdays and Saturdays year-round.
URL:https://sjgc.com/event/skins-group/2028-12-21/
LOCATION:St. Johns Golf Club\, 4900 Cypress Links Blvd\, Elkton\, FL\, 32033\, United States
CATEGORIES:Players Groups,Skins Group
ATTACH;FMTTYPE=image/jpeg:https://sjgc.com/wp-content/uploads/2025/03/golfballs-600.jpg
END:VEVENT
BEGIN:VEVENT
DTSTART;TZID=America/New_York:20281223T070000
DTEND;TZID=America/New_York:20281223T074500
DTSTAMP:20260425T235032
CREATED:20250509T180230Z
LAST-MODIFIED:20250522T125432Z
UID:10007402-1861167600-1861170300@sjgc.com
SUMMARY:Skins Group
DESCRIPTION:Plays Thursdays and Saturdays year-round.
URL:https://sjgc.com/event/skins-group/2028-12-23/
LOCATION:St. Johns Golf Club\, 4900 Cypress Links Blvd\, Elkton\, FL\, 32033\, United States
CATEGORIES:Players Groups,Skins Group
ATTACH;FMTTYPE=image/jpeg:https://sjgc.com/wp-content/uploads/2025/03/golfballs-600.jpg
END:VEVENT
BEGIN:VEVENT
DTSTART;TZID=America/New_York:20281228T070000
DTEND;TZID=America/New_York:20281228T074500
DTSTAMP:20260425T235032
CREATED:20250509T180230Z
LAST-MODIFIED:20250522T125432Z
UID:10007403-1861599600-1861602300@sjgc.com
SUMMARY:Skins Group
DESCRIPTION:Plays Thursdays and Saturdays year-round.
URL:https://sjgc.com/event/skins-group/2028-12-28/
LOCATION:St. Johns Golf Club\, 4900 Cypress Links Blvd\, Elkton\, FL\, 32033\, United States
CATEGORIES:Players Groups,Skins Group
ATTACH;FMTTYPE=image/jpeg:https://sjgc.com/wp-content/uploads/2025/03/golfballs-600.jpg
END:VEVENT
BEGIN:VEVENT
DTSTART;TZID=America/New_York:20281230T070000
DTEND;TZID=America/New_York:20281230T074500
DTSTAMP:20260425T235032
CREATED:20250509T180230Z
LAST-MODIFIED:20250522T125432Z
UID:10007404-1861772400-1861775100@sjgc.com
SUMMARY:Skins Group
DESCRIPTION:Plays Thursdays and Saturdays year-round.
URL:https://sjgc.com/event/skins-group/2028-12-30/
LOCATION:St. Johns Golf Club\, 4900 Cypress Links Blvd\, Elkton\, FL\, 32033\, United States
CATEGORIES:Players Groups,Skins Group
ATTACH;FMTTYPE=image/jpeg:https://sjgc.com/wp-content/uploads/2025/03/golfballs-600.jpg
END:VEVENT
BEGIN:VEVENT
DTSTART;TZID=America/New_York:20290104T070000
DTEND;TZID=America/New_York:20290104T074500
DTSTAMP:20260425T235032
CREATED:20250509T180230Z
LAST-MODIFIED:20250522T125432Z
UID:10007405-1862204400-1862207100@sjgc.com
SUMMARY:Skins Group
DESCRIPTION:Plays Thursdays and Saturdays year-round.
URL:https://sjgc.com/event/skins-group/2029-01-04/
LOCATION:St. Johns Golf Club\, 4900 Cypress Links Blvd\, Elkton\, FL\, 32033\, United States
CATEGORIES:Players Groups,Skins Group
ATTACH;FMTTYPE=image/jpeg:https://sjgc.com/wp-content/uploads/2025/03/golfballs-600.jpg
END:VEVENT
BEGIN:VEVENT
DTSTART;TZID=America/New_York:20290106T070000
DTEND;TZID=America/New_York:20290106T074500
DTSTAMP:20260425T235032
CREATED:20250509T180230Z
LAST-MODIFIED:20250522T125432Z
UID:10007406-1862377200-1862379900@sjgc.com
SUMMARY:Skins Group
DESCRIPTION:Plays Thursdays and Saturdays year-round.
URL:https://sjgc.com/event/skins-group/2029-01-06/
LOCATION:St. Johns Golf Club\, 4900 Cypress Links Blvd\, Elkton\, FL\, 32033\, United States
CATEGORIES:Players Groups,Skins Group
ATTACH;FMTTYPE=image/jpeg:https://sjgc.com/wp-content/uploads/2025/03/golfballs-600.jpg
END:VEVENT
BEGIN:VEVENT
DTSTART;TZID=America/New_York:20290111T070000
DTEND;TZID=America/New_York:20290111T074500
DTSTAMP:20260425T235032
CREATED:20250509T180230Z
LAST-MODIFIED:20250522T125432Z
UID:10007407-1862809200-1862811900@sjgc.com
SUMMARY:Skins Group
DESCRIPTION:Plays Thursdays and Saturdays year-round.
URL:https://sjgc.com/event/skins-group/2029-01-11/
LOCATION:St. Johns Golf Club\, 4900 Cypress Links Blvd\, Elkton\, FL\, 32033\, United States
CATEGORIES:Players Groups,Skins Group
ATTACH;FMTTYPE=image/jpeg:https://sjgc.com/wp-content/uploads/2025/03/golfballs-600.jpg
END:VEVENT
BEGIN:VEVENT
DTSTART;TZID=America/New_York:20290113T070000
DTEND;TZID=America/New_York:20290113T074500
DTSTAMP:20260425T235032
CREATED:20250509T180230Z
LAST-MODIFIED:20250522T125432Z
UID:10007408-1862982000-1862984700@sjgc.com
SUMMARY:Skins Group
DESCRIPTION:Plays Thursdays and Saturdays year-round.
URL:https://sjgc.com/event/skins-group/2029-01-13/
LOCATION:St. Johns Golf Club\, 4900 Cypress Links Blvd\, Elkton\, FL\, 32033\, United States
CATEGORIES:Players Groups,Skins Group
ATTACH;FMTTYPE=image/jpeg:https://sjgc.com/wp-content/uploads/2025/03/golfballs-600.jpg
END:VEVENT
BEGIN:VEVENT
DTSTART;TZID=America/New_York:20290118T070000
DTEND;TZID=America/New_York:20290118T074500
DTSTAMP:20260425T235032
CREATED:20250509T180230Z
LAST-MODIFIED:20250522T125432Z
UID:10007409-1863414000-1863416700@sjgc.com
SUMMARY:Skins Group
DESCRIPTION:Plays Thursdays and Saturdays year-round.
URL:https://sjgc.com/event/skins-group/2029-01-18/
LOCATION:St. Johns Golf Club\, 4900 Cypress Links Blvd\, Elkton\, FL\, 32033\, United States
CATEGORIES:Players Groups,Skins Group
ATTACH;FMTTYPE=image/jpeg:https://sjgc.com/wp-content/uploads/2025/03/golfballs-600.jpg
END:VEVENT
BEGIN:VEVENT
DTSTART;TZID=America/New_York:20290120T070000
DTEND;TZID=America/New_York:20290120T074500
DTSTAMP:20260425T235032
CREATED:20250509T180230Z
LAST-MODIFIED:20250522T125432Z
UID:10007410-1863586800-1863589500@sjgc.com
SUMMARY:Skins Group
DESCRIPTION:Plays Thursdays and Saturdays year-round.
URL:https://sjgc.com/event/skins-group/2029-01-20/
LOCATION:St. Johns Golf Club\, 4900 Cypress Links Blvd\, Elkton\, FL\, 32033\, United States
CATEGORIES:Players Groups,Skins Group
ATTACH;FMTTYPE=image/jpeg:https://sjgc.com/wp-content/uploads/2025/03/golfballs-600.jpg
END:VEVENT
BEGIN:VEVENT
DTSTART;TZID=America/New_York:20290125T070000
DTEND;TZID=America/New_York:20290125T074500
DTSTAMP:20260425T235032
CREATED:20250509T180230Z
LAST-MODIFIED:20250522T125432Z
UID:10007411-1864018800-1864021500@sjgc.com
SUMMARY:Skins Group
DESCRIPTION:Plays Thursdays and Saturdays year-round.
URL:https://sjgc.com/event/skins-group/2029-01-25/
LOCATION:St. Johns Golf Club\, 4900 Cypress Links Blvd\, Elkton\, FL\, 32033\, United States
CATEGORIES:Players Groups,Skins Group
ATTACH;FMTTYPE=image/jpeg:https://sjgc.com/wp-content/uploads/2025/03/golfballs-600.jpg
END:VEVENT
BEGIN:VEVENT
DTSTART;TZID=America/New_York:20290127T070000
DTEND;TZID=America/New_York:20290127T074500
DTSTAMP:20260425T235032
CREATED:20250509T180230Z
LAST-MODIFIED:20250522T125432Z
UID:10007412-1864191600-1864194300@sjgc.com
SUMMARY:Skins Group
DESCRIPTION:Plays Thursdays and Saturdays year-round.
URL:https://sjgc.com/event/skins-group/2029-01-27/
LOCATION:St. Johns Golf Club\, 4900 Cypress Links Blvd\, Elkton\, FL\, 32033\, United States
CATEGORIES:Players Groups,Skins Group
ATTACH;FMTTYPE=image/jpeg:https://sjgc.com/wp-content/uploads/2025/03/golfballs-600.jpg
END:VEVENT
BEGIN:VEVENT
DTSTART;TZID=America/New_York:20290201T070000
DTEND;TZID=America/New_York:20290201T074500
DTSTAMP:20260425T235032
CREATED:20250509T180230Z
LAST-MODIFIED:20250522T125432Z
UID:10007413-1864623600-1864626300@sjgc.com
SUMMARY:Skins Group
DESCRIPTION:Plays Thursdays and Saturdays year-round.
URL:https://sjgc.com/event/skins-group/2029-02-01/
LOCATION:St. Johns Golf Club\, 4900 Cypress Links Blvd\, Elkton\, FL\, 32033\, United States
CATEGORIES:Players Groups,Skins Group
ATTACH;FMTTYPE=image/jpeg:https://sjgc.com/wp-content/uploads/2025/03/golfballs-600.jpg
END:VEVENT
BEGIN:VEVENT
DTSTART;TZID=America/New_York:20290203T070000
DTEND;TZID=America/New_York:20290203T074500
DTSTAMP:20260425T235032
CREATED:20250509T180230Z
LAST-MODIFIED:20250522T125432Z
UID:10007414-1864796400-1864799100@sjgc.com
SUMMARY:Skins Group
DESCRIPTION:Plays Thursdays and Saturdays year-round.
URL:https://sjgc.com/event/skins-group/2029-02-03/
LOCATION:St. Johns Golf Club\, 4900 Cypress Links Blvd\, Elkton\, FL\, 32033\, United States
CATEGORIES:Players Groups,Skins Group
ATTACH;FMTTYPE=image/jpeg:https://sjgc.com/wp-content/uploads/2025/03/golfballs-600.jpg
END:VEVENT
BEGIN:VEVENT
DTSTART;TZID=America/New_York:20290208T070000
DTEND;TZID=America/New_York:20290208T074500
DTSTAMP:20260425T235032
CREATED:20250509T180230Z
LAST-MODIFIED:20250522T125432Z
UID:10007415-1865228400-1865231100@sjgc.com
SUMMARY:Skins Group
DESCRIPTION:Plays Thursdays and Saturdays year-round.
URL:https://sjgc.com/event/skins-group/2029-02-08/
LOCATION:St. Johns Golf Club\, 4900 Cypress Links Blvd\, Elkton\, FL\, 32033\, United States
CATEGORIES:Players Groups,Skins Group
ATTACH;FMTTYPE=image/jpeg:https://sjgc.com/wp-content/uploads/2025/03/golfballs-600.jpg
END:VEVENT
BEGIN:VEVENT
DTSTART;TZID=America/New_York:20290210T070000
DTEND;TZID=America/New_York:20290210T074500
DTSTAMP:20260425T235032
CREATED:20250509T180230Z
LAST-MODIFIED:20250522T125432Z
UID:10007416-1865401200-1865403900@sjgc.com
SUMMARY:Skins Group
DESCRIPTION:Plays Thursdays and Saturdays year-round.
URL:https://sjgc.com/event/skins-group/2029-02-10/
LOCATION:St. Johns Golf Club\, 4900 Cypress Links Blvd\, Elkton\, FL\, 32033\, United States
CATEGORIES:Players Groups,Skins Group
ATTACH;FMTTYPE=image/jpeg:https://sjgc.com/wp-content/uploads/2025/03/golfballs-600.jpg
END:VEVENT
BEGIN:VEVENT
DTSTART;TZID=America/New_York:20290215T070000
DTEND;TZID=America/New_York:20290215T074500
DTSTAMP:20260425T235032
CREATED:20250509T180230Z
LAST-MODIFIED:20250522T125432Z
UID:10007417-1865833200-1865835900@sjgc.com
SUMMARY:Skins Group
DESCRIPTION:Plays Thursdays and Saturdays year-round.
URL:https://sjgc.com/event/skins-group/2029-02-15/
LOCATION:St. Johns Golf Club\, 4900 Cypress Links Blvd\, Elkton\, FL\, 32033\, United States
CATEGORIES:Players Groups,Skins Group
ATTACH;FMTTYPE=image/jpeg:https://sjgc.com/wp-content/uploads/2025/03/golfballs-600.jpg
END:VEVENT
BEGIN:VEVENT
DTSTART;TZID=America/New_York:20290217T070000
DTEND;TZID=America/New_York:20290217T074500
DTSTAMP:20260425T235032
CREATED:20250509T180230Z
LAST-MODIFIED:20250522T125432Z
UID:10007418-1866006000-1866008700@sjgc.com
SUMMARY:Skins Group
DESCRIPTION:Plays Thursdays and Saturdays year-round.
URL:https://sjgc.com/event/skins-group/2029-02-17/
LOCATION:St. Johns Golf Club\, 4900 Cypress Links Blvd\, Elkton\, FL\, 32033\, United States
CATEGORIES:Players Groups,Skins Group
ATTACH;FMTTYPE=image/jpeg:https://sjgc.com/wp-content/uploads/2025/03/golfballs-600.jpg
END:VEVENT
BEGIN:VEVENT
DTSTART;TZID=America/New_York:20290222T070000
DTEND;TZID=America/New_York:20290222T074500
DTSTAMP:20260425T235032
CREATED:20250509T180230Z
LAST-MODIFIED:20250522T125432Z
UID:10007419-1866438000-1866440700@sjgc.com
SUMMARY:Skins Group
DESCRIPTION:Plays Thursdays and Saturdays year-round.
URL:https://sjgc.com/event/skins-group/2029-02-22/
LOCATION:St. Johns Golf Club\, 4900 Cypress Links Blvd\, Elkton\, FL\, 32033\, United States
CATEGORIES:Players Groups,Skins Group
ATTACH;FMTTYPE=image/jpeg:https://sjgc.com/wp-content/uploads/2025/03/golfballs-600.jpg
END:VEVENT
BEGIN:VEVENT
DTSTART;TZID=America/New_York:20290224T070000
DTEND;TZID=America/New_York:20290224T074500
DTSTAMP:20260425T235032
CREATED:20250509T180230Z
LAST-MODIFIED:20250522T125432Z
UID:10007420-1866610800-1866613500@sjgc.com
SUMMARY:Skins Group
DESCRIPTION:Plays Thursdays and Saturdays year-round.
URL:https://sjgc.com/event/skins-group/2029-02-24/
LOCATION:St. Johns Golf Club\, 4900 Cypress Links Blvd\, Elkton\, FL\, 32033\, United States
CATEGORIES:Players Groups,Skins Group
ATTACH;FMTTYPE=image/jpeg:https://sjgc.com/wp-content/uploads/2025/03/golfballs-600.jpg
END:VEVENT
BEGIN:VEVENT
DTSTART;TZID=America/New_York:20290301T070000
DTEND;TZID=America/New_York:20290301T074500
DTSTAMP:20260425T235032
CREATED:20250509T180230Z
LAST-MODIFIED:20250522T125432Z
UID:10007421-1867042800-1867045500@sjgc.com
SUMMARY:Skins Group
DESCRIPTION:Plays Thursdays and Saturdays year-round.
URL:https://sjgc.com/event/skins-group/2029-03-01/
LOCATION:St. Johns Golf Club\, 4900 Cypress Links Blvd\, Elkton\, FL\, 32033\, United States
CATEGORIES:Players Groups,Skins Group
ATTACH;FMTTYPE=image/jpeg:https://sjgc.com/wp-content/uploads/2025/03/golfballs-600.jpg
END:VEVENT
BEGIN:VEVENT
DTSTART;TZID=America/New_York:20290303T070000
DTEND;TZID=America/New_York:20290303T074500
DTSTAMP:20260425T235032
CREATED:20250509T180230Z
LAST-MODIFIED:20250522T125432Z
UID:10007422-1867215600-1867218300@sjgc.com
SUMMARY:Skins Group
DESCRIPTION:Plays Thursdays and Saturdays year-round.
URL:https://sjgc.com/event/skins-group/2029-03-03/
LOCATION:St. Johns Golf Club\, 4900 Cypress Links Blvd\, Elkton\, FL\, 32033\, United States
CATEGORIES:Players Groups,Skins Group
ATTACH;FMTTYPE=image/jpeg:https://sjgc.com/wp-content/uploads/2025/03/golfballs-600.jpg
END:VEVENT
BEGIN:VEVENT
DTSTART;TZID=America/New_York:20290308T070000
DTEND;TZID=America/New_York:20290308T074500
DTSTAMP:20260425T235032
CREATED:20250509T180230Z
LAST-MODIFIED:20250522T125432Z
UID:10007423-1867647600-1867650300@sjgc.com
SUMMARY:Skins Group
DESCRIPTION:Plays Thursdays and Saturdays year-round.
URL:https://sjgc.com/event/skins-group/2029-03-08/
LOCATION:St. Johns Golf Club\, 4900 Cypress Links Blvd\, Elkton\, FL\, 32033\, United States
CATEGORIES:Players Groups,Skins Group
ATTACH;FMTTYPE=image/jpeg:https://sjgc.com/wp-content/uploads/2025/03/golfballs-600.jpg
END:VEVENT
BEGIN:VEVENT
DTSTART;TZID=America/New_York:20290310T070000
DTEND;TZID=America/New_York:20290310T074500
DTSTAMP:20260425T235032
CREATED:20250509T180230Z
LAST-MODIFIED:20250522T125432Z
UID:10007424-1867820400-1867823100@sjgc.com
SUMMARY:Skins Group
DESCRIPTION:Plays Thursdays and Saturdays year-round.
URL:https://sjgc.com/event/skins-group/2029-03-10/
LOCATION:St. Johns Golf Club\, 4900 Cypress Links Blvd\, Elkton\, FL\, 32033\, United States
CATEGORIES:Players Groups,Skins Group
ATTACH;FMTTYPE=image/jpeg:https://sjgc.com/wp-content/uploads/2025/03/golfballs-600.jpg
END:VEVENT
END:VCALENDAR