BEGIN:VCALENDAR
VERSION:2.0
PRODID:-//St Johns Golf Course - ECPv6.13.2.1//NONSGML v1.0//EN
CALSCALE:GREGORIAN
METHOD:PUBLISH
X-ORIGINAL-URL:https://sjgc.com
X-WR-CALDESC:Events for St Johns Golf Course
REFRESH-INTERVAL;VALUE=DURATION:PT1H
X-Robots-Tag:noindex
X-PUBLISHED-TTL:PT1H
BEGIN:VTIMEZONE
TZID:America/New_York
BEGIN:DAYLIGHT
TZOFFSETFROM:-0500
TZOFFSETTO:-0400
TZNAME:EDT
DTSTART:20280312T070000
END:DAYLIGHT
BEGIN:STANDARD
TZOFFSETFROM:-0400
TZOFFSETTO:-0500
TZNAME:EST
DTSTART:20281105T060000
END:STANDARD
END:VTIMEZONE
BEGIN:VEVENT
DTSTART;TZID=America/New_York:20280110T070000
DTEND;TZID=America/New_York:20280110T083000
DTSTAMP:20260419T090710
CREATED:20250509T162709Z
LAST-MODIFIED:20250522T185221Z
UID:10002532-1831100400-1831105800@sjgc.com
SUMMARY:Men's Golf Association (MGA)
DESCRIPTION:The Association includes over 100 active members who play year-round on Mondays\, Wednesdays\, and Fridays.
URL:https://sjgc.com/event/mga/2028-01-10/
LOCATION:St. Johns Golf Club\, 4900 Cypress Links Blvd\, Elkton\, FL\, 32033\, United States
CATEGORIES:Men's Association,Players Groups
ATTACH;FMTTYPE=image/png:https://sjgc.com/wp-content/uploads/2025/05/golf-club-and-golf-ball.png
END:VEVENT
BEGIN:VEVENT
DTSTART;TZID=America/New_York:20280112T070000
DTEND;TZID=America/New_York:20280112T083000
DTSTAMP:20260419T090710
CREATED:20250509T162709Z
LAST-MODIFIED:20250522T185221Z
UID:10002533-1831273200-1831278600@sjgc.com
SUMMARY:Men's Golf Association (MGA)
DESCRIPTION:The Association includes over 100 active members who play year-round on Mondays\, Wednesdays\, and Fridays.
URL:https://sjgc.com/event/mga/2028-01-12/
LOCATION:St. Johns Golf Club\, 4900 Cypress Links Blvd\, Elkton\, FL\, 32033\, United States
CATEGORIES:Men's Association,Players Groups
ATTACH;FMTTYPE=image/png:https://sjgc.com/wp-content/uploads/2025/05/golf-club-and-golf-ball.png
END:VEVENT
BEGIN:VEVENT
DTSTART;TZID=America/New_York:20280114T070000
DTEND;TZID=America/New_York:20280114T083000
DTSTAMP:20260419T090710
CREATED:20250509T162709Z
LAST-MODIFIED:20250522T185221Z
UID:10002534-1831446000-1831451400@sjgc.com
SUMMARY:Men's Golf Association (MGA)
DESCRIPTION:The Association includes over 100 active members who play year-round on Mondays\, Wednesdays\, and Fridays.
URL:https://sjgc.com/event/mga/2028-01-14/
LOCATION:St. Johns Golf Club\, 4900 Cypress Links Blvd\, Elkton\, FL\, 32033\, United States
CATEGORIES:Men's Association,Players Groups
ATTACH;FMTTYPE=image/png:https://sjgc.com/wp-content/uploads/2025/05/golf-club-and-golf-ball.png
END:VEVENT
BEGIN:VEVENT
DTSTART;TZID=America/New_York:20280117T070000
DTEND;TZID=America/New_York:20280117T083000
DTSTAMP:20260419T090710
CREATED:20250509T162709Z
LAST-MODIFIED:20250522T185221Z
UID:10002535-1831705200-1831710600@sjgc.com
SUMMARY:Men's Golf Association (MGA)
DESCRIPTION:The Association includes over 100 active members who play year-round on Mondays\, Wednesdays\, and Fridays.
URL:https://sjgc.com/event/mga/2028-01-17/
LOCATION:St. Johns Golf Club\, 4900 Cypress Links Blvd\, Elkton\, FL\, 32033\, United States
CATEGORIES:Men's Association,Players Groups
ATTACH;FMTTYPE=image/png:https://sjgc.com/wp-content/uploads/2025/05/golf-club-and-golf-ball.png
END:VEVENT
BEGIN:VEVENT
DTSTART;TZID=America/New_York:20280119T070000
DTEND;TZID=America/New_York:20280119T083000
DTSTAMP:20260419T090710
CREATED:20250509T162709Z
LAST-MODIFIED:20250522T185221Z
UID:10002536-1831878000-1831883400@sjgc.com
SUMMARY:Men's Golf Association (MGA)
DESCRIPTION:The Association includes over 100 active members who play year-round on Mondays\, Wednesdays\, and Fridays.
URL:https://sjgc.com/event/mga/2028-01-19/
LOCATION:St. Johns Golf Club\, 4900 Cypress Links Blvd\, Elkton\, FL\, 32033\, United States
CATEGORIES:Men's Association,Players Groups
ATTACH;FMTTYPE=image/png:https://sjgc.com/wp-content/uploads/2025/05/golf-club-and-golf-ball.png
END:VEVENT
BEGIN:VEVENT
DTSTART;TZID=America/New_York:20280121T070000
DTEND;TZID=America/New_York:20280121T083000
DTSTAMP:20260419T090710
CREATED:20250509T162709Z
LAST-MODIFIED:20250522T185221Z
UID:10002537-1832050800-1832056200@sjgc.com
SUMMARY:Men's Golf Association (MGA)
DESCRIPTION:The Association includes over 100 active members who play year-round on Mondays\, Wednesdays\, and Fridays.
URL:https://sjgc.com/event/mga/2028-01-21/
LOCATION:St. Johns Golf Club\, 4900 Cypress Links Blvd\, Elkton\, FL\, 32033\, United States
CATEGORIES:Men's Association,Players Groups
ATTACH;FMTTYPE=image/png:https://sjgc.com/wp-content/uploads/2025/05/golf-club-and-golf-ball.png
END:VEVENT
BEGIN:VEVENT
DTSTART;TZID=America/New_York:20280124T070000
DTEND;TZID=America/New_York:20280124T083000
DTSTAMP:20260419T090710
CREATED:20250509T162709Z
LAST-MODIFIED:20250522T185221Z
UID:10002538-1832310000-1832315400@sjgc.com
SUMMARY:Men's Golf Association (MGA)
DESCRIPTION:The Association includes over 100 active members who play year-round on Mondays\, Wednesdays\, and Fridays.
URL:https://sjgc.com/event/mga/2028-01-24/
LOCATION:St. Johns Golf Club\, 4900 Cypress Links Blvd\, Elkton\, FL\, 32033\, United States
CATEGORIES:Men's Association,Players Groups
ATTACH;FMTTYPE=image/png:https://sjgc.com/wp-content/uploads/2025/05/golf-club-and-golf-ball.png
END:VEVENT
BEGIN:VEVENT
DTSTART;TZID=America/New_York:20280126T070000
DTEND;TZID=America/New_York:20280126T083000
DTSTAMP:20260419T090710
CREATED:20250509T162709Z
LAST-MODIFIED:20250522T185221Z
UID:10002539-1832482800-1832488200@sjgc.com
SUMMARY:Men's Golf Association (MGA)
DESCRIPTION:The Association includes over 100 active members who play year-round on Mondays\, Wednesdays\, and Fridays.
URL:https://sjgc.com/event/mga/2028-01-26/
LOCATION:St. Johns Golf Club\, 4900 Cypress Links Blvd\, Elkton\, FL\, 32033\, United States
CATEGORIES:Men's Association,Players Groups
ATTACH;FMTTYPE=image/png:https://sjgc.com/wp-content/uploads/2025/05/golf-club-and-golf-ball.png
END:VEVENT
BEGIN:VEVENT
DTSTART;TZID=America/New_York:20280128T070000
DTEND;TZID=America/New_York:20280128T083000
DTSTAMP:20260419T090710
CREATED:20250509T162709Z
LAST-MODIFIED:20250522T185221Z
UID:10002540-1832655600-1832661000@sjgc.com
SUMMARY:Men's Golf Association (MGA)
DESCRIPTION:The Association includes over 100 active members who play year-round on Mondays\, Wednesdays\, and Fridays.
URL:https://sjgc.com/event/mga/2028-01-28/
LOCATION:St. Johns Golf Club\, 4900 Cypress Links Blvd\, Elkton\, FL\, 32033\, United States
CATEGORIES:Men's Association,Players Groups
ATTACH;FMTTYPE=image/png:https://sjgc.com/wp-content/uploads/2025/05/golf-club-and-golf-ball.png
END:VEVENT
BEGIN:VEVENT
DTSTART;TZID=America/New_York:20280131T070000
DTEND;TZID=America/New_York:20280131T083000
DTSTAMP:20260419T090710
CREATED:20250509T162709Z
LAST-MODIFIED:20250522T185221Z
UID:10002541-1832914800-1832920200@sjgc.com
SUMMARY:Men's Golf Association (MGA)
DESCRIPTION:The Association includes over 100 active members who play year-round on Mondays\, Wednesdays\, and Fridays.
URL:https://sjgc.com/event/mga/2028-01-31/
LOCATION:St. Johns Golf Club\, 4900 Cypress Links Blvd\, Elkton\, FL\, 32033\, United States
CATEGORIES:Men's Association,Players Groups
ATTACH;FMTTYPE=image/png:https://sjgc.com/wp-content/uploads/2025/05/golf-club-and-golf-ball.png
END:VEVENT
BEGIN:VEVENT
DTSTART;TZID=America/New_York:20280202T070000
DTEND;TZID=America/New_York:20280202T083000
DTSTAMP:20260419T090710
CREATED:20250509T162709Z
LAST-MODIFIED:20250522T185221Z
UID:10002542-1833087600-1833093000@sjgc.com
SUMMARY:Men's Golf Association (MGA)
DESCRIPTION:The Association includes over 100 active members who play year-round on Mondays\, Wednesdays\, and Fridays.
URL:https://sjgc.com/event/mga/2028-02-02/
LOCATION:St. Johns Golf Club\, 4900 Cypress Links Blvd\, Elkton\, FL\, 32033\, United States
CATEGORIES:Men's Association,Players Groups
ATTACH;FMTTYPE=image/png:https://sjgc.com/wp-content/uploads/2025/05/golf-club-and-golf-ball.png
END:VEVENT
BEGIN:VEVENT
DTSTART;TZID=America/New_York:20280204T070000
DTEND;TZID=America/New_York:20280204T083000
DTSTAMP:20260419T090710
CREATED:20250509T162709Z
LAST-MODIFIED:20250522T185221Z
UID:10002543-1833260400-1833265800@sjgc.com
SUMMARY:Men's Golf Association (MGA)
DESCRIPTION:The Association includes over 100 active members who play year-round on Mondays\, Wednesdays\, and Fridays.
URL:https://sjgc.com/event/mga/2028-02-04/
LOCATION:St. Johns Golf Club\, 4900 Cypress Links Blvd\, Elkton\, FL\, 32033\, United States
CATEGORIES:Men's Association,Players Groups
ATTACH;FMTTYPE=image/png:https://sjgc.com/wp-content/uploads/2025/05/golf-club-and-golf-ball.png
END:VEVENT
BEGIN:VEVENT
DTSTART;TZID=America/New_York:20280207T070000
DTEND;TZID=America/New_York:20280207T083000
DTSTAMP:20260419T090710
CREATED:20250509T162709Z
LAST-MODIFIED:20250522T185221Z
UID:10002544-1833519600-1833525000@sjgc.com
SUMMARY:Men's Golf Association (MGA)
DESCRIPTION:The Association includes over 100 active members who play year-round on Mondays\, Wednesdays\, and Fridays.
URL:https://sjgc.com/event/mga/2028-02-07/
LOCATION:St. Johns Golf Club\, 4900 Cypress Links Blvd\, Elkton\, FL\, 32033\, United States
CATEGORIES:Men's Association,Players Groups
ATTACH;FMTTYPE=image/png:https://sjgc.com/wp-content/uploads/2025/05/golf-club-and-golf-ball.png
END:VEVENT
BEGIN:VEVENT
DTSTART;TZID=America/New_York:20280209T070000
DTEND;TZID=America/New_York:20280209T083000
DTSTAMP:20260419T090710
CREATED:20250509T162709Z
LAST-MODIFIED:20250522T185221Z
UID:10002545-1833692400-1833697800@sjgc.com
SUMMARY:Men's Golf Association (MGA)
DESCRIPTION:The Association includes over 100 active members who play year-round on Mondays\, Wednesdays\, and Fridays.
URL:https://sjgc.com/event/mga/2028-02-09/
LOCATION:St. Johns Golf Club\, 4900 Cypress Links Blvd\, Elkton\, FL\, 32033\, United States
CATEGORIES:Men's Association,Players Groups
ATTACH;FMTTYPE=image/png:https://sjgc.com/wp-content/uploads/2025/05/golf-club-and-golf-ball.png
END:VEVENT
BEGIN:VEVENT
DTSTART;TZID=America/New_York:20280211T070000
DTEND;TZID=America/New_York:20280211T083000
DTSTAMP:20260419T090710
CREATED:20250509T162709Z
LAST-MODIFIED:20250522T185221Z
UID:10002546-1833865200-1833870600@sjgc.com
SUMMARY:Men's Golf Association (MGA)
DESCRIPTION:The Association includes over 100 active members who play year-round on Mondays\, Wednesdays\, and Fridays.
URL:https://sjgc.com/event/mga/2028-02-11/
LOCATION:St. Johns Golf Club\, 4900 Cypress Links Blvd\, Elkton\, FL\, 32033\, United States
CATEGORIES:Men's Association,Players Groups
ATTACH;FMTTYPE=image/png:https://sjgc.com/wp-content/uploads/2025/05/golf-club-and-golf-ball.png
END:VEVENT
BEGIN:VEVENT
DTSTART;TZID=America/New_York:20280214T070000
DTEND;TZID=America/New_York:20280214T083000
DTSTAMP:20260419T090710
CREATED:20250509T162709Z
LAST-MODIFIED:20250522T185221Z
UID:10002547-1834124400-1834129800@sjgc.com
SUMMARY:Men's Golf Association (MGA)
DESCRIPTION:The Association includes over 100 active members who play year-round on Mondays\, Wednesdays\, and Fridays.
URL:https://sjgc.com/event/mga/2028-02-14/
LOCATION:St. Johns Golf Club\, 4900 Cypress Links Blvd\, Elkton\, FL\, 32033\, United States
CATEGORIES:Men's Association,Players Groups
ATTACH;FMTTYPE=image/png:https://sjgc.com/wp-content/uploads/2025/05/golf-club-and-golf-ball.png
END:VEVENT
BEGIN:VEVENT
DTSTART;TZID=America/New_York:20280216T070000
DTEND;TZID=America/New_York:20280216T083000
DTSTAMP:20260419T090710
CREATED:20250509T162709Z
LAST-MODIFIED:20250522T185221Z
UID:10002548-1834297200-1834302600@sjgc.com
SUMMARY:Men's Golf Association (MGA)
DESCRIPTION:The Association includes over 100 active members who play year-round on Mondays\, Wednesdays\, and Fridays.
URL:https://sjgc.com/event/mga/2028-02-16/
LOCATION:St. Johns Golf Club\, 4900 Cypress Links Blvd\, Elkton\, FL\, 32033\, United States
CATEGORIES:Men's Association,Players Groups
ATTACH;FMTTYPE=image/png:https://sjgc.com/wp-content/uploads/2025/05/golf-club-and-golf-ball.png
END:VEVENT
BEGIN:VEVENT
DTSTART;TZID=America/New_York:20280218T070000
DTEND;TZID=America/New_York:20280218T083000
DTSTAMP:20260419T090710
CREATED:20250509T162709Z
LAST-MODIFIED:20250522T185221Z
UID:10002549-1834470000-1834475400@sjgc.com
SUMMARY:Men's Golf Association (MGA)
DESCRIPTION:The Association includes over 100 active members who play year-round on Mondays\, Wednesdays\, and Fridays.
URL:https://sjgc.com/event/mga/2028-02-18/
LOCATION:St. Johns Golf Club\, 4900 Cypress Links Blvd\, Elkton\, FL\, 32033\, United States
CATEGORIES:Men's Association,Players Groups
ATTACH;FMTTYPE=image/png:https://sjgc.com/wp-content/uploads/2025/05/golf-club-and-golf-ball.png
END:VEVENT
BEGIN:VEVENT
DTSTART;TZID=America/New_York:20280221T070000
DTEND;TZID=America/New_York:20280221T083000
DTSTAMP:20260419T090710
CREATED:20250509T162709Z
LAST-MODIFIED:20250522T185221Z
UID:10002550-1834729200-1834734600@sjgc.com
SUMMARY:Men's Golf Association (MGA)
DESCRIPTION:The Association includes over 100 active members who play year-round on Mondays\, Wednesdays\, and Fridays.
URL:https://sjgc.com/event/mga/2028-02-21/
LOCATION:St. Johns Golf Club\, 4900 Cypress Links Blvd\, Elkton\, FL\, 32033\, United States
CATEGORIES:Men's Association,Players Groups
ATTACH;FMTTYPE=image/png:https://sjgc.com/wp-content/uploads/2025/05/golf-club-and-golf-ball.png
END:VEVENT
BEGIN:VEVENT
DTSTART;TZID=America/New_York:20280223T070000
DTEND;TZID=America/New_York:20280223T083000
DTSTAMP:20260419T090710
CREATED:20250509T162709Z
LAST-MODIFIED:20250522T185221Z
UID:10002551-1834902000-1834907400@sjgc.com
SUMMARY:Men's Golf Association (MGA)
DESCRIPTION:The Association includes over 100 active members who play year-round on Mondays\, Wednesdays\, and Fridays.
URL:https://sjgc.com/event/mga/2028-02-23/
LOCATION:St. Johns Golf Club\, 4900 Cypress Links Blvd\, Elkton\, FL\, 32033\, United States
CATEGORIES:Men's Association,Players Groups
ATTACH;FMTTYPE=image/png:https://sjgc.com/wp-content/uploads/2025/05/golf-club-and-golf-ball.png
END:VEVENT
BEGIN:VEVENT
DTSTART;TZID=America/New_York:20280225T070000
DTEND;TZID=America/New_York:20280225T083000
DTSTAMP:20260419T090710
CREATED:20250509T162709Z
LAST-MODIFIED:20250522T185221Z
UID:10002552-1835074800-1835080200@sjgc.com
SUMMARY:Men's Golf Association (MGA)
DESCRIPTION:The Association includes over 100 active members who play year-round on Mondays\, Wednesdays\, and Fridays.
URL:https://sjgc.com/event/mga/2028-02-25/
LOCATION:St. Johns Golf Club\, 4900 Cypress Links Blvd\, Elkton\, FL\, 32033\, United States
CATEGORIES:Men's Association,Players Groups
ATTACH;FMTTYPE=image/png:https://sjgc.com/wp-content/uploads/2025/05/golf-club-and-golf-ball.png
END:VEVENT
BEGIN:VEVENT
DTSTART;TZID=America/New_York:20280228T070000
DTEND;TZID=America/New_York:20280228T083000
DTSTAMP:20260419T090710
CREATED:20250509T162709Z
LAST-MODIFIED:20250522T185221Z
UID:10002553-1835334000-1835339400@sjgc.com
SUMMARY:Men's Golf Association (MGA)
DESCRIPTION:The Association includes over 100 active members who play year-round on Mondays\, Wednesdays\, and Fridays.
URL:https://sjgc.com/event/mga/2028-02-28/
LOCATION:St. Johns Golf Club\, 4900 Cypress Links Blvd\, Elkton\, FL\, 32033\, United States
CATEGORIES:Men's Association,Players Groups
ATTACH;FMTTYPE=image/png:https://sjgc.com/wp-content/uploads/2025/05/golf-club-and-golf-ball.png
END:VEVENT
BEGIN:VEVENT
DTSTART;TZID=America/New_York:20280301T070000
DTEND;TZID=America/New_York:20280301T083000
DTSTAMP:20260419T090710
CREATED:20250509T162709Z
LAST-MODIFIED:20250522T185221Z
UID:10002554-1835506800-1835512200@sjgc.com
SUMMARY:Men's Golf Association (MGA)
DESCRIPTION:The Association includes over 100 active members who play year-round on Mondays\, Wednesdays\, and Fridays.
URL:https://sjgc.com/event/mga/2028-03-01/
LOCATION:St. Johns Golf Club\, 4900 Cypress Links Blvd\, Elkton\, FL\, 32033\, United States
CATEGORIES:Men's Association,Players Groups
ATTACH;FMTTYPE=image/png:https://sjgc.com/wp-content/uploads/2025/05/golf-club-and-golf-ball.png
END:VEVENT
BEGIN:VEVENT
DTSTART;TZID=America/New_York:20280303T070000
DTEND;TZID=America/New_York:20280303T083000
DTSTAMP:20260419T090710
CREATED:20250509T162709Z
LAST-MODIFIED:20250522T185221Z
UID:10002555-1835679600-1835685000@sjgc.com
SUMMARY:Men's Golf Association (MGA)
DESCRIPTION:The Association includes over 100 active members who play year-round on Mondays\, Wednesdays\, and Fridays.
URL:https://sjgc.com/event/mga/2028-03-03/
LOCATION:St. Johns Golf Club\, 4900 Cypress Links Blvd\, Elkton\, FL\, 32033\, United States
CATEGORIES:Men's Association,Players Groups
ATTACH;FMTTYPE=image/png:https://sjgc.com/wp-content/uploads/2025/05/golf-club-and-golf-ball.png
END:VEVENT
BEGIN:VEVENT
DTSTART;TZID=America/New_York:20280306T070000
DTEND;TZID=America/New_York:20280306T083000
DTSTAMP:20260419T090710
CREATED:20250509T162709Z
LAST-MODIFIED:20250522T185221Z
UID:10002556-1835938800-1835944200@sjgc.com
SUMMARY:Men's Golf Association (MGA)
DESCRIPTION:The Association includes over 100 active members who play year-round on Mondays\, Wednesdays\, and Fridays.
URL:https://sjgc.com/event/mga/2028-03-06/
LOCATION:St. Johns Golf Club\, 4900 Cypress Links Blvd\, Elkton\, FL\, 32033\, United States
CATEGORIES:Men's Association,Players Groups
ATTACH;FMTTYPE=image/png:https://sjgc.com/wp-content/uploads/2025/05/golf-club-and-golf-ball.png
END:VEVENT
BEGIN:VEVENT
DTSTART;TZID=America/New_York:20280308T070000
DTEND;TZID=America/New_York:20280308T083000
DTSTAMP:20260419T090710
CREATED:20250509T162709Z
LAST-MODIFIED:20250522T185221Z
UID:10002557-1836111600-1836117000@sjgc.com
SUMMARY:Men's Golf Association (MGA)
DESCRIPTION:The Association includes over 100 active members who play year-round on Mondays\, Wednesdays\, and Fridays.
URL:https://sjgc.com/event/mga/2028-03-08/
LOCATION:St. Johns Golf Club\, 4900 Cypress Links Blvd\, Elkton\, FL\, 32033\, United States
CATEGORIES:Men's Association,Players Groups
ATTACH;FMTTYPE=image/png:https://sjgc.com/wp-content/uploads/2025/05/golf-club-and-golf-ball.png
END:VEVENT
BEGIN:VEVENT
DTSTART;TZID=America/New_York:20280310T070000
DTEND;TZID=America/New_York:20280310T083000
DTSTAMP:20260419T090710
CREATED:20250509T162709Z
LAST-MODIFIED:20250522T185221Z
UID:10002558-1836284400-1836289800@sjgc.com
SUMMARY:Men's Golf Association (MGA)
DESCRIPTION:The Association includes over 100 active members who play year-round on Mondays\, Wednesdays\, and Fridays.
URL:https://sjgc.com/event/mga/2028-03-10/
LOCATION:St. Johns Golf Club\, 4900 Cypress Links Blvd\, Elkton\, FL\, 32033\, United States
CATEGORIES:Men's Association,Players Groups
ATTACH;FMTTYPE=image/png:https://sjgc.com/wp-content/uploads/2025/05/golf-club-and-golf-ball.png
END:VEVENT
BEGIN:VEVENT
DTSTART;TZID=America/New_York:20280313T070000
DTEND;TZID=America/New_York:20280313T083000
DTSTAMP:20260419T090710
CREATED:20250509T162709Z
LAST-MODIFIED:20250522T185221Z
UID:10002559-1836543600-1836549000@sjgc.com
SUMMARY:Men's Golf Association (MGA)
DESCRIPTION:The Association includes over 100 active members who play year-round on Mondays\, Wednesdays\, and Fridays.
URL:https://sjgc.com/event/mga/2028-03-13/
LOCATION:St. Johns Golf Club\, 4900 Cypress Links Blvd\, Elkton\, FL\, 32033\, United States
CATEGORIES:Men's Association,Players Groups
ATTACH;FMTTYPE=image/png:https://sjgc.com/wp-content/uploads/2025/05/golf-club-and-golf-ball.png
END:VEVENT
BEGIN:VEVENT
DTSTART;TZID=America/New_York:20280315T070000
DTEND;TZID=America/New_York:20280315T083000
DTSTAMP:20260419T090710
CREATED:20250509T162709Z
LAST-MODIFIED:20250522T185221Z
UID:10002560-1836716400-1836721800@sjgc.com
SUMMARY:Men's Golf Association (MGA)
DESCRIPTION:The Association includes over 100 active members who play year-round on Mondays\, Wednesdays\, and Fridays.
URL:https://sjgc.com/event/mga/2028-03-15/
LOCATION:St. Johns Golf Club\, 4900 Cypress Links Blvd\, Elkton\, FL\, 32033\, United States
CATEGORIES:Men's Association,Players Groups
ATTACH;FMTTYPE=image/png:https://sjgc.com/wp-content/uploads/2025/05/golf-club-and-golf-ball.png
END:VEVENT
BEGIN:VEVENT
DTSTART;TZID=America/New_York:20280317T070000
DTEND;TZID=America/New_York:20280317T083000
DTSTAMP:20260419T090710
CREATED:20250509T162709Z
LAST-MODIFIED:20250522T185221Z
UID:10002561-1836889200-1836894600@sjgc.com
SUMMARY:Men's Golf Association (MGA)
DESCRIPTION:The Association includes over 100 active members who play year-round on Mondays\, Wednesdays\, and Fridays.
URL:https://sjgc.com/event/mga/2028-03-17/
LOCATION:St. Johns Golf Club\, 4900 Cypress Links Blvd\, Elkton\, FL\, 32033\, United States
CATEGORIES:Men's Association,Players Groups
ATTACH;FMTTYPE=image/png:https://sjgc.com/wp-content/uploads/2025/05/golf-club-and-golf-ball.png
END:VEVENT
END:VCALENDAR