BEGIN:VCALENDAR
VERSION:2.0
PRODID:-//St Johns Golf Course - ECPv6.13.2.1//NONSGML v1.0//EN
CALSCALE:GREGORIAN
METHOD:PUBLISH
X-WR-CALNAME:St Johns Golf Course
X-ORIGINAL-URL:https://sjgc.com
X-WR-CALDESC:Events for St Johns Golf Course
REFRESH-INTERVAL;VALUE=DURATION:PT1H
X-Robots-Tag:noindex
X-PUBLISHED-TTL:PT1H
BEGIN:VTIMEZONE
TZID:America/New_York
BEGIN:DAYLIGHT
TZOFFSETFROM:-0500
TZOFFSETTO:-0400
TZNAME:EDT
DTSTART:20280312T070000
END:DAYLIGHT
BEGIN:STANDARD
TZOFFSETFROM:-0400
TZOFFSETTO:-0500
TZNAME:EST
DTSTART:20281105T060000
END:STANDARD
END:VTIMEZONE
BEGIN:VEVENT
DTSTART;TZID=America/New_York:20280225T070000
DTEND;TZID=America/New_York:20280225T083000
DTSTAMP:20260419T120517
CREATED:20250509T162709Z
LAST-MODIFIED:20250522T185221Z
UID:10002552-1835074800-1835080200@sjgc.com
SUMMARY:Men's Golf Association (MGA)
DESCRIPTION:The Association includes over 100 active members who play year-round on Mondays\, Wednesdays\, and Fridays.
URL:https://sjgc.com/event/mga/2028-02-25/
LOCATION:St. Johns Golf Club\, 4900 Cypress Links Blvd\, Elkton\, FL\, 32033\, United States
CATEGORIES:Men's Association,Players Groups
ATTACH;FMTTYPE=image/png:https://sjgc.com/wp-content/uploads/2025/05/golf-club-and-golf-ball.png
END:VEVENT
BEGIN:VEVENT
DTSTART;TZID=America/New_York:20280228T070000
DTEND;TZID=America/New_York:20280228T083000
DTSTAMP:20260419T120517
CREATED:20250509T162709Z
LAST-MODIFIED:20250522T185221Z
UID:10002553-1835334000-1835339400@sjgc.com
SUMMARY:Men's Golf Association (MGA)
DESCRIPTION:The Association includes over 100 active members who play year-round on Mondays\, Wednesdays\, and Fridays.
URL:https://sjgc.com/event/mga/2028-02-28/
LOCATION:St. Johns Golf Club\, 4900 Cypress Links Blvd\, Elkton\, FL\, 32033\, United States
CATEGORIES:Men's Association,Players Groups
ATTACH;FMTTYPE=image/png:https://sjgc.com/wp-content/uploads/2025/05/golf-club-and-golf-ball.png
END:VEVENT
BEGIN:VEVENT
DTSTART;TZID=America/New_York:20280301T070000
DTEND;TZID=America/New_York:20280301T083000
DTSTAMP:20260419T120517
CREATED:20250509T162709Z
LAST-MODIFIED:20250522T185221Z
UID:10002554-1835506800-1835512200@sjgc.com
SUMMARY:Men's Golf Association (MGA)
DESCRIPTION:The Association includes over 100 active members who play year-round on Mondays\, Wednesdays\, and Fridays.
URL:https://sjgc.com/event/mga/2028-03-01/
LOCATION:St. Johns Golf Club\, 4900 Cypress Links Blvd\, Elkton\, FL\, 32033\, United States
CATEGORIES:Men's Association,Players Groups
ATTACH;FMTTYPE=image/png:https://sjgc.com/wp-content/uploads/2025/05/golf-club-and-golf-ball.png
END:VEVENT
BEGIN:VEVENT
DTSTART;TZID=America/New_York:20280303T070000
DTEND;TZID=America/New_York:20280303T083000
DTSTAMP:20260419T120518
CREATED:20250509T162709Z
LAST-MODIFIED:20250522T185221Z
UID:10002555-1835679600-1835685000@sjgc.com
SUMMARY:Men's Golf Association (MGA)
DESCRIPTION:The Association includes over 100 active members who play year-round on Mondays\, Wednesdays\, and Fridays.
URL:https://sjgc.com/event/mga/2028-03-03/
LOCATION:St. Johns Golf Club\, 4900 Cypress Links Blvd\, Elkton\, FL\, 32033\, United States
CATEGORIES:Men's Association,Players Groups
ATTACH;FMTTYPE=image/png:https://sjgc.com/wp-content/uploads/2025/05/golf-club-and-golf-ball.png
END:VEVENT
BEGIN:VEVENT
DTSTART;TZID=America/New_York:20280306T070000
DTEND;TZID=America/New_York:20280306T083000
DTSTAMP:20260419T120518
CREATED:20250509T162709Z
LAST-MODIFIED:20250522T185221Z
UID:10002556-1835938800-1835944200@sjgc.com
SUMMARY:Men's Golf Association (MGA)
DESCRIPTION:The Association includes over 100 active members who play year-round on Mondays\, Wednesdays\, and Fridays.
URL:https://sjgc.com/event/mga/2028-03-06/
LOCATION:St. Johns Golf Club\, 4900 Cypress Links Blvd\, Elkton\, FL\, 32033\, United States
CATEGORIES:Men's Association,Players Groups
ATTACH;FMTTYPE=image/png:https://sjgc.com/wp-content/uploads/2025/05/golf-club-and-golf-ball.png
END:VEVENT
BEGIN:VEVENT
DTSTART;TZID=America/New_York:20280308T070000
DTEND;TZID=America/New_York:20280308T083000
DTSTAMP:20260419T120518
CREATED:20250509T162709Z
LAST-MODIFIED:20250522T185221Z
UID:10002557-1836111600-1836117000@sjgc.com
SUMMARY:Men's Golf Association (MGA)
DESCRIPTION:The Association includes over 100 active members who play year-round on Mondays\, Wednesdays\, and Fridays.
URL:https://sjgc.com/event/mga/2028-03-08/
LOCATION:St. Johns Golf Club\, 4900 Cypress Links Blvd\, Elkton\, FL\, 32033\, United States
CATEGORIES:Men's Association,Players Groups
ATTACH;FMTTYPE=image/png:https://sjgc.com/wp-content/uploads/2025/05/golf-club-and-golf-ball.png
END:VEVENT
BEGIN:VEVENT
DTSTART;TZID=America/New_York:20280310T070000
DTEND;TZID=America/New_York:20280310T083000
DTSTAMP:20260419T120518
CREATED:20250509T162709Z
LAST-MODIFIED:20250522T185221Z
UID:10002558-1836284400-1836289800@sjgc.com
SUMMARY:Men's Golf Association (MGA)
DESCRIPTION:The Association includes over 100 active members who play year-round on Mondays\, Wednesdays\, and Fridays.
URL:https://sjgc.com/event/mga/2028-03-10/
LOCATION:St. Johns Golf Club\, 4900 Cypress Links Blvd\, Elkton\, FL\, 32033\, United States
CATEGORIES:Men's Association,Players Groups
ATTACH;FMTTYPE=image/png:https://sjgc.com/wp-content/uploads/2025/05/golf-club-and-golf-ball.png
END:VEVENT
BEGIN:VEVENT
DTSTART;TZID=America/New_York:20280313T070000
DTEND;TZID=America/New_York:20280313T083000
DTSTAMP:20260419T120518
CREATED:20250509T162709Z
LAST-MODIFIED:20250522T185221Z
UID:10002559-1836543600-1836549000@sjgc.com
SUMMARY:Men's Golf Association (MGA)
DESCRIPTION:The Association includes over 100 active members who play year-round on Mondays\, Wednesdays\, and Fridays.
URL:https://sjgc.com/event/mga/2028-03-13/
LOCATION:St. Johns Golf Club\, 4900 Cypress Links Blvd\, Elkton\, FL\, 32033\, United States
CATEGORIES:Men's Association,Players Groups
ATTACH;FMTTYPE=image/png:https://sjgc.com/wp-content/uploads/2025/05/golf-club-and-golf-ball.png
END:VEVENT
BEGIN:VEVENT
DTSTART;TZID=America/New_York:20280315T070000
DTEND;TZID=America/New_York:20280315T083000
DTSTAMP:20260419T120518
CREATED:20250509T162709Z
LAST-MODIFIED:20250522T185221Z
UID:10002560-1836716400-1836721800@sjgc.com
SUMMARY:Men's Golf Association (MGA)
DESCRIPTION:The Association includes over 100 active members who play year-round on Mondays\, Wednesdays\, and Fridays.
URL:https://sjgc.com/event/mga/2028-03-15/
LOCATION:St. Johns Golf Club\, 4900 Cypress Links Blvd\, Elkton\, FL\, 32033\, United States
CATEGORIES:Men's Association,Players Groups
ATTACH;FMTTYPE=image/png:https://sjgc.com/wp-content/uploads/2025/05/golf-club-and-golf-ball.png
END:VEVENT
BEGIN:VEVENT
DTSTART;TZID=America/New_York:20280317T070000
DTEND;TZID=America/New_York:20280317T083000
DTSTAMP:20260419T120518
CREATED:20250509T162709Z
LAST-MODIFIED:20250522T185221Z
UID:10002561-1836889200-1836894600@sjgc.com
SUMMARY:Men's Golf Association (MGA)
DESCRIPTION:The Association includes over 100 active members who play year-round on Mondays\, Wednesdays\, and Fridays.
URL:https://sjgc.com/event/mga/2028-03-17/
LOCATION:St. Johns Golf Club\, 4900 Cypress Links Blvd\, Elkton\, FL\, 32033\, United States
CATEGORIES:Men's Association,Players Groups
ATTACH;FMTTYPE=image/png:https://sjgc.com/wp-content/uploads/2025/05/golf-club-and-golf-ball.png
END:VEVENT
BEGIN:VEVENT
DTSTART;TZID=America/New_York:20280320T070000
DTEND;TZID=America/New_York:20280320T083000
DTSTAMP:20260419T120518
CREATED:20250509T162709Z
LAST-MODIFIED:20250522T185221Z
UID:10002562-1837148400-1837153800@sjgc.com
SUMMARY:Men's Golf Association (MGA)
DESCRIPTION:The Association includes over 100 active members who play year-round on Mondays\, Wednesdays\, and Fridays.
URL:https://sjgc.com/event/mga/2028-03-20/
LOCATION:St. Johns Golf Club\, 4900 Cypress Links Blvd\, Elkton\, FL\, 32033\, United States
CATEGORIES:Men's Association,Players Groups
ATTACH;FMTTYPE=image/png:https://sjgc.com/wp-content/uploads/2025/05/golf-club-and-golf-ball.png
END:VEVENT
BEGIN:VEVENT
DTSTART;TZID=America/New_York:20280322T070000
DTEND;TZID=America/New_York:20280322T083000
DTSTAMP:20260419T120518
CREATED:20250509T162709Z
LAST-MODIFIED:20250522T185221Z
UID:10002563-1837321200-1837326600@sjgc.com
SUMMARY:Men's Golf Association (MGA)
DESCRIPTION:The Association includes over 100 active members who play year-round on Mondays\, Wednesdays\, and Fridays.
URL:https://sjgc.com/event/mga/2028-03-22/
LOCATION:St. Johns Golf Club\, 4900 Cypress Links Blvd\, Elkton\, FL\, 32033\, United States
CATEGORIES:Men's Association,Players Groups
ATTACH;FMTTYPE=image/png:https://sjgc.com/wp-content/uploads/2025/05/golf-club-and-golf-ball.png
END:VEVENT
BEGIN:VEVENT
DTSTART;TZID=America/New_York:20280324T070000
DTEND;TZID=America/New_York:20280324T083000
DTSTAMP:20260419T120518
CREATED:20250509T162709Z
LAST-MODIFIED:20250522T185221Z
UID:10002564-1837494000-1837499400@sjgc.com
SUMMARY:Men's Golf Association (MGA)
DESCRIPTION:The Association includes over 100 active members who play year-round on Mondays\, Wednesdays\, and Fridays.
URL:https://sjgc.com/event/mga/2028-03-24/
LOCATION:St. Johns Golf Club\, 4900 Cypress Links Blvd\, Elkton\, FL\, 32033\, United States
CATEGORIES:Men's Association,Players Groups
ATTACH;FMTTYPE=image/png:https://sjgc.com/wp-content/uploads/2025/05/golf-club-and-golf-ball.png
END:VEVENT
BEGIN:VEVENT
DTSTART;TZID=America/New_York:20280327T070000
DTEND;TZID=America/New_York:20280327T083000
DTSTAMP:20260419T120518
CREATED:20250509T162709Z
LAST-MODIFIED:20250522T185221Z
UID:10002565-1837753200-1837758600@sjgc.com
SUMMARY:Men's Golf Association (MGA)
DESCRIPTION:The Association includes over 100 active members who play year-round on Mondays\, Wednesdays\, and Fridays.
URL:https://sjgc.com/event/mga/2028-03-27/
LOCATION:St. Johns Golf Club\, 4900 Cypress Links Blvd\, Elkton\, FL\, 32033\, United States
CATEGORIES:Men's Association,Players Groups
ATTACH;FMTTYPE=image/png:https://sjgc.com/wp-content/uploads/2025/05/golf-club-and-golf-ball.png
END:VEVENT
BEGIN:VEVENT
DTSTART;TZID=America/New_York:20280329T070000
DTEND;TZID=America/New_York:20280329T083000
DTSTAMP:20260419T120518
CREATED:20250509T162709Z
LAST-MODIFIED:20250522T185221Z
UID:10002566-1837926000-1837931400@sjgc.com
SUMMARY:Men's Golf Association (MGA)
DESCRIPTION:The Association includes over 100 active members who play year-round on Mondays\, Wednesdays\, and Fridays.
URL:https://sjgc.com/event/mga/2028-03-29/
LOCATION:St. Johns Golf Club\, 4900 Cypress Links Blvd\, Elkton\, FL\, 32033\, United States
CATEGORIES:Men's Association,Players Groups
ATTACH;FMTTYPE=image/png:https://sjgc.com/wp-content/uploads/2025/05/golf-club-and-golf-ball.png
END:VEVENT
BEGIN:VEVENT
DTSTART;TZID=America/New_York:20280331T070000
DTEND;TZID=America/New_York:20280331T083000
DTSTAMP:20260419T120518
CREATED:20250509T162709Z
LAST-MODIFIED:20250522T185221Z
UID:10002567-1838098800-1838104200@sjgc.com
SUMMARY:Men's Golf Association (MGA)
DESCRIPTION:The Association includes over 100 active members who play year-round on Mondays\, Wednesdays\, and Fridays.
URL:https://sjgc.com/event/mga/2028-03-31/
LOCATION:St. Johns Golf Club\, 4900 Cypress Links Blvd\, Elkton\, FL\, 32033\, United States
CATEGORIES:Men's Association,Players Groups
ATTACH;FMTTYPE=image/png:https://sjgc.com/wp-content/uploads/2025/05/golf-club-and-golf-ball.png
END:VEVENT
BEGIN:VEVENT
DTSTART;TZID=America/New_York:20280403T070000
DTEND;TZID=America/New_York:20280403T083000
DTSTAMP:20260419T120518
CREATED:20250509T162709Z
LAST-MODIFIED:20250522T185221Z
UID:10002568-1838358000-1838363400@sjgc.com
SUMMARY:Men's Golf Association (MGA)
DESCRIPTION:The Association includes over 100 active members who play year-round on Mondays\, Wednesdays\, and Fridays.
URL:https://sjgc.com/event/mga/2028-04-03/
LOCATION:St. Johns Golf Club\, 4900 Cypress Links Blvd\, Elkton\, FL\, 32033\, United States
CATEGORIES:Men's Association,Players Groups
ATTACH;FMTTYPE=image/png:https://sjgc.com/wp-content/uploads/2025/05/golf-club-and-golf-ball.png
END:VEVENT
BEGIN:VEVENT
DTSTART;TZID=America/New_York:20280405T070000
DTEND;TZID=America/New_York:20280405T083000
DTSTAMP:20260419T120518
CREATED:20250509T162709Z
LAST-MODIFIED:20250522T185221Z
UID:10002569-1838530800-1838536200@sjgc.com
SUMMARY:Men's Golf Association (MGA)
DESCRIPTION:The Association includes over 100 active members who play year-round on Mondays\, Wednesdays\, and Fridays.
URL:https://sjgc.com/event/mga/2028-04-05/
LOCATION:St. Johns Golf Club\, 4900 Cypress Links Blvd\, Elkton\, FL\, 32033\, United States
CATEGORIES:Men's Association,Players Groups
ATTACH;FMTTYPE=image/png:https://sjgc.com/wp-content/uploads/2025/05/golf-club-and-golf-ball.png
END:VEVENT
BEGIN:VEVENT
DTSTART;TZID=America/New_York:20280407T070000
DTEND;TZID=America/New_York:20280407T083000
DTSTAMP:20260419T120518
CREATED:20250509T162709Z
LAST-MODIFIED:20250522T185221Z
UID:10002570-1838703600-1838709000@sjgc.com
SUMMARY:Men's Golf Association (MGA)
DESCRIPTION:The Association includes over 100 active members who play year-round on Mondays\, Wednesdays\, and Fridays.
URL:https://sjgc.com/event/mga/2028-04-07/
LOCATION:St. Johns Golf Club\, 4900 Cypress Links Blvd\, Elkton\, FL\, 32033\, United States
CATEGORIES:Men's Association,Players Groups
ATTACH;FMTTYPE=image/png:https://sjgc.com/wp-content/uploads/2025/05/golf-club-and-golf-ball.png
END:VEVENT
BEGIN:VEVENT
DTSTART;TZID=America/New_York:20280410T070000
DTEND;TZID=America/New_York:20280410T083000
DTSTAMP:20260419T120518
CREATED:20250509T162709Z
LAST-MODIFIED:20250522T185221Z
UID:10002571-1838962800-1838968200@sjgc.com
SUMMARY:Men's Golf Association (MGA)
DESCRIPTION:The Association includes over 100 active members who play year-round on Mondays\, Wednesdays\, and Fridays.
URL:https://sjgc.com/event/mga/2028-04-10/
LOCATION:St. Johns Golf Club\, 4900 Cypress Links Blvd\, Elkton\, FL\, 32033\, United States
CATEGORIES:Men's Association,Players Groups
ATTACH;FMTTYPE=image/png:https://sjgc.com/wp-content/uploads/2025/05/golf-club-and-golf-ball.png
END:VEVENT
BEGIN:VEVENT
DTSTART;TZID=America/New_York:20280412T070000
DTEND;TZID=America/New_York:20280412T083000
DTSTAMP:20260419T120518
CREATED:20250509T162709Z
LAST-MODIFIED:20250522T185221Z
UID:10002572-1839135600-1839141000@sjgc.com
SUMMARY:Men's Golf Association (MGA)
DESCRIPTION:The Association includes over 100 active members who play year-round on Mondays\, Wednesdays\, and Fridays.
URL:https://sjgc.com/event/mga/2028-04-12/
LOCATION:St. Johns Golf Club\, 4900 Cypress Links Blvd\, Elkton\, FL\, 32033\, United States
CATEGORIES:Men's Association,Players Groups
ATTACH;FMTTYPE=image/png:https://sjgc.com/wp-content/uploads/2025/05/golf-club-and-golf-ball.png
END:VEVENT
BEGIN:VEVENT
DTSTART;TZID=America/New_York:20280414T070000
DTEND;TZID=America/New_York:20280414T083000
DTSTAMP:20260419T120518
CREATED:20250509T162709Z
LAST-MODIFIED:20250522T185221Z
UID:10002573-1839308400-1839313800@sjgc.com
SUMMARY:Men's Golf Association (MGA)
DESCRIPTION:The Association includes over 100 active members who play year-round on Mondays\, Wednesdays\, and Fridays.
URL:https://sjgc.com/event/mga/2028-04-14/
LOCATION:St. Johns Golf Club\, 4900 Cypress Links Blvd\, Elkton\, FL\, 32033\, United States
CATEGORIES:Men's Association,Players Groups
ATTACH;FMTTYPE=image/png:https://sjgc.com/wp-content/uploads/2025/05/golf-club-and-golf-ball.png
END:VEVENT
BEGIN:VEVENT
DTSTART;TZID=America/New_York:20280417T070000
DTEND;TZID=America/New_York:20280417T083000
DTSTAMP:20260419T120518
CREATED:20250509T162709Z
LAST-MODIFIED:20250522T185221Z
UID:10002574-1839567600-1839573000@sjgc.com
SUMMARY:Men's Golf Association (MGA)
DESCRIPTION:The Association includes over 100 active members who play year-round on Mondays\, Wednesdays\, and Fridays.
URL:https://sjgc.com/event/mga/2028-04-17/
LOCATION:St. Johns Golf Club\, 4900 Cypress Links Blvd\, Elkton\, FL\, 32033\, United States
CATEGORIES:Men's Association,Players Groups
ATTACH;FMTTYPE=image/png:https://sjgc.com/wp-content/uploads/2025/05/golf-club-and-golf-ball.png
END:VEVENT
BEGIN:VEVENT
DTSTART;TZID=America/New_York:20280419T070000
DTEND;TZID=America/New_York:20280419T083000
DTSTAMP:20260419T120518
CREATED:20250509T162709Z
LAST-MODIFIED:20250522T185221Z
UID:10002575-1839740400-1839745800@sjgc.com
SUMMARY:Men's Golf Association (MGA)
DESCRIPTION:The Association includes over 100 active members who play year-round on Mondays\, Wednesdays\, and Fridays.
URL:https://sjgc.com/event/mga/2028-04-19/
LOCATION:St. Johns Golf Club\, 4900 Cypress Links Blvd\, Elkton\, FL\, 32033\, United States
CATEGORIES:Men's Association,Players Groups
ATTACH;FMTTYPE=image/png:https://sjgc.com/wp-content/uploads/2025/05/golf-club-and-golf-ball.png
END:VEVENT
BEGIN:VEVENT
DTSTART;TZID=America/New_York:20280421T070000
DTEND;TZID=America/New_York:20280421T083000
DTSTAMP:20260419T120518
CREATED:20250509T162709Z
LAST-MODIFIED:20250522T185221Z
UID:10002576-1839913200-1839918600@sjgc.com
SUMMARY:Men's Golf Association (MGA)
DESCRIPTION:The Association includes over 100 active members who play year-round on Mondays\, Wednesdays\, and Fridays.
URL:https://sjgc.com/event/mga/2028-04-21/
LOCATION:St. Johns Golf Club\, 4900 Cypress Links Blvd\, Elkton\, FL\, 32033\, United States
CATEGORIES:Men's Association,Players Groups
ATTACH;FMTTYPE=image/png:https://sjgc.com/wp-content/uploads/2025/05/golf-club-and-golf-ball.png
END:VEVENT
BEGIN:VEVENT
DTSTART;TZID=America/New_York:20280424T070000
DTEND;TZID=America/New_York:20280424T083000
DTSTAMP:20260419T120518
CREATED:20250509T162709Z
LAST-MODIFIED:20250522T185221Z
UID:10002577-1840172400-1840177800@sjgc.com
SUMMARY:Men's Golf Association (MGA)
DESCRIPTION:The Association includes over 100 active members who play year-round on Mondays\, Wednesdays\, and Fridays.
URL:https://sjgc.com/event/mga/2028-04-24/
LOCATION:St. Johns Golf Club\, 4900 Cypress Links Blvd\, Elkton\, FL\, 32033\, United States
CATEGORIES:Men's Association,Players Groups
ATTACH;FMTTYPE=image/png:https://sjgc.com/wp-content/uploads/2025/05/golf-club-and-golf-ball.png
END:VEVENT
BEGIN:VEVENT
DTSTART;TZID=America/New_York:20280426T070000
DTEND;TZID=America/New_York:20280426T083000
DTSTAMP:20260419T120518
CREATED:20250509T162709Z
LAST-MODIFIED:20250522T185221Z
UID:10002578-1840345200-1840350600@sjgc.com
SUMMARY:Men's Golf Association (MGA)
DESCRIPTION:The Association includes over 100 active members who play year-round on Mondays\, Wednesdays\, and Fridays.
URL:https://sjgc.com/event/mga/2028-04-26/
LOCATION:St. Johns Golf Club\, 4900 Cypress Links Blvd\, Elkton\, FL\, 32033\, United States
CATEGORIES:Men's Association,Players Groups
ATTACH;FMTTYPE=image/png:https://sjgc.com/wp-content/uploads/2025/05/golf-club-and-golf-ball.png
END:VEVENT
BEGIN:VEVENT
DTSTART;TZID=America/New_York:20280428T070000
DTEND;TZID=America/New_York:20280428T083000
DTSTAMP:20260419T120518
CREATED:20250509T162709Z
LAST-MODIFIED:20250522T185221Z
UID:10002579-1840518000-1840523400@sjgc.com
SUMMARY:Men's Golf Association (MGA)
DESCRIPTION:The Association includes over 100 active members who play year-round on Mondays\, Wednesdays\, and Fridays.
URL:https://sjgc.com/event/mga/2028-04-28/
LOCATION:St. Johns Golf Club\, 4900 Cypress Links Blvd\, Elkton\, FL\, 32033\, United States
CATEGORIES:Men's Association,Players Groups
ATTACH;FMTTYPE=image/png:https://sjgc.com/wp-content/uploads/2025/05/golf-club-and-golf-ball.png
END:VEVENT
BEGIN:VEVENT
DTSTART;TZID=America/New_York:20280501T070000
DTEND;TZID=America/New_York:20280501T083000
DTSTAMP:20260419T120518
CREATED:20250509T162709Z
LAST-MODIFIED:20250522T185221Z
UID:10002580-1840777200-1840782600@sjgc.com
SUMMARY:Men's Golf Association (MGA)
DESCRIPTION:The Association includes over 100 active members who play year-round on Mondays\, Wednesdays\, and Fridays.
URL:https://sjgc.com/event/mga/2028-05-01/
LOCATION:St. Johns Golf Club\, 4900 Cypress Links Blvd\, Elkton\, FL\, 32033\, United States
CATEGORIES:Men's Association,Players Groups
ATTACH;FMTTYPE=image/png:https://sjgc.com/wp-content/uploads/2025/05/golf-club-and-golf-ball.png
END:VEVENT
BEGIN:VEVENT
DTSTART;TZID=America/New_York:20280503T070000
DTEND;TZID=America/New_York:20280503T083000
DTSTAMP:20260419T120518
CREATED:20250509T162709Z
LAST-MODIFIED:20250522T185221Z
UID:10002581-1840950000-1840955400@sjgc.com
SUMMARY:Men's Golf Association (MGA)
DESCRIPTION:The Association includes over 100 active members who play year-round on Mondays\, Wednesdays\, and Fridays.
URL:https://sjgc.com/event/mga/2028-05-03/
LOCATION:St. Johns Golf Club\, 4900 Cypress Links Blvd\, Elkton\, FL\, 32033\, United States
CATEGORIES:Men's Association,Players Groups
ATTACH;FMTTYPE=image/png:https://sjgc.com/wp-content/uploads/2025/05/golf-club-and-golf-ball.png
END:VEVENT
END:VCALENDAR