BEGIN:VCALENDAR
VERSION:2.0
PRODID:-//St Johns Golf Course - ECPv6.13.2.1//NONSGML v1.0//EN
CALSCALE:GREGORIAN
METHOD:PUBLISH
X-ORIGINAL-URL:https://sjgc.com
X-WR-CALDESC:Events for St Johns Golf Course
REFRESH-INTERVAL;VALUE=DURATION:PT1H
X-Robots-Tag:noindex
X-PUBLISHED-TTL:PT1H
BEGIN:VTIMEZONE
TZID:America/New_York
BEGIN:DAYLIGHT
TZOFFSETFROM:-0500
TZOFFSETTO:-0400
TZNAME:EDT
DTSTART:20280312T070000
END:DAYLIGHT
BEGIN:STANDARD
TZOFFSETFROM:-0400
TZOFFSETTO:-0500
TZNAME:EST
DTSTART:20281105T060000
END:STANDARD
END:VTIMEZONE
BEGIN:VEVENT
DTSTART;TZID=America/New_York:20280714T070000
DTEND;TZID=America/New_York:20280714T083000
DTSTAMP:20260419T210417
CREATED:20250509T162709Z
LAST-MODIFIED:20250522T185221Z
UID:10002612-1847170800-1847176200@sjgc.com
SUMMARY:Men's Golf Association (MGA)
DESCRIPTION:The Association includes over 100 active members who play year-round on Mondays\, Wednesdays\, and Fridays.
URL:https://sjgc.com/event/mga/2028-07-14/
LOCATION:St. Johns Golf Club\, 4900 Cypress Links Blvd\, Elkton\, FL\, 32033\, United States
CATEGORIES:Men's Association,Players Groups
ATTACH;FMTTYPE=image/png:https://sjgc.com/wp-content/uploads/2025/05/golf-club-and-golf-ball.png
END:VEVENT
BEGIN:VEVENT
DTSTART;TZID=America/New_York:20280717T070000
DTEND;TZID=America/New_York:20280717T083000
DTSTAMP:20260419T210417
CREATED:20250509T162709Z
LAST-MODIFIED:20250522T185221Z
UID:10002613-1847430000-1847435400@sjgc.com
SUMMARY:Men's Golf Association (MGA)
DESCRIPTION:The Association includes over 100 active members who play year-round on Mondays\, Wednesdays\, and Fridays.
URL:https://sjgc.com/event/mga/2028-07-17/
LOCATION:St. Johns Golf Club\, 4900 Cypress Links Blvd\, Elkton\, FL\, 32033\, United States
CATEGORIES:Men's Association,Players Groups
ATTACH;FMTTYPE=image/png:https://sjgc.com/wp-content/uploads/2025/05/golf-club-and-golf-ball.png
END:VEVENT
BEGIN:VEVENT
DTSTART;TZID=America/New_York:20280719T070000
DTEND;TZID=America/New_York:20280719T083000
DTSTAMP:20260419T210417
CREATED:20250509T162709Z
LAST-MODIFIED:20250522T185221Z
UID:10002614-1847602800-1847608200@sjgc.com
SUMMARY:Men's Golf Association (MGA)
DESCRIPTION:The Association includes over 100 active members who play year-round on Mondays\, Wednesdays\, and Fridays.
URL:https://sjgc.com/event/mga/2028-07-19/
LOCATION:St. Johns Golf Club\, 4900 Cypress Links Blvd\, Elkton\, FL\, 32033\, United States
CATEGORIES:Men's Association,Players Groups
ATTACH;FMTTYPE=image/png:https://sjgc.com/wp-content/uploads/2025/05/golf-club-and-golf-ball.png
END:VEVENT
BEGIN:VEVENT
DTSTART;TZID=America/New_York:20280721T070000
DTEND;TZID=America/New_York:20280721T083000
DTSTAMP:20260419T210417
CREATED:20250509T162709Z
LAST-MODIFIED:20250522T185221Z
UID:10002615-1847775600-1847781000@sjgc.com
SUMMARY:Men's Golf Association (MGA)
DESCRIPTION:The Association includes over 100 active members who play year-round on Mondays\, Wednesdays\, and Fridays.
URL:https://sjgc.com/event/mga/2028-07-21/
LOCATION:St. Johns Golf Club\, 4900 Cypress Links Blvd\, Elkton\, FL\, 32033\, United States
CATEGORIES:Men's Association,Players Groups
ATTACH;FMTTYPE=image/png:https://sjgc.com/wp-content/uploads/2025/05/golf-club-and-golf-ball.png
END:VEVENT
BEGIN:VEVENT
DTSTART;TZID=America/New_York:20280724T070000
DTEND;TZID=America/New_York:20280724T083000
DTSTAMP:20260419T210417
CREATED:20250509T162709Z
LAST-MODIFIED:20250522T185221Z
UID:10002616-1848034800-1848040200@sjgc.com
SUMMARY:Men's Golf Association (MGA)
DESCRIPTION:The Association includes over 100 active members who play year-round on Mondays\, Wednesdays\, and Fridays.
URL:https://sjgc.com/event/mga/2028-07-24/
LOCATION:St. Johns Golf Club\, 4900 Cypress Links Blvd\, Elkton\, FL\, 32033\, United States
CATEGORIES:Men's Association,Players Groups
ATTACH;FMTTYPE=image/png:https://sjgc.com/wp-content/uploads/2025/05/golf-club-and-golf-ball.png
END:VEVENT
BEGIN:VEVENT
DTSTART;TZID=America/New_York:20280726T070000
DTEND;TZID=America/New_York:20280726T083000
DTSTAMP:20260419T210417
CREATED:20250509T162709Z
LAST-MODIFIED:20250522T185221Z
UID:10002617-1848207600-1848213000@sjgc.com
SUMMARY:Men's Golf Association (MGA)
DESCRIPTION:The Association includes over 100 active members who play year-round on Mondays\, Wednesdays\, and Fridays.
URL:https://sjgc.com/event/mga/2028-07-26/
LOCATION:St. Johns Golf Club\, 4900 Cypress Links Blvd\, Elkton\, FL\, 32033\, United States
CATEGORIES:Men's Association,Players Groups
ATTACH;FMTTYPE=image/png:https://sjgc.com/wp-content/uploads/2025/05/golf-club-and-golf-ball.png
END:VEVENT
BEGIN:VEVENT
DTSTART;TZID=America/New_York:20280728T070000
DTEND;TZID=America/New_York:20280728T083000
DTSTAMP:20260419T210417
CREATED:20250509T162709Z
LAST-MODIFIED:20250522T185221Z
UID:10002618-1848380400-1848385800@sjgc.com
SUMMARY:Men's Golf Association (MGA)
DESCRIPTION:The Association includes over 100 active members who play year-round on Mondays\, Wednesdays\, and Fridays.
URL:https://sjgc.com/event/mga/2028-07-28/
LOCATION:St. Johns Golf Club\, 4900 Cypress Links Blvd\, Elkton\, FL\, 32033\, United States
CATEGORIES:Men's Association,Players Groups
ATTACH;FMTTYPE=image/png:https://sjgc.com/wp-content/uploads/2025/05/golf-club-and-golf-ball.png
END:VEVENT
BEGIN:VEVENT
DTSTART;TZID=America/New_York:20280731T070000
DTEND;TZID=America/New_York:20280731T083000
DTSTAMP:20260419T210417
CREATED:20250509T162709Z
LAST-MODIFIED:20250522T185221Z
UID:10002619-1848639600-1848645000@sjgc.com
SUMMARY:Men's Golf Association (MGA)
DESCRIPTION:The Association includes over 100 active members who play year-round on Mondays\, Wednesdays\, and Fridays.
URL:https://sjgc.com/event/mga/2028-07-31/
LOCATION:St. Johns Golf Club\, 4900 Cypress Links Blvd\, Elkton\, FL\, 32033\, United States
CATEGORIES:Men's Association,Players Groups
ATTACH;FMTTYPE=image/png:https://sjgc.com/wp-content/uploads/2025/05/golf-club-and-golf-ball.png
END:VEVENT
BEGIN:VEVENT
DTSTART;TZID=America/New_York:20280802T070000
DTEND;TZID=America/New_York:20280802T083000
DTSTAMP:20260419T210417
CREATED:20250509T162709Z
LAST-MODIFIED:20250522T185221Z
UID:10002620-1848812400-1848817800@sjgc.com
SUMMARY:Men's Golf Association (MGA)
DESCRIPTION:The Association includes over 100 active members who play year-round on Mondays\, Wednesdays\, and Fridays.
URL:https://sjgc.com/event/mga/2028-08-02/
LOCATION:St. Johns Golf Club\, 4900 Cypress Links Blvd\, Elkton\, FL\, 32033\, United States
CATEGORIES:Men's Association,Players Groups
ATTACH;FMTTYPE=image/png:https://sjgc.com/wp-content/uploads/2025/05/golf-club-and-golf-ball.png
END:VEVENT
BEGIN:VEVENT
DTSTART;TZID=America/New_York:20280804T070000
DTEND;TZID=America/New_York:20280804T083000
DTSTAMP:20260419T210417
CREATED:20250509T162709Z
LAST-MODIFIED:20250522T185221Z
UID:10002621-1848985200-1848990600@sjgc.com
SUMMARY:Men's Golf Association (MGA)
DESCRIPTION:The Association includes over 100 active members who play year-round on Mondays\, Wednesdays\, and Fridays.
URL:https://sjgc.com/event/mga/2028-08-04/
LOCATION:St. Johns Golf Club\, 4900 Cypress Links Blvd\, Elkton\, FL\, 32033\, United States
CATEGORIES:Men's Association,Players Groups
ATTACH;FMTTYPE=image/png:https://sjgc.com/wp-content/uploads/2025/05/golf-club-and-golf-ball.png
END:VEVENT
BEGIN:VEVENT
DTSTART;TZID=America/New_York:20280807T070000
DTEND;TZID=America/New_York:20280807T083000
DTSTAMP:20260419T210417
CREATED:20250509T162709Z
LAST-MODIFIED:20250522T185221Z
UID:10002622-1849244400-1849249800@sjgc.com
SUMMARY:Men's Golf Association (MGA)
DESCRIPTION:The Association includes over 100 active members who play year-round on Mondays\, Wednesdays\, and Fridays.
URL:https://sjgc.com/event/mga/2028-08-07/
LOCATION:St. Johns Golf Club\, 4900 Cypress Links Blvd\, Elkton\, FL\, 32033\, United States
CATEGORIES:Men's Association,Players Groups
ATTACH;FMTTYPE=image/png:https://sjgc.com/wp-content/uploads/2025/05/golf-club-and-golf-ball.png
END:VEVENT
BEGIN:VEVENT
DTSTART;TZID=America/New_York:20280809T070000
DTEND;TZID=America/New_York:20280809T083000
DTSTAMP:20260419T210417
CREATED:20250509T162709Z
LAST-MODIFIED:20250522T185221Z
UID:10002623-1849417200-1849422600@sjgc.com
SUMMARY:Men's Golf Association (MGA)
DESCRIPTION:The Association includes over 100 active members who play year-round on Mondays\, Wednesdays\, and Fridays.
URL:https://sjgc.com/event/mga/2028-08-09/
LOCATION:St. Johns Golf Club\, 4900 Cypress Links Blvd\, Elkton\, FL\, 32033\, United States
CATEGORIES:Men's Association,Players Groups
ATTACH;FMTTYPE=image/png:https://sjgc.com/wp-content/uploads/2025/05/golf-club-and-golf-ball.png
END:VEVENT
BEGIN:VEVENT
DTSTART;TZID=America/New_York:20280811T070000
DTEND;TZID=America/New_York:20280811T083000
DTSTAMP:20260419T210417
CREATED:20250509T162709Z
LAST-MODIFIED:20250522T185221Z
UID:10002624-1849590000-1849595400@sjgc.com
SUMMARY:Men's Golf Association (MGA)
DESCRIPTION:The Association includes over 100 active members who play year-round on Mondays\, Wednesdays\, and Fridays.
URL:https://sjgc.com/event/mga/2028-08-11/
LOCATION:St. Johns Golf Club\, 4900 Cypress Links Blvd\, Elkton\, FL\, 32033\, United States
CATEGORIES:Men's Association,Players Groups
ATTACH;FMTTYPE=image/png:https://sjgc.com/wp-content/uploads/2025/05/golf-club-and-golf-ball.png
END:VEVENT
BEGIN:VEVENT
DTSTART;TZID=America/New_York:20280814T070000
DTEND;TZID=America/New_York:20280814T083000
DTSTAMP:20260419T210417
CREATED:20250509T162709Z
LAST-MODIFIED:20250522T185221Z
UID:10002625-1849849200-1849854600@sjgc.com
SUMMARY:Men's Golf Association (MGA)
DESCRIPTION:The Association includes over 100 active members who play year-round on Mondays\, Wednesdays\, and Fridays.
URL:https://sjgc.com/event/mga/2028-08-14/
LOCATION:St. Johns Golf Club\, 4900 Cypress Links Blvd\, Elkton\, FL\, 32033\, United States
CATEGORIES:Men's Association,Players Groups
ATTACH;FMTTYPE=image/png:https://sjgc.com/wp-content/uploads/2025/05/golf-club-and-golf-ball.png
END:VEVENT
BEGIN:VEVENT
DTSTART;TZID=America/New_York:20280816T070000
DTEND;TZID=America/New_York:20280816T083000
DTSTAMP:20260419T210417
CREATED:20250509T162709Z
LAST-MODIFIED:20250522T185221Z
UID:10002626-1850022000-1850027400@sjgc.com
SUMMARY:Men's Golf Association (MGA)
DESCRIPTION:The Association includes over 100 active members who play year-round on Mondays\, Wednesdays\, and Fridays.
URL:https://sjgc.com/event/mga/2028-08-16/
LOCATION:St. Johns Golf Club\, 4900 Cypress Links Blvd\, Elkton\, FL\, 32033\, United States
CATEGORIES:Men's Association,Players Groups
ATTACH;FMTTYPE=image/png:https://sjgc.com/wp-content/uploads/2025/05/golf-club-and-golf-ball.png
END:VEVENT
BEGIN:VEVENT
DTSTART;TZID=America/New_York:20280818T070000
DTEND;TZID=America/New_York:20280818T083000
DTSTAMP:20260419T210417
CREATED:20250509T162709Z
LAST-MODIFIED:20250522T185221Z
UID:10002627-1850194800-1850200200@sjgc.com
SUMMARY:Men's Golf Association (MGA)
DESCRIPTION:The Association includes over 100 active members who play year-round on Mondays\, Wednesdays\, and Fridays.
URL:https://sjgc.com/event/mga/2028-08-18/
LOCATION:St. Johns Golf Club\, 4900 Cypress Links Blvd\, Elkton\, FL\, 32033\, United States
CATEGORIES:Men's Association,Players Groups
ATTACH;FMTTYPE=image/png:https://sjgc.com/wp-content/uploads/2025/05/golf-club-and-golf-ball.png
END:VEVENT
BEGIN:VEVENT
DTSTART;TZID=America/New_York:20280821T070000
DTEND;TZID=America/New_York:20280821T083000
DTSTAMP:20260419T210417
CREATED:20250509T162709Z
LAST-MODIFIED:20250522T185221Z
UID:10002628-1850454000-1850459400@sjgc.com
SUMMARY:Men's Golf Association (MGA)
DESCRIPTION:The Association includes over 100 active members who play year-round on Mondays\, Wednesdays\, and Fridays.
URL:https://sjgc.com/event/mga/2028-08-21/
LOCATION:St. Johns Golf Club\, 4900 Cypress Links Blvd\, Elkton\, FL\, 32033\, United States
CATEGORIES:Men's Association,Players Groups
ATTACH;FMTTYPE=image/png:https://sjgc.com/wp-content/uploads/2025/05/golf-club-and-golf-ball.png
END:VEVENT
BEGIN:VEVENT
DTSTART;TZID=America/New_York:20280823T070000
DTEND;TZID=America/New_York:20280823T083000
DTSTAMP:20260419T210417
CREATED:20250509T162709Z
LAST-MODIFIED:20250522T185221Z
UID:10002629-1850626800-1850632200@sjgc.com
SUMMARY:Men's Golf Association (MGA)
DESCRIPTION:The Association includes over 100 active members who play year-round on Mondays\, Wednesdays\, and Fridays.
URL:https://sjgc.com/event/mga/2028-08-23/
LOCATION:St. Johns Golf Club\, 4900 Cypress Links Blvd\, Elkton\, FL\, 32033\, United States
CATEGORIES:Men's Association,Players Groups
ATTACH;FMTTYPE=image/png:https://sjgc.com/wp-content/uploads/2025/05/golf-club-and-golf-ball.png
END:VEVENT
BEGIN:VEVENT
DTSTART;TZID=America/New_York:20280825T070000
DTEND;TZID=America/New_York:20280825T083000
DTSTAMP:20260419T210417
CREATED:20250509T162709Z
LAST-MODIFIED:20250522T185221Z
UID:10002630-1850799600-1850805000@sjgc.com
SUMMARY:Men's Golf Association (MGA)
DESCRIPTION:The Association includes over 100 active members who play year-round on Mondays\, Wednesdays\, and Fridays.
URL:https://sjgc.com/event/mga/2028-08-25/
LOCATION:St. Johns Golf Club\, 4900 Cypress Links Blvd\, Elkton\, FL\, 32033\, United States
CATEGORIES:Men's Association,Players Groups
ATTACH;FMTTYPE=image/png:https://sjgc.com/wp-content/uploads/2025/05/golf-club-and-golf-ball.png
END:VEVENT
BEGIN:VEVENT
DTSTART;TZID=America/New_York:20280828T070000
DTEND;TZID=America/New_York:20280828T083000
DTSTAMP:20260419T210417
CREATED:20250509T162709Z
LAST-MODIFIED:20250522T185221Z
UID:10002631-1851058800-1851064200@sjgc.com
SUMMARY:Men's Golf Association (MGA)
DESCRIPTION:The Association includes over 100 active members who play year-round on Mondays\, Wednesdays\, and Fridays.
URL:https://sjgc.com/event/mga/2028-08-28/
LOCATION:St. Johns Golf Club\, 4900 Cypress Links Blvd\, Elkton\, FL\, 32033\, United States
CATEGORIES:Men's Association,Players Groups
ATTACH;FMTTYPE=image/png:https://sjgc.com/wp-content/uploads/2025/05/golf-club-and-golf-ball.png
END:VEVENT
BEGIN:VEVENT
DTSTART;TZID=America/New_York:20280830T070000
DTEND;TZID=America/New_York:20280830T083000
DTSTAMP:20260419T210417
CREATED:20250509T162709Z
LAST-MODIFIED:20250522T185221Z
UID:10002632-1851231600-1851237000@sjgc.com
SUMMARY:Men's Golf Association (MGA)
DESCRIPTION:The Association includes over 100 active members who play year-round on Mondays\, Wednesdays\, and Fridays.
URL:https://sjgc.com/event/mga/2028-08-30/
LOCATION:St. Johns Golf Club\, 4900 Cypress Links Blvd\, Elkton\, FL\, 32033\, United States
CATEGORIES:Men's Association,Players Groups
ATTACH;FMTTYPE=image/png:https://sjgc.com/wp-content/uploads/2025/05/golf-club-and-golf-ball.png
END:VEVENT
BEGIN:VEVENT
DTSTART;TZID=America/New_York:20280901T070000
DTEND;TZID=America/New_York:20280901T083000
DTSTAMP:20260419T210417
CREATED:20250509T162709Z
LAST-MODIFIED:20250522T185221Z
UID:10002633-1851404400-1851409800@sjgc.com
SUMMARY:Men's Golf Association (MGA)
DESCRIPTION:The Association includes over 100 active members who play year-round on Mondays\, Wednesdays\, and Fridays.
URL:https://sjgc.com/event/mga/2028-09-01/
LOCATION:St. Johns Golf Club\, 4900 Cypress Links Blvd\, Elkton\, FL\, 32033\, United States
CATEGORIES:Men's Association,Players Groups
ATTACH;FMTTYPE=image/png:https://sjgc.com/wp-content/uploads/2025/05/golf-club-and-golf-ball.png
END:VEVENT
BEGIN:VEVENT
DTSTART;TZID=America/New_York:20280904T070000
DTEND;TZID=America/New_York:20280904T083000
DTSTAMP:20260419T210417
CREATED:20250509T162709Z
LAST-MODIFIED:20250522T185221Z
UID:10002634-1851663600-1851669000@sjgc.com
SUMMARY:Men's Golf Association (MGA)
DESCRIPTION:The Association includes over 100 active members who play year-round on Mondays\, Wednesdays\, and Fridays.
URL:https://sjgc.com/event/mga/2028-09-04/
LOCATION:St. Johns Golf Club\, 4900 Cypress Links Blvd\, Elkton\, FL\, 32033\, United States
CATEGORIES:Men's Association,Players Groups
ATTACH;FMTTYPE=image/png:https://sjgc.com/wp-content/uploads/2025/05/golf-club-and-golf-ball.png
END:VEVENT
BEGIN:VEVENT
DTSTART;TZID=America/New_York:20280906T070000
DTEND;TZID=America/New_York:20280906T083000
DTSTAMP:20260419T210417
CREATED:20250509T162709Z
LAST-MODIFIED:20250522T185221Z
UID:10002635-1851836400-1851841800@sjgc.com
SUMMARY:Men's Golf Association (MGA)
DESCRIPTION:The Association includes over 100 active members who play year-round on Mondays\, Wednesdays\, and Fridays.
URL:https://sjgc.com/event/mga/2028-09-06/
LOCATION:St. Johns Golf Club\, 4900 Cypress Links Blvd\, Elkton\, FL\, 32033\, United States
CATEGORIES:Men's Association,Players Groups
ATTACH;FMTTYPE=image/png:https://sjgc.com/wp-content/uploads/2025/05/golf-club-and-golf-ball.png
END:VEVENT
BEGIN:VEVENT
DTSTART;TZID=America/New_York:20280908T070000
DTEND;TZID=America/New_York:20280908T083000
DTSTAMP:20260419T210417
CREATED:20250509T162709Z
LAST-MODIFIED:20250522T185221Z
UID:10002636-1852009200-1852014600@sjgc.com
SUMMARY:Men's Golf Association (MGA)
DESCRIPTION:The Association includes over 100 active members who play year-round on Mondays\, Wednesdays\, and Fridays.
URL:https://sjgc.com/event/mga/2028-09-08/
LOCATION:St. Johns Golf Club\, 4900 Cypress Links Blvd\, Elkton\, FL\, 32033\, United States
CATEGORIES:Men's Association,Players Groups
ATTACH;FMTTYPE=image/png:https://sjgc.com/wp-content/uploads/2025/05/golf-club-and-golf-ball.png
END:VEVENT
BEGIN:VEVENT
DTSTART;TZID=America/New_York:20280911T070000
DTEND;TZID=America/New_York:20280911T083000
DTSTAMP:20260419T210417
CREATED:20250509T162709Z
LAST-MODIFIED:20250522T185221Z
UID:10002637-1852268400-1852273800@sjgc.com
SUMMARY:Men's Golf Association (MGA)
DESCRIPTION:The Association includes over 100 active members who play year-round on Mondays\, Wednesdays\, and Fridays.
URL:https://sjgc.com/event/mga/2028-09-11/
LOCATION:St. Johns Golf Club\, 4900 Cypress Links Blvd\, Elkton\, FL\, 32033\, United States
CATEGORIES:Men's Association,Players Groups
ATTACH;FMTTYPE=image/png:https://sjgc.com/wp-content/uploads/2025/05/golf-club-and-golf-ball.png
END:VEVENT
BEGIN:VEVENT
DTSTART;TZID=America/New_York:20280913T070000
DTEND;TZID=America/New_York:20280913T083000
DTSTAMP:20260419T210418
CREATED:20250509T162709Z
LAST-MODIFIED:20250522T185221Z
UID:10002638-1852441200-1852446600@sjgc.com
SUMMARY:Men's Golf Association (MGA)
DESCRIPTION:The Association includes over 100 active members who play year-round on Mondays\, Wednesdays\, and Fridays.
URL:https://sjgc.com/event/mga/2028-09-13/
LOCATION:St. Johns Golf Club\, 4900 Cypress Links Blvd\, Elkton\, FL\, 32033\, United States
CATEGORIES:Men's Association,Players Groups
ATTACH;FMTTYPE=image/png:https://sjgc.com/wp-content/uploads/2025/05/golf-club-and-golf-ball.png
END:VEVENT
BEGIN:VEVENT
DTSTART;TZID=America/New_York:20280915T070000
DTEND;TZID=America/New_York:20280915T083000
DTSTAMP:20260419T210418
CREATED:20250509T162709Z
LAST-MODIFIED:20250522T185221Z
UID:10002639-1852614000-1852619400@sjgc.com
SUMMARY:Men's Golf Association (MGA)
DESCRIPTION:The Association includes over 100 active members who play year-round on Mondays\, Wednesdays\, and Fridays.
URL:https://sjgc.com/event/mga/2028-09-15/
LOCATION:St. Johns Golf Club\, 4900 Cypress Links Blvd\, Elkton\, FL\, 32033\, United States
CATEGORIES:Men's Association,Players Groups
ATTACH;FMTTYPE=image/png:https://sjgc.com/wp-content/uploads/2025/05/golf-club-and-golf-ball.png
END:VEVENT
BEGIN:VEVENT
DTSTART;TZID=America/New_York:20280918T070000
DTEND;TZID=America/New_York:20280918T083000
DTSTAMP:20260419T210418
CREATED:20250509T162709Z
LAST-MODIFIED:20250522T185221Z
UID:10002640-1852873200-1852878600@sjgc.com
SUMMARY:Men's Golf Association (MGA)
DESCRIPTION:The Association includes over 100 active members who play year-round on Mondays\, Wednesdays\, and Fridays.
URL:https://sjgc.com/event/mga/2028-09-18/
LOCATION:St. Johns Golf Club\, 4900 Cypress Links Blvd\, Elkton\, FL\, 32033\, United States
CATEGORIES:Men's Association,Players Groups
ATTACH;FMTTYPE=image/png:https://sjgc.com/wp-content/uploads/2025/05/golf-club-and-golf-ball.png
END:VEVENT
BEGIN:VEVENT
DTSTART;TZID=America/New_York:20280920T070000
DTEND;TZID=America/New_York:20280920T083000
DTSTAMP:20260419T210418
CREATED:20250509T162709Z
LAST-MODIFIED:20250522T185221Z
UID:10002641-1853046000-1853051400@sjgc.com
SUMMARY:Men's Golf Association (MGA)
DESCRIPTION:The Association includes over 100 active members who play year-round on Mondays\, Wednesdays\, and Fridays.
URL:https://sjgc.com/event/mga/2028-09-20/
LOCATION:St. Johns Golf Club\, 4900 Cypress Links Blvd\, Elkton\, FL\, 32033\, United States
CATEGORIES:Men's Association,Players Groups
ATTACH;FMTTYPE=image/png:https://sjgc.com/wp-content/uploads/2025/05/golf-club-and-golf-ball.png
END:VEVENT
END:VCALENDAR