BEGIN:VCALENDAR
VERSION:2.0
PRODID:-//St Johns Golf Course - ECPv6.13.2.1//NONSGML v1.0//EN
CALSCALE:GREGORIAN
METHOD:PUBLISH
X-WR-CALNAME:St Johns Golf Course
X-ORIGINAL-URL:https://sjgc.com
X-WR-CALDESC:Events for St Johns Golf Course
REFRESH-INTERVAL;VALUE=DURATION:PT1H
X-Robots-Tag:noindex
X-PUBLISHED-TTL:PT1H
BEGIN:VTIMEZONE
TZID:America/New_York
BEGIN:DAYLIGHT
TZOFFSETFROM:-0500
TZOFFSETTO:-0400
TZNAME:EDT
DTSTART:20290311T070000
END:DAYLIGHT
BEGIN:STANDARD
TZOFFSETFROM:-0400
TZOFFSETTO:-0500
TZNAME:EST
DTSTART:20291104T060000
END:STANDARD
END:VTIMEZONE
BEGIN:VEVENT
DTSTART;TZID=America/New_York:20290330T070000
DTEND;TZID=America/New_York:20290330T083000
DTSTAMP:20260420T134943
CREATED:20250509T162709Z
LAST-MODIFIED:20250522T185221Z
UID:10002723-1869548400-1869553800@sjgc.com
SUMMARY:Men's Golf Association (MGA)
DESCRIPTION:The Association includes over 100 active members who play year-round on Mondays\, Wednesdays\, and Fridays.
URL:https://sjgc.com/event/mga/2029-03-30/
LOCATION:St. Johns Golf Club\, 4900 Cypress Links Blvd\, Elkton\, FL\, 32033\, United States
CATEGORIES:Men's Association,Players Groups
ATTACH;FMTTYPE=image/png:https://sjgc.com/wp-content/uploads/2025/05/golf-club-and-golf-ball.png
END:VEVENT
BEGIN:VEVENT
DTSTART;TZID=America/New_York:20290402T070000
DTEND;TZID=America/New_York:20290402T083000
DTSTAMP:20260420T134943
CREATED:20250509T162709Z
LAST-MODIFIED:20250522T185221Z
UID:10002724-1869807600-1869813000@sjgc.com
SUMMARY:Men's Golf Association (MGA)
DESCRIPTION:The Association includes over 100 active members who play year-round on Mondays\, Wednesdays\, and Fridays.
URL:https://sjgc.com/event/mga/2029-04-02/
LOCATION:St. Johns Golf Club\, 4900 Cypress Links Blvd\, Elkton\, FL\, 32033\, United States
CATEGORIES:Men's Association,Players Groups
ATTACH;FMTTYPE=image/png:https://sjgc.com/wp-content/uploads/2025/05/golf-club-and-golf-ball.png
END:VEVENT
BEGIN:VEVENT
DTSTART;TZID=America/New_York:20290404T070000
DTEND;TZID=America/New_York:20290404T083000
DTSTAMP:20260420T134943
CREATED:20250509T162709Z
LAST-MODIFIED:20250522T185221Z
UID:10002725-1869980400-1869985800@sjgc.com
SUMMARY:Men's Golf Association (MGA)
DESCRIPTION:The Association includes over 100 active members who play year-round on Mondays\, Wednesdays\, and Fridays.
URL:https://sjgc.com/event/mga/2029-04-04/
LOCATION:St. Johns Golf Club\, 4900 Cypress Links Blvd\, Elkton\, FL\, 32033\, United States
CATEGORIES:Men's Association,Players Groups
ATTACH;FMTTYPE=image/png:https://sjgc.com/wp-content/uploads/2025/05/golf-club-and-golf-ball.png
END:VEVENT
BEGIN:VEVENT
DTSTART;TZID=America/New_York:20290406T070000
DTEND;TZID=America/New_York:20290406T083000
DTSTAMP:20260420T134943
CREATED:20250509T162709Z
LAST-MODIFIED:20250522T185221Z
UID:10002726-1870153200-1870158600@sjgc.com
SUMMARY:Men's Golf Association (MGA)
DESCRIPTION:The Association includes over 100 active members who play year-round on Mondays\, Wednesdays\, and Fridays.
URL:https://sjgc.com/event/mga/2029-04-06/
LOCATION:St. Johns Golf Club\, 4900 Cypress Links Blvd\, Elkton\, FL\, 32033\, United States
CATEGORIES:Men's Association,Players Groups
ATTACH;FMTTYPE=image/png:https://sjgc.com/wp-content/uploads/2025/05/golf-club-and-golf-ball.png
END:VEVENT
BEGIN:VEVENT
DTSTART;TZID=America/New_York:20290409T070000
DTEND;TZID=America/New_York:20290409T083000
DTSTAMP:20260420T134943
CREATED:20250509T162709Z
LAST-MODIFIED:20250522T185221Z
UID:10002727-1870412400-1870417800@sjgc.com
SUMMARY:Men's Golf Association (MGA)
DESCRIPTION:The Association includes over 100 active members who play year-round on Mondays\, Wednesdays\, and Fridays.
URL:https://sjgc.com/event/mga/2029-04-09/
LOCATION:St. Johns Golf Club\, 4900 Cypress Links Blvd\, Elkton\, FL\, 32033\, United States
CATEGORIES:Men's Association,Players Groups
ATTACH;FMTTYPE=image/png:https://sjgc.com/wp-content/uploads/2025/05/golf-club-and-golf-ball.png
END:VEVENT
BEGIN:VEVENT
DTSTART;TZID=America/New_York:20290411T070000
DTEND;TZID=America/New_York:20290411T083000
DTSTAMP:20260420T134943
CREATED:20250509T162709Z
LAST-MODIFIED:20250522T185221Z
UID:10002728-1870585200-1870590600@sjgc.com
SUMMARY:Men's Golf Association (MGA)
DESCRIPTION:The Association includes over 100 active members who play year-round on Mondays\, Wednesdays\, and Fridays.
URL:https://sjgc.com/event/mga/2029-04-11/
LOCATION:St. Johns Golf Club\, 4900 Cypress Links Blvd\, Elkton\, FL\, 32033\, United States
CATEGORIES:Men's Association,Players Groups
ATTACH;FMTTYPE=image/png:https://sjgc.com/wp-content/uploads/2025/05/golf-club-and-golf-ball.png
END:VEVENT
BEGIN:VEVENT
DTSTART;TZID=America/New_York:20290413T070000
DTEND;TZID=America/New_York:20290413T083000
DTSTAMP:20260420T134943
CREATED:20250509T162709Z
LAST-MODIFIED:20250522T185221Z
UID:10002729-1870758000-1870763400@sjgc.com
SUMMARY:Men's Golf Association (MGA)
DESCRIPTION:The Association includes over 100 active members who play year-round on Mondays\, Wednesdays\, and Fridays.
URL:https://sjgc.com/event/mga/2029-04-13/
LOCATION:St. Johns Golf Club\, 4900 Cypress Links Blvd\, Elkton\, FL\, 32033\, United States
CATEGORIES:Men's Association,Players Groups
ATTACH;FMTTYPE=image/png:https://sjgc.com/wp-content/uploads/2025/05/golf-club-and-golf-ball.png
END:VEVENT
BEGIN:VEVENT
DTSTART;TZID=America/New_York:20290416T070000
DTEND;TZID=America/New_York:20290416T083000
DTSTAMP:20260420T134943
CREATED:20250509T162709Z
LAST-MODIFIED:20250522T185221Z
UID:10002730-1871017200-1871022600@sjgc.com
SUMMARY:Men's Golf Association (MGA)
DESCRIPTION:The Association includes over 100 active members who play year-round on Mondays\, Wednesdays\, and Fridays.
URL:https://sjgc.com/event/mga/2029-04-16/
LOCATION:St. Johns Golf Club\, 4900 Cypress Links Blvd\, Elkton\, FL\, 32033\, United States
CATEGORIES:Men's Association,Players Groups
ATTACH;FMTTYPE=image/png:https://sjgc.com/wp-content/uploads/2025/05/golf-club-and-golf-ball.png
END:VEVENT
BEGIN:VEVENT
DTSTART;TZID=America/New_York:20290418T070000
DTEND;TZID=America/New_York:20290418T083000
DTSTAMP:20260420T134943
CREATED:20250509T162709Z
LAST-MODIFIED:20250522T185221Z
UID:10002731-1871190000-1871195400@sjgc.com
SUMMARY:Men's Golf Association (MGA)
DESCRIPTION:The Association includes over 100 active members who play year-round on Mondays\, Wednesdays\, and Fridays.
URL:https://sjgc.com/event/mga/2029-04-18/
LOCATION:St. Johns Golf Club\, 4900 Cypress Links Blvd\, Elkton\, FL\, 32033\, United States
CATEGORIES:Men's Association,Players Groups
ATTACH;FMTTYPE=image/png:https://sjgc.com/wp-content/uploads/2025/05/golf-club-and-golf-ball.png
END:VEVENT
BEGIN:VEVENT
DTSTART;TZID=America/New_York:20290420T070000
DTEND;TZID=America/New_York:20290420T083000
DTSTAMP:20260420T134943
CREATED:20250509T162709Z
LAST-MODIFIED:20250522T185221Z
UID:10002732-1871362800-1871368200@sjgc.com
SUMMARY:Men's Golf Association (MGA)
DESCRIPTION:The Association includes over 100 active members who play year-round on Mondays\, Wednesdays\, and Fridays.
URL:https://sjgc.com/event/mga/2029-04-20/
LOCATION:St. Johns Golf Club\, 4900 Cypress Links Blvd\, Elkton\, FL\, 32033\, United States
CATEGORIES:Men's Association,Players Groups
ATTACH;FMTTYPE=image/png:https://sjgc.com/wp-content/uploads/2025/05/golf-club-and-golf-ball.png
END:VEVENT
BEGIN:VEVENT
DTSTART;TZID=America/New_York:20290423T070000
DTEND;TZID=America/New_York:20290423T083000
DTSTAMP:20260420T134943
CREATED:20250509T162709Z
LAST-MODIFIED:20250522T185221Z
UID:10002733-1871622000-1871627400@sjgc.com
SUMMARY:Men's Golf Association (MGA)
DESCRIPTION:The Association includes over 100 active members who play year-round on Mondays\, Wednesdays\, and Fridays.
URL:https://sjgc.com/event/mga/2029-04-23/
LOCATION:St. Johns Golf Club\, 4900 Cypress Links Blvd\, Elkton\, FL\, 32033\, United States
CATEGORIES:Men's Association,Players Groups
ATTACH;FMTTYPE=image/png:https://sjgc.com/wp-content/uploads/2025/05/golf-club-and-golf-ball.png
END:VEVENT
BEGIN:VEVENT
DTSTART;TZID=America/New_York:20290425T070000
DTEND;TZID=America/New_York:20290425T083000
DTSTAMP:20260420T134943
CREATED:20250509T162709Z
LAST-MODIFIED:20250522T185221Z
UID:10002734-1871794800-1871800200@sjgc.com
SUMMARY:Men's Golf Association (MGA)
DESCRIPTION:The Association includes over 100 active members who play year-round on Mondays\, Wednesdays\, and Fridays.
URL:https://sjgc.com/event/mga/2029-04-25/
LOCATION:St. Johns Golf Club\, 4900 Cypress Links Blvd\, Elkton\, FL\, 32033\, United States
CATEGORIES:Men's Association,Players Groups
ATTACH;FMTTYPE=image/png:https://sjgc.com/wp-content/uploads/2025/05/golf-club-and-golf-ball.png
END:VEVENT
BEGIN:VEVENT
DTSTART;TZID=America/New_York:20290427T070000
DTEND;TZID=America/New_York:20290427T083000
DTSTAMP:20260420T134943
CREATED:20250509T162709Z
LAST-MODIFIED:20250522T185221Z
UID:10002735-1871967600-1871973000@sjgc.com
SUMMARY:Men's Golf Association (MGA)
DESCRIPTION:The Association includes over 100 active members who play year-round on Mondays\, Wednesdays\, and Fridays.
URL:https://sjgc.com/event/mga/2029-04-27/
LOCATION:St. Johns Golf Club\, 4900 Cypress Links Blvd\, Elkton\, FL\, 32033\, United States
CATEGORIES:Men's Association,Players Groups
ATTACH;FMTTYPE=image/png:https://sjgc.com/wp-content/uploads/2025/05/golf-club-and-golf-ball.png
END:VEVENT
BEGIN:VEVENT
DTSTART;TZID=America/New_York:20290430T070000
DTEND;TZID=America/New_York:20290430T083000
DTSTAMP:20260420T134943
CREATED:20250509T162709Z
LAST-MODIFIED:20250522T185221Z
UID:10002736-1872226800-1872232200@sjgc.com
SUMMARY:Men's Golf Association (MGA)
DESCRIPTION:The Association includes over 100 active members who play year-round on Mondays\, Wednesdays\, and Fridays.
URL:https://sjgc.com/event/mga/2029-04-30/
LOCATION:St. Johns Golf Club\, 4900 Cypress Links Blvd\, Elkton\, FL\, 32033\, United States
CATEGORIES:Men's Association,Players Groups
ATTACH;FMTTYPE=image/png:https://sjgc.com/wp-content/uploads/2025/05/golf-club-and-golf-ball.png
END:VEVENT
BEGIN:VEVENT
DTSTART;TZID=America/New_York:20290502T070000
DTEND;TZID=America/New_York:20290502T083000
DTSTAMP:20260420T134943
CREATED:20250509T162709Z
LAST-MODIFIED:20250522T185221Z
UID:10002737-1872399600-1872405000@sjgc.com
SUMMARY:Men's Golf Association (MGA)
DESCRIPTION:The Association includes over 100 active members who play year-round on Mondays\, Wednesdays\, and Fridays.
URL:https://sjgc.com/event/mga/2029-05-02/
LOCATION:St. Johns Golf Club\, 4900 Cypress Links Blvd\, Elkton\, FL\, 32033\, United States
CATEGORIES:Men's Association,Players Groups
ATTACH;FMTTYPE=image/png:https://sjgc.com/wp-content/uploads/2025/05/golf-club-and-golf-ball.png
END:VEVENT
BEGIN:VEVENT
DTSTART;TZID=America/New_York:20290504T070000
DTEND;TZID=America/New_York:20290504T083000
DTSTAMP:20260420T134943
CREATED:20250509T162709Z
LAST-MODIFIED:20250522T185221Z
UID:10002738-1872572400-1872577800@sjgc.com
SUMMARY:Men's Golf Association (MGA)
DESCRIPTION:The Association includes over 100 active members who play year-round on Mondays\, Wednesdays\, and Fridays.
URL:https://sjgc.com/event/mga/2029-05-04/
LOCATION:St. Johns Golf Club\, 4900 Cypress Links Blvd\, Elkton\, FL\, 32033\, United States
CATEGORIES:Men's Association,Players Groups
ATTACH;FMTTYPE=image/png:https://sjgc.com/wp-content/uploads/2025/05/golf-club-and-golf-ball.png
END:VEVENT
BEGIN:VEVENT
DTSTART;TZID=America/New_York:20290507T070000
DTEND;TZID=America/New_York:20290507T083000
DTSTAMP:20260420T134944
CREATED:20250509T162709Z
LAST-MODIFIED:20250522T185221Z
UID:10002739-1872831600-1872837000@sjgc.com
SUMMARY:Men's Golf Association (MGA)
DESCRIPTION:The Association includes over 100 active members who play year-round on Mondays\, Wednesdays\, and Fridays.
URL:https://sjgc.com/event/mga/2029-05-07/
LOCATION:St. Johns Golf Club\, 4900 Cypress Links Blvd\, Elkton\, FL\, 32033\, United States
CATEGORIES:Men's Association,Players Groups
ATTACH;FMTTYPE=image/png:https://sjgc.com/wp-content/uploads/2025/05/golf-club-and-golf-ball.png
END:VEVENT
BEGIN:VEVENT
DTSTART;TZID=America/New_York:20290509T070000
DTEND;TZID=America/New_York:20290509T083000
DTSTAMP:20260420T134944
CREATED:20250509T162709Z
LAST-MODIFIED:20250522T185221Z
UID:10002740-1873004400-1873009800@sjgc.com
SUMMARY:Men's Golf Association (MGA)
DESCRIPTION:The Association includes over 100 active members who play year-round on Mondays\, Wednesdays\, and Fridays.
URL:https://sjgc.com/event/mga/2029-05-09/
LOCATION:St. Johns Golf Club\, 4900 Cypress Links Blvd\, Elkton\, FL\, 32033\, United States
CATEGORIES:Men's Association,Players Groups
ATTACH;FMTTYPE=image/png:https://sjgc.com/wp-content/uploads/2025/05/golf-club-and-golf-ball.png
END:VEVENT
BEGIN:VEVENT
DTSTART;TZID=America/New_York:20290511T070000
DTEND;TZID=America/New_York:20290511T083000
DTSTAMP:20260420T134944
CREATED:20250509T162709Z
LAST-MODIFIED:20250522T185221Z
UID:10002741-1873177200-1873182600@sjgc.com
SUMMARY:Men's Golf Association (MGA)
DESCRIPTION:The Association includes over 100 active members who play year-round on Mondays\, Wednesdays\, and Fridays.
URL:https://sjgc.com/event/mga/2029-05-11/
LOCATION:St. Johns Golf Club\, 4900 Cypress Links Blvd\, Elkton\, FL\, 32033\, United States
CATEGORIES:Men's Association,Players Groups
ATTACH;FMTTYPE=image/png:https://sjgc.com/wp-content/uploads/2025/05/golf-club-and-golf-ball.png
END:VEVENT
BEGIN:VEVENT
DTSTART;TZID=America/New_York:20290514T070000
DTEND;TZID=America/New_York:20290514T083000
DTSTAMP:20260420T134944
CREATED:20250509T162709Z
LAST-MODIFIED:20250522T185221Z
UID:10002742-1873436400-1873441800@sjgc.com
SUMMARY:Men's Golf Association (MGA)
DESCRIPTION:The Association includes over 100 active members who play year-round on Mondays\, Wednesdays\, and Fridays.
URL:https://sjgc.com/event/mga/2029-05-14/
LOCATION:St. Johns Golf Club\, 4900 Cypress Links Blvd\, Elkton\, FL\, 32033\, United States
CATEGORIES:Men's Association,Players Groups
ATTACH;FMTTYPE=image/png:https://sjgc.com/wp-content/uploads/2025/05/golf-club-and-golf-ball.png
END:VEVENT
BEGIN:VEVENT
DTSTART;TZID=America/New_York:20290516T070000
DTEND;TZID=America/New_York:20290516T083000
DTSTAMP:20260420T134944
CREATED:20250509T162709Z
LAST-MODIFIED:20250522T185221Z
UID:10002743-1873609200-1873614600@sjgc.com
SUMMARY:Men's Golf Association (MGA)
DESCRIPTION:The Association includes over 100 active members who play year-round on Mondays\, Wednesdays\, and Fridays.
URL:https://sjgc.com/event/mga/2029-05-16/
LOCATION:St. Johns Golf Club\, 4900 Cypress Links Blvd\, Elkton\, FL\, 32033\, United States
CATEGORIES:Men's Association,Players Groups
ATTACH;FMTTYPE=image/png:https://sjgc.com/wp-content/uploads/2025/05/golf-club-and-golf-ball.png
END:VEVENT
BEGIN:VEVENT
DTSTART;TZID=America/New_York:20290518T070000
DTEND;TZID=America/New_York:20290518T083000
DTSTAMP:20260420T134944
CREATED:20250509T162709Z
LAST-MODIFIED:20250522T185221Z
UID:10002744-1873782000-1873787400@sjgc.com
SUMMARY:Men's Golf Association (MGA)
DESCRIPTION:The Association includes over 100 active members who play year-round on Mondays\, Wednesdays\, and Fridays.
URL:https://sjgc.com/event/mga/2029-05-18/
LOCATION:St. Johns Golf Club\, 4900 Cypress Links Blvd\, Elkton\, FL\, 32033\, United States
CATEGORIES:Men's Association,Players Groups
ATTACH;FMTTYPE=image/png:https://sjgc.com/wp-content/uploads/2025/05/golf-club-and-golf-ball.png
END:VEVENT
BEGIN:VEVENT
DTSTART;TZID=America/New_York:20290521T070000
DTEND;TZID=America/New_York:20290521T083000
DTSTAMP:20260420T134944
CREATED:20250509T162709Z
LAST-MODIFIED:20250522T185221Z
UID:10002745-1874041200-1874046600@sjgc.com
SUMMARY:Men's Golf Association (MGA)
DESCRIPTION:The Association includes over 100 active members who play year-round on Mondays\, Wednesdays\, and Fridays.
URL:https://sjgc.com/event/mga/2029-05-21/
LOCATION:St. Johns Golf Club\, 4900 Cypress Links Blvd\, Elkton\, FL\, 32033\, United States
CATEGORIES:Men's Association,Players Groups
ATTACH;FMTTYPE=image/png:https://sjgc.com/wp-content/uploads/2025/05/golf-club-and-golf-ball.png
END:VEVENT
BEGIN:VEVENT
DTSTART;TZID=America/New_York:20290523T070000
DTEND;TZID=America/New_York:20290523T083000
DTSTAMP:20260420T134944
CREATED:20250509T162709Z
LAST-MODIFIED:20250522T185221Z
UID:10002746-1874214000-1874219400@sjgc.com
SUMMARY:Men's Golf Association (MGA)
DESCRIPTION:The Association includes over 100 active members who play year-round on Mondays\, Wednesdays\, and Fridays.
URL:https://sjgc.com/event/mga/2029-05-23/
LOCATION:St. Johns Golf Club\, 4900 Cypress Links Blvd\, Elkton\, FL\, 32033\, United States
CATEGORIES:Men's Association,Players Groups
ATTACH;FMTTYPE=image/png:https://sjgc.com/wp-content/uploads/2025/05/golf-club-and-golf-ball.png
END:VEVENT
BEGIN:VEVENT
DTSTART;TZID=America/New_York:20290525T070000
DTEND;TZID=America/New_York:20290525T083000
DTSTAMP:20260420T134944
CREATED:20250509T162709Z
LAST-MODIFIED:20250522T185221Z
UID:10002747-1874386800-1874392200@sjgc.com
SUMMARY:Men's Golf Association (MGA)
DESCRIPTION:The Association includes over 100 active members who play year-round on Mondays\, Wednesdays\, and Fridays.
URL:https://sjgc.com/event/mga/2029-05-25/
LOCATION:St. Johns Golf Club\, 4900 Cypress Links Blvd\, Elkton\, FL\, 32033\, United States
CATEGORIES:Men's Association,Players Groups
ATTACH;FMTTYPE=image/png:https://sjgc.com/wp-content/uploads/2025/05/golf-club-and-golf-ball.png
END:VEVENT
BEGIN:VEVENT
DTSTART;TZID=America/New_York:20290528T070000
DTEND;TZID=America/New_York:20290528T083000
DTSTAMP:20260420T134944
CREATED:20250509T162709Z
LAST-MODIFIED:20250522T185221Z
UID:10002748-1874646000-1874651400@sjgc.com
SUMMARY:Men's Golf Association (MGA)
DESCRIPTION:The Association includes over 100 active members who play year-round on Mondays\, Wednesdays\, and Fridays.
URL:https://sjgc.com/event/mga/2029-05-28/
LOCATION:St. Johns Golf Club\, 4900 Cypress Links Blvd\, Elkton\, FL\, 32033\, United States
CATEGORIES:Men's Association,Players Groups
ATTACH;FMTTYPE=image/png:https://sjgc.com/wp-content/uploads/2025/05/golf-club-and-golf-ball.png
END:VEVENT
BEGIN:VEVENT
DTSTART;TZID=America/New_York:20290530T070000
DTEND;TZID=America/New_York:20290530T083000
DTSTAMP:20260420T134944
CREATED:20250509T162709Z
LAST-MODIFIED:20250522T185221Z
UID:10002749-1874818800-1874824200@sjgc.com
SUMMARY:Men's Golf Association (MGA)
DESCRIPTION:The Association includes over 100 active members who play year-round on Mondays\, Wednesdays\, and Fridays.
URL:https://sjgc.com/event/mga/2029-05-30/
LOCATION:St. Johns Golf Club\, 4900 Cypress Links Blvd\, Elkton\, FL\, 32033\, United States
CATEGORIES:Men's Association,Players Groups
ATTACH;FMTTYPE=image/png:https://sjgc.com/wp-content/uploads/2025/05/golf-club-and-golf-ball.png
END:VEVENT
BEGIN:VEVENT
DTSTART;TZID=America/New_York:20290601T070000
DTEND;TZID=America/New_York:20290601T083000
DTSTAMP:20260420T134944
CREATED:20250509T162709Z
LAST-MODIFIED:20250522T185221Z
UID:10002750-1874991600-1874997000@sjgc.com
SUMMARY:Men's Golf Association (MGA)
DESCRIPTION:The Association includes over 100 active members who play year-round on Mondays\, Wednesdays\, and Fridays.
URL:https://sjgc.com/event/mga/2029-06-01/
LOCATION:St. Johns Golf Club\, 4900 Cypress Links Blvd\, Elkton\, FL\, 32033\, United States
CATEGORIES:Men's Association,Players Groups
ATTACH;FMTTYPE=image/png:https://sjgc.com/wp-content/uploads/2025/05/golf-club-and-golf-ball.png
END:VEVENT
BEGIN:VEVENT
DTSTART;TZID=America/New_York:20290604T070000
DTEND;TZID=America/New_York:20290604T083000
DTSTAMP:20260420T134944
CREATED:20250509T162709Z
LAST-MODIFIED:20250522T185221Z
UID:10002751-1875250800-1875256200@sjgc.com
SUMMARY:Men's Golf Association (MGA)
DESCRIPTION:The Association includes over 100 active members who play year-round on Mondays\, Wednesdays\, and Fridays.
URL:https://sjgc.com/event/mga/2029-06-04/
LOCATION:St. Johns Golf Club\, 4900 Cypress Links Blvd\, Elkton\, FL\, 32033\, United States
CATEGORIES:Men's Association,Players Groups
ATTACH;FMTTYPE=image/png:https://sjgc.com/wp-content/uploads/2025/05/golf-club-and-golf-ball.png
END:VEVENT
BEGIN:VEVENT
DTSTART;TZID=America/New_York:20290606T070000
DTEND;TZID=America/New_York:20290606T083000
DTSTAMP:20260420T134944
CREATED:20250509T162709Z
LAST-MODIFIED:20250522T185221Z
UID:10002752-1875423600-1875429000@sjgc.com
SUMMARY:Men's Golf Association (MGA)
DESCRIPTION:The Association includes over 100 active members who play year-round on Mondays\, Wednesdays\, and Fridays.
URL:https://sjgc.com/event/mga/2029-06-06/
LOCATION:St. Johns Golf Club\, 4900 Cypress Links Blvd\, Elkton\, FL\, 32033\, United States
CATEGORIES:Men's Association,Players Groups
ATTACH;FMTTYPE=image/png:https://sjgc.com/wp-content/uploads/2025/05/golf-club-and-golf-ball.png
END:VEVENT
END:VCALENDAR