BEGIN:VCALENDAR
VERSION:2.0
PRODID:-//St Johns Golf Course - ECPv6.13.2.1//NONSGML v1.0//EN
CALSCALE:GREGORIAN
METHOD:PUBLISH
X-ORIGINAL-URL:https://sjgc.com
X-WR-CALDESC:Events for St Johns Golf Course
REFRESH-INTERVAL;VALUE=DURATION:PT1H
X-Robots-Tag:noindex
X-PUBLISHED-TTL:PT1H
BEGIN:VTIMEZONE
TZID:America/New_York
BEGIN:DAYLIGHT
TZOFFSETFROM:-0500
TZOFFSETTO:-0400
TZNAME:EDT
DTSTART:20260308T070000
END:DAYLIGHT
BEGIN:STANDARD
TZOFFSETFROM:-0400
TZOFFSETTO:-0500
TZNAME:EST
DTSTART:20261101T060000
END:STANDARD
BEGIN:DAYLIGHT
TZOFFSETFROM:-0500
TZOFFSETTO:-0400
TZNAME:EDT
DTSTART:20270314T070000
END:DAYLIGHT
BEGIN:STANDARD
TZOFFSETFROM:-0400
TZOFFSETTO:-0500
TZNAME:EST
DTSTART:20271107T060000
END:STANDARD
END:VTIMEZONE
BEGIN:VEVENT
DTSTART;TZID=America/New_York:20261017T070000
DTEND;TZID=America/New_York:20261017T074500
DTSTAMP:20260424T100910
CREATED:20250509T180230Z
LAST-MODIFIED:20250522T125432Z
UID:10007174-1792220400-1792223100@sjgc.com
SUMMARY:Skins Group
DESCRIPTION:Plays Thursdays and Saturdays year-round.
URL:https://sjgc.com/event/skins-group/2026-10-17/
LOCATION:St. Johns Golf Club\, 4900 Cypress Links Blvd\, Elkton\, FL\, 32033\, United States
CATEGORIES:Players Groups,Skins Group
ATTACH;FMTTYPE=image/jpeg:https://sjgc.com/wp-content/uploads/2025/03/golfballs-600.jpg
END:VEVENT
BEGIN:VEVENT
DTSTART;TZID=America/New_York:20261022T070000
DTEND;TZID=America/New_York:20261022T074500
DTSTAMP:20260424T100910
CREATED:20250509T180230Z
LAST-MODIFIED:20250522T125432Z
UID:10007175-1792652400-1792655100@sjgc.com
SUMMARY:Skins Group
DESCRIPTION:Plays Thursdays and Saturdays year-round.
URL:https://sjgc.com/event/skins-group/2026-10-22/
LOCATION:St. Johns Golf Club\, 4900 Cypress Links Blvd\, Elkton\, FL\, 32033\, United States
CATEGORIES:Players Groups,Skins Group
ATTACH;FMTTYPE=image/jpeg:https://sjgc.com/wp-content/uploads/2025/03/golfballs-600.jpg
END:VEVENT
BEGIN:VEVENT
DTSTART;TZID=America/New_York:20261024T070000
DTEND;TZID=America/New_York:20261024T074500
DTSTAMP:20260424T100910
CREATED:20250509T180230Z
LAST-MODIFIED:20250522T125432Z
UID:10007176-1792825200-1792827900@sjgc.com
SUMMARY:Skins Group
DESCRIPTION:Plays Thursdays and Saturdays year-round.
URL:https://sjgc.com/event/skins-group/2026-10-24/
LOCATION:St. Johns Golf Club\, 4900 Cypress Links Blvd\, Elkton\, FL\, 32033\, United States
CATEGORIES:Players Groups,Skins Group
ATTACH;FMTTYPE=image/jpeg:https://sjgc.com/wp-content/uploads/2025/03/golfballs-600.jpg
END:VEVENT
BEGIN:VEVENT
DTSTART;TZID=America/New_York:20261029T070000
DTEND;TZID=America/New_York:20261029T074500
DTSTAMP:20260424T100910
CREATED:20250509T180230Z
LAST-MODIFIED:20250522T125432Z
UID:10007177-1793257200-1793259900@sjgc.com
SUMMARY:Skins Group
DESCRIPTION:Plays Thursdays and Saturdays year-round.
URL:https://sjgc.com/event/skins-group/2026-10-29/
LOCATION:St. Johns Golf Club\, 4900 Cypress Links Blvd\, Elkton\, FL\, 32033\, United States
CATEGORIES:Players Groups,Skins Group
ATTACH;FMTTYPE=image/jpeg:https://sjgc.com/wp-content/uploads/2025/03/golfballs-600.jpg
END:VEVENT
BEGIN:VEVENT
DTSTART;TZID=America/New_York:20261031T070000
DTEND;TZID=America/New_York:20261031T074500
DTSTAMP:20260424T100910
CREATED:20250509T180230Z
LAST-MODIFIED:20250522T125432Z
UID:10007178-1793430000-1793432700@sjgc.com
SUMMARY:Skins Group
DESCRIPTION:Plays Thursdays and Saturdays year-round.
URL:https://sjgc.com/event/skins-group/2026-10-31/
LOCATION:St. Johns Golf Club\, 4900 Cypress Links Blvd\, Elkton\, FL\, 32033\, United States
CATEGORIES:Players Groups,Skins Group
ATTACH;FMTTYPE=image/jpeg:https://sjgc.com/wp-content/uploads/2025/03/golfballs-600.jpg
END:VEVENT
BEGIN:VEVENT
DTSTART;TZID=America/New_York:20261105T070000
DTEND;TZID=America/New_York:20261105T074500
DTSTAMP:20260424T100910
CREATED:20250509T180230Z
LAST-MODIFIED:20250522T125432Z
UID:10007179-1793862000-1793864700@sjgc.com
SUMMARY:Skins Group
DESCRIPTION:Plays Thursdays and Saturdays year-round.
URL:https://sjgc.com/event/skins-group/2026-11-05/
LOCATION:St. Johns Golf Club\, 4900 Cypress Links Blvd\, Elkton\, FL\, 32033\, United States
CATEGORIES:Players Groups,Skins Group
ATTACH;FMTTYPE=image/jpeg:https://sjgc.com/wp-content/uploads/2025/03/golfballs-600.jpg
END:VEVENT
BEGIN:VEVENT
DTSTART;TZID=America/New_York:20261107T070000
DTEND;TZID=America/New_York:20261107T074500
DTSTAMP:20260424T100910
CREATED:20250509T180230Z
LAST-MODIFIED:20250522T125432Z
UID:10007180-1794034800-1794037500@sjgc.com
SUMMARY:Skins Group
DESCRIPTION:Plays Thursdays and Saturdays year-round.
URL:https://sjgc.com/event/skins-group/2026-11-07/
LOCATION:St. Johns Golf Club\, 4900 Cypress Links Blvd\, Elkton\, FL\, 32033\, United States
CATEGORIES:Players Groups,Skins Group
ATTACH;FMTTYPE=image/jpeg:https://sjgc.com/wp-content/uploads/2025/03/golfballs-600.jpg
END:VEVENT
BEGIN:VEVENT
DTSTART;TZID=America/New_York:20261112T070000
DTEND;TZID=America/New_York:20261112T074500
DTSTAMP:20260424T100910
CREATED:20250509T180230Z
LAST-MODIFIED:20250522T125432Z
UID:10007181-1794466800-1794469500@sjgc.com
SUMMARY:Skins Group
DESCRIPTION:Plays Thursdays and Saturdays year-round.
URL:https://sjgc.com/event/skins-group/2026-11-12/
LOCATION:St. Johns Golf Club\, 4900 Cypress Links Blvd\, Elkton\, FL\, 32033\, United States
CATEGORIES:Players Groups,Skins Group
ATTACH;FMTTYPE=image/jpeg:https://sjgc.com/wp-content/uploads/2025/03/golfballs-600.jpg
END:VEVENT
BEGIN:VEVENT
DTSTART;TZID=America/New_York:20261114T070000
DTEND;TZID=America/New_York:20261114T074500
DTSTAMP:20260424T100910
CREATED:20250509T180230Z
LAST-MODIFIED:20250522T125432Z
UID:10007182-1794639600-1794642300@sjgc.com
SUMMARY:Skins Group
DESCRIPTION:Plays Thursdays and Saturdays year-round.
URL:https://sjgc.com/event/skins-group/2026-11-14/
LOCATION:St. Johns Golf Club\, 4900 Cypress Links Blvd\, Elkton\, FL\, 32033\, United States
CATEGORIES:Players Groups,Skins Group
ATTACH;FMTTYPE=image/jpeg:https://sjgc.com/wp-content/uploads/2025/03/golfballs-600.jpg
END:VEVENT
BEGIN:VEVENT
DTSTART;TZID=America/New_York:20261119T070000
DTEND;TZID=America/New_York:20261119T074500
DTSTAMP:20260424T100910
CREATED:20250509T180230Z
LAST-MODIFIED:20250522T125432Z
UID:10007183-1795071600-1795074300@sjgc.com
SUMMARY:Skins Group
DESCRIPTION:Plays Thursdays and Saturdays year-round.
URL:https://sjgc.com/event/skins-group/2026-11-19/
LOCATION:St. Johns Golf Club\, 4900 Cypress Links Blvd\, Elkton\, FL\, 32033\, United States
CATEGORIES:Players Groups,Skins Group
ATTACH;FMTTYPE=image/jpeg:https://sjgc.com/wp-content/uploads/2025/03/golfballs-600.jpg
END:VEVENT
BEGIN:VEVENT
DTSTART;TZID=America/New_York:20261121T070000
DTEND;TZID=America/New_York:20261121T074500
DTSTAMP:20260424T100910
CREATED:20250509T180230Z
LAST-MODIFIED:20250522T125432Z
UID:10007184-1795244400-1795247100@sjgc.com
SUMMARY:Skins Group
DESCRIPTION:Plays Thursdays and Saturdays year-round.
URL:https://sjgc.com/event/skins-group/2026-11-21/
LOCATION:St. Johns Golf Club\, 4900 Cypress Links Blvd\, Elkton\, FL\, 32033\, United States
CATEGORIES:Players Groups,Skins Group
ATTACH;FMTTYPE=image/jpeg:https://sjgc.com/wp-content/uploads/2025/03/golfballs-600.jpg
END:VEVENT
BEGIN:VEVENT
DTSTART;TZID=America/New_York:20261126T070000
DTEND;TZID=America/New_York:20261126T074500
DTSTAMP:20260424T100910
CREATED:20250509T180230Z
LAST-MODIFIED:20250522T125432Z
UID:10007185-1795676400-1795679100@sjgc.com
SUMMARY:Skins Group
DESCRIPTION:Plays Thursdays and Saturdays year-round.
URL:https://sjgc.com/event/skins-group/2026-11-26/
LOCATION:St. Johns Golf Club\, 4900 Cypress Links Blvd\, Elkton\, FL\, 32033\, United States
CATEGORIES:Players Groups,Skins Group
ATTACH;FMTTYPE=image/jpeg:https://sjgc.com/wp-content/uploads/2025/03/golfballs-600.jpg
END:VEVENT
BEGIN:VEVENT
DTSTART;TZID=America/New_York:20261128T070000
DTEND;TZID=America/New_York:20261128T074500
DTSTAMP:20260424T100910
CREATED:20250509T180230Z
LAST-MODIFIED:20250522T125432Z
UID:10007186-1795849200-1795851900@sjgc.com
SUMMARY:Skins Group
DESCRIPTION:Plays Thursdays and Saturdays year-round.
URL:https://sjgc.com/event/skins-group/2026-11-28/
LOCATION:St. Johns Golf Club\, 4900 Cypress Links Blvd\, Elkton\, FL\, 32033\, United States
CATEGORIES:Players Groups,Skins Group
ATTACH;FMTTYPE=image/jpeg:https://sjgc.com/wp-content/uploads/2025/03/golfballs-600.jpg
END:VEVENT
BEGIN:VEVENT
DTSTART;TZID=America/New_York:20261203T070000
DTEND;TZID=America/New_York:20261203T074500
DTSTAMP:20260424T100910
CREATED:20250509T180230Z
LAST-MODIFIED:20250522T125432Z
UID:10007187-1796281200-1796283900@sjgc.com
SUMMARY:Skins Group
DESCRIPTION:Plays Thursdays and Saturdays year-round.
URL:https://sjgc.com/event/skins-group/2026-12-03/
LOCATION:St. Johns Golf Club\, 4900 Cypress Links Blvd\, Elkton\, FL\, 32033\, United States
CATEGORIES:Players Groups,Skins Group
ATTACH;FMTTYPE=image/jpeg:https://sjgc.com/wp-content/uploads/2025/03/golfballs-600.jpg
END:VEVENT
BEGIN:VEVENT
DTSTART;TZID=America/New_York:20261205T070000
DTEND;TZID=America/New_York:20261205T074500
DTSTAMP:20260424T100910
CREATED:20250509T180230Z
LAST-MODIFIED:20250522T125432Z
UID:10007188-1796454000-1796456700@sjgc.com
SUMMARY:Skins Group
DESCRIPTION:Plays Thursdays and Saturdays year-round.
URL:https://sjgc.com/event/skins-group/2026-12-05/
LOCATION:St. Johns Golf Club\, 4900 Cypress Links Blvd\, Elkton\, FL\, 32033\, United States
CATEGORIES:Players Groups,Skins Group
ATTACH;FMTTYPE=image/jpeg:https://sjgc.com/wp-content/uploads/2025/03/golfballs-600.jpg
END:VEVENT
BEGIN:VEVENT
DTSTART;TZID=America/New_York:20261210T070000
DTEND;TZID=America/New_York:20261210T074500
DTSTAMP:20260424T100910
CREATED:20250509T180230Z
LAST-MODIFIED:20250522T125432Z
UID:10007189-1796886000-1796888700@sjgc.com
SUMMARY:Skins Group
DESCRIPTION:Plays Thursdays and Saturdays year-round.
URL:https://sjgc.com/event/skins-group/2026-12-10/
LOCATION:St. Johns Golf Club\, 4900 Cypress Links Blvd\, Elkton\, FL\, 32033\, United States
CATEGORIES:Players Groups,Skins Group
ATTACH;FMTTYPE=image/jpeg:https://sjgc.com/wp-content/uploads/2025/03/golfballs-600.jpg
END:VEVENT
BEGIN:VEVENT
DTSTART;TZID=America/New_York:20261212T070000
DTEND;TZID=America/New_York:20261212T074500
DTSTAMP:20260424T100910
CREATED:20250509T180230Z
LAST-MODIFIED:20250522T125432Z
UID:10007190-1797058800-1797061500@sjgc.com
SUMMARY:Skins Group
DESCRIPTION:Plays Thursdays and Saturdays year-round.
URL:https://sjgc.com/event/skins-group/2026-12-12/
LOCATION:St. Johns Golf Club\, 4900 Cypress Links Blvd\, Elkton\, FL\, 32033\, United States
CATEGORIES:Players Groups,Skins Group
ATTACH;FMTTYPE=image/jpeg:https://sjgc.com/wp-content/uploads/2025/03/golfballs-600.jpg
END:VEVENT
BEGIN:VEVENT
DTSTART;TZID=America/New_York:20261217T070000
DTEND;TZID=America/New_York:20261217T074500
DTSTAMP:20260424T100910
CREATED:20250509T180230Z
LAST-MODIFIED:20250522T125432Z
UID:10007191-1797490800-1797493500@sjgc.com
SUMMARY:Skins Group
DESCRIPTION:Plays Thursdays and Saturdays year-round.
URL:https://sjgc.com/event/skins-group/2026-12-17/
LOCATION:St. Johns Golf Club\, 4900 Cypress Links Blvd\, Elkton\, FL\, 32033\, United States
CATEGORIES:Players Groups,Skins Group
ATTACH;FMTTYPE=image/jpeg:https://sjgc.com/wp-content/uploads/2025/03/golfballs-600.jpg
END:VEVENT
BEGIN:VEVENT
DTSTART;TZID=America/New_York:20261219T070000
DTEND;TZID=America/New_York:20261219T074500
DTSTAMP:20260424T100910
CREATED:20250509T180230Z
LAST-MODIFIED:20250522T125432Z
UID:10007192-1797663600-1797666300@sjgc.com
SUMMARY:Skins Group
DESCRIPTION:Plays Thursdays and Saturdays year-round.
URL:https://sjgc.com/event/skins-group/2026-12-19/
LOCATION:St. Johns Golf Club\, 4900 Cypress Links Blvd\, Elkton\, FL\, 32033\, United States
CATEGORIES:Players Groups,Skins Group
ATTACH;FMTTYPE=image/jpeg:https://sjgc.com/wp-content/uploads/2025/03/golfballs-600.jpg
END:VEVENT
BEGIN:VEVENT
DTSTART;TZID=America/New_York:20261224T070000
DTEND;TZID=America/New_York:20261224T074500
DTSTAMP:20260424T100910
CREATED:20250509T180230Z
LAST-MODIFIED:20250522T125432Z
UID:10007193-1798095600-1798098300@sjgc.com
SUMMARY:Skins Group
DESCRIPTION:Plays Thursdays and Saturdays year-round.
URL:https://sjgc.com/event/skins-group/2026-12-24/
LOCATION:St. Johns Golf Club\, 4900 Cypress Links Blvd\, Elkton\, FL\, 32033\, United States
CATEGORIES:Players Groups,Skins Group
ATTACH;FMTTYPE=image/jpeg:https://sjgc.com/wp-content/uploads/2025/03/golfballs-600.jpg
END:VEVENT
BEGIN:VEVENT
DTSTART;TZID=America/New_York:20261226T070000
DTEND;TZID=America/New_York:20261226T074500
DTSTAMP:20260424T100910
CREATED:20250509T180230Z
LAST-MODIFIED:20250522T125432Z
UID:10007194-1798268400-1798271100@sjgc.com
SUMMARY:Skins Group
DESCRIPTION:Plays Thursdays and Saturdays year-round.
URL:https://sjgc.com/event/skins-group/2026-12-26/
LOCATION:St. Johns Golf Club\, 4900 Cypress Links Blvd\, Elkton\, FL\, 32033\, United States
CATEGORIES:Players Groups,Skins Group
ATTACH;FMTTYPE=image/jpeg:https://sjgc.com/wp-content/uploads/2025/03/golfballs-600.jpg
END:VEVENT
BEGIN:VEVENT
DTSTART;TZID=America/New_York:20261231T070000
DTEND;TZID=America/New_York:20261231T074500
DTSTAMP:20260424T100910
CREATED:20250509T180230Z
LAST-MODIFIED:20250522T125432Z
UID:10007195-1798700400-1798703100@sjgc.com
SUMMARY:Skins Group
DESCRIPTION:Plays Thursdays and Saturdays year-round.
URL:https://sjgc.com/event/skins-group/2026-12-31/
LOCATION:St. Johns Golf Club\, 4900 Cypress Links Blvd\, Elkton\, FL\, 32033\, United States
CATEGORIES:Players Groups,Skins Group
ATTACH;FMTTYPE=image/jpeg:https://sjgc.com/wp-content/uploads/2025/03/golfballs-600.jpg
END:VEVENT
BEGIN:VEVENT
DTSTART;TZID=America/New_York:20270102T070000
DTEND;TZID=America/New_York:20270102T074500
DTSTAMP:20260424T100910
CREATED:20250509T180230Z
LAST-MODIFIED:20250522T125432Z
UID:10007196-1798873200-1798875900@sjgc.com
SUMMARY:Skins Group
DESCRIPTION:Plays Thursdays and Saturdays year-round.
URL:https://sjgc.com/event/skins-group/2027-01-02/
LOCATION:St. Johns Golf Club\, 4900 Cypress Links Blvd\, Elkton\, FL\, 32033\, United States
CATEGORIES:Players Groups,Skins Group
ATTACH;FMTTYPE=image/jpeg:https://sjgc.com/wp-content/uploads/2025/03/golfballs-600.jpg
END:VEVENT
BEGIN:VEVENT
DTSTART;TZID=America/New_York:20270107T070000
DTEND;TZID=America/New_York:20270107T074500
DTSTAMP:20260424T100910
CREATED:20250509T180230Z
LAST-MODIFIED:20250522T125432Z
UID:10007197-1799305200-1799307900@sjgc.com
SUMMARY:Skins Group
DESCRIPTION:Plays Thursdays and Saturdays year-round.
URL:https://sjgc.com/event/skins-group/2027-01-07/
LOCATION:St. Johns Golf Club\, 4900 Cypress Links Blvd\, Elkton\, FL\, 32033\, United States
CATEGORIES:Players Groups,Skins Group
ATTACH;FMTTYPE=image/jpeg:https://sjgc.com/wp-content/uploads/2025/03/golfballs-600.jpg
END:VEVENT
BEGIN:VEVENT
DTSTART;TZID=America/New_York:20270109T070000
DTEND;TZID=America/New_York:20270109T074500
DTSTAMP:20260424T100910
CREATED:20250509T180230Z
LAST-MODIFIED:20250522T125432Z
UID:10007198-1799478000-1799480700@sjgc.com
SUMMARY:Skins Group
DESCRIPTION:Plays Thursdays and Saturdays year-round.
URL:https://sjgc.com/event/skins-group/2027-01-09/
LOCATION:St. Johns Golf Club\, 4900 Cypress Links Blvd\, Elkton\, FL\, 32033\, United States
CATEGORIES:Players Groups,Skins Group
ATTACH;FMTTYPE=image/jpeg:https://sjgc.com/wp-content/uploads/2025/03/golfballs-600.jpg
END:VEVENT
BEGIN:VEVENT
DTSTART;TZID=America/New_York:20270114T070000
DTEND;TZID=America/New_York:20270114T074500
DTSTAMP:20260424T100910
CREATED:20250509T180230Z
LAST-MODIFIED:20250522T125432Z
UID:10007199-1799910000-1799912700@sjgc.com
SUMMARY:Skins Group
DESCRIPTION:Plays Thursdays and Saturdays year-round.
URL:https://sjgc.com/event/skins-group/2027-01-14/
LOCATION:St. Johns Golf Club\, 4900 Cypress Links Blvd\, Elkton\, FL\, 32033\, United States
CATEGORIES:Players Groups,Skins Group
ATTACH;FMTTYPE=image/jpeg:https://sjgc.com/wp-content/uploads/2025/03/golfballs-600.jpg
END:VEVENT
BEGIN:VEVENT
DTSTART;TZID=America/New_York:20270116T070000
DTEND;TZID=America/New_York:20270116T074500
DTSTAMP:20260424T100910
CREATED:20250509T180230Z
LAST-MODIFIED:20250522T125432Z
UID:10007200-1800082800-1800085500@sjgc.com
SUMMARY:Skins Group
DESCRIPTION:Plays Thursdays and Saturdays year-round.
URL:https://sjgc.com/event/skins-group/2027-01-16/
LOCATION:St. Johns Golf Club\, 4900 Cypress Links Blvd\, Elkton\, FL\, 32033\, United States
CATEGORIES:Players Groups,Skins Group
ATTACH;FMTTYPE=image/jpeg:https://sjgc.com/wp-content/uploads/2025/03/golfballs-600.jpg
END:VEVENT
BEGIN:VEVENT
DTSTART;TZID=America/New_York:20270121T070000
DTEND;TZID=America/New_York:20270121T074500
DTSTAMP:20260424T100910
CREATED:20250509T180230Z
LAST-MODIFIED:20250522T125432Z
UID:10007201-1800514800-1800517500@sjgc.com
SUMMARY:Skins Group
DESCRIPTION:Plays Thursdays and Saturdays year-round.
URL:https://sjgc.com/event/skins-group/2027-01-21/
LOCATION:St. Johns Golf Club\, 4900 Cypress Links Blvd\, Elkton\, FL\, 32033\, United States
CATEGORIES:Players Groups,Skins Group
ATTACH;FMTTYPE=image/jpeg:https://sjgc.com/wp-content/uploads/2025/03/golfballs-600.jpg
END:VEVENT
BEGIN:VEVENT
DTSTART;TZID=America/New_York:20270123T070000
DTEND;TZID=America/New_York:20270123T074500
DTSTAMP:20260424T100910
CREATED:20250509T180230Z
LAST-MODIFIED:20250522T125432Z
UID:10007202-1800687600-1800690300@sjgc.com
SUMMARY:Skins Group
DESCRIPTION:Plays Thursdays and Saturdays year-round.
URL:https://sjgc.com/event/skins-group/2027-01-23/
LOCATION:St. Johns Golf Club\, 4900 Cypress Links Blvd\, Elkton\, FL\, 32033\, United States
CATEGORIES:Players Groups,Skins Group
ATTACH;FMTTYPE=image/jpeg:https://sjgc.com/wp-content/uploads/2025/03/golfballs-600.jpg
END:VEVENT
BEGIN:VEVENT
DTSTART;TZID=America/New_York:20270128T070000
DTEND;TZID=America/New_York:20270128T074500
DTSTAMP:20260424T100910
CREATED:20250509T180230Z
LAST-MODIFIED:20250522T125432Z
UID:10007203-1801119600-1801122300@sjgc.com
SUMMARY:Skins Group
DESCRIPTION:Plays Thursdays and Saturdays year-round.
URL:https://sjgc.com/event/skins-group/2027-01-28/
LOCATION:St. Johns Golf Club\, 4900 Cypress Links Blvd\, Elkton\, FL\, 32033\, United States
CATEGORIES:Players Groups,Skins Group
ATTACH;FMTTYPE=image/jpeg:https://sjgc.com/wp-content/uploads/2025/03/golfballs-600.jpg
END:VEVENT
END:VCALENDAR