BEGIN:VCALENDAR
VERSION:2.0
PRODID:-//St Johns Golf Course - ECPv6.13.2.1//NONSGML v1.0//EN
CALSCALE:GREGORIAN
METHOD:PUBLISH
X-ORIGINAL-URL:https://sjgc.com
X-WR-CALDESC:Events for St Johns Golf Course
REFRESH-INTERVAL;VALUE=DURATION:PT1H
X-Robots-Tag:noindex
X-PUBLISHED-TTL:PT1H
BEGIN:VTIMEZONE
TZID:America/New_York
BEGIN:DAYLIGHT
TZOFFSETFROM:-0500
TZOFFSETTO:-0400
TZNAME:EDT
DTSTART:20300310T070000
END:DAYLIGHT
BEGIN:STANDARD
TZOFFSETFROM:-0400
TZOFFSETTO:-0500
TZNAME:EST
DTSTART:20301103T060000
END:STANDARD
END:VTIMEZONE
BEGIN:VEVENT
DTSTART;TZID=America/New_York:20300315T070000
DTEND;TZID=America/New_York:20300315T083000
DTSTAMP:20260421T123246
CREATED:20250509T162709Z
LAST-MODIFIED:20250522T185221Z
UID:10002873-1899788400-1899793800@sjgc.com
SUMMARY:Men's Golf Association (MGA)
DESCRIPTION:The Association includes over 100 active members who play year-round on Mondays\, Wednesdays\, and Fridays.
URL:https://sjgc.com/event/mga/2030-03-15/
LOCATION:St. Johns Golf Club\, 4900 Cypress Links Blvd\, Elkton\, FL\, 32033\, United States
CATEGORIES:Men's Association,Players Groups
ATTACH;FMTTYPE=image/png:https://sjgc.com/wp-content/uploads/2025/05/golf-club-and-golf-ball.png
END:VEVENT
BEGIN:VEVENT
DTSTART;TZID=America/New_York:20300318T070000
DTEND;TZID=America/New_York:20300318T083000
DTSTAMP:20260421T123246
CREATED:20250509T162709Z
LAST-MODIFIED:20250522T185221Z
UID:10002874-1900047600-1900053000@sjgc.com
SUMMARY:Men's Golf Association (MGA)
DESCRIPTION:The Association includes over 100 active members who play year-round on Mondays\, Wednesdays\, and Fridays.
URL:https://sjgc.com/event/mga/2030-03-18/
LOCATION:St. Johns Golf Club\, 4900 Cypress Links Blvd\, Elkton\, FL\, 32033\, United States
CATEGORIES:Men's Association,Players Groups
ATTACH;FMTTYPE=image/png:https://sjgc.com/wp-content/uploads/2025/05/golf-club-and-golf-ball.png
END:VEVENT
BEGIN:VEVENT
DTSTART;TZID=America/New_York:20300320T070000
DTEND;TZID=America/New_York:20300320T083000
DTSTAMP:20260421T123246
CREATED:20250509T162709Z
LAST-MODIFIED:20250522T185221Z
UID:10002875-1900220400-1900225800@sjgc.com
SUMMARY:Men's Golf Association (MGA)
DESCRIPTION:The Association includes over 100 active members who play year-round on Mondays\, Wednesdays\, and Fridays.
URL:https://sjgc.com/event/mga/2030-03-20/
LOCATION:St. Johns Golf Club\, 4900 Cypress Links Blvd\, Elkton\, FL\, 32033\, United States
CATEGORIES:Men's Association,Players Groups
ATTACH;FMTTYPE=image/png:https://sjgc.com/wp-content/uploads/2025/05/golf-club-and-golf-ball.png
END:VEVENT
BEGIN:VEVENT
DTSTART;TZID=America/New_York:20300322T070000
DTEND;TZID=America/New_York:20300322T083000
DTSTAMP:20260421T123246
CREATED:20250509T162709Z
LAST-MODIFIED:20250522T185221Z
UID:10002876-1900393200-1900398600@sjgc.com
SUMMARY:Men's Golf Association (MGA)
DESCRIPTION:The Association includes over 100 active members who play year-round on Mondays\, Wednesdays\, and Fridays.
URL:https://sjgc.com/event/mga/2030-03-22/
LOCATION:St. Johns Golf Club\, 4900 Cypress Links Blvd\, Elkton\, FL\, 32033\, United States
CATEGORIES:Men's Association,Players Groups
ATTACH;FMTTYPE=image/png:https://sjgc.com/wp-content/uploads/2025/05/golf-club-and-golf-ball.png
END:VEVENT
BEGIN:VEVENT
DTSTART;TZID=America/New_York:20300325T070000
DTEND;TZID=America/New_York:20300325T083000
DTSTAMP:20260421T123246
CREATED:20250509T162709Z
LAST-MODIFIED:20250522T185221Z
UID:10002877-1900652400-1900657800@sjgc.com
SUMMARY:Men's Golf Association (MGA)
DESCRIPTION:The Association includes over 100 active members who play year-round on Mondays\, Wednesdays\, and Fridays.
URL:https://sjgc.com/event/mga/2030-03-25/
LOCATION:St. Johns Golf Club\, 4900 Cypress Links Blvd\, Elkton\, FL\, 32033\, United States
CATEGORIES:Men's Association,Players Groups
ATTACH;FMTTYPE=image/png:https://sjgc.com/wp-content/uploads/2025/05/golf-club-and-golf-ball.png
END:VEVENT
BEGIN:VEVENT
DTSTART;TZID=America/New_York:20300327T070000
DTEND;TZID=America/New_York:20300327T083000
DTSTAMP:20260421T123246
CREATED:20250509T162709Z
LAST-MODIFIED:20250522T185221Z
UID:10002878-1900825200-1900830600@sjgc.com
SUMMARY:Men's Golf Association (MGA)
DESCRIPTION:The Association includes over 100 active members who play year-round on Mondays\, Wednesdays\, and Fridays.
URL:https://sjgc.com/event/mga/2030-03-27/
LOCATION:St. Johns Golf Club\, 4900 Cypress Links Blvd\, Elkton\, FL\, 32033\, United States
CATEGORIES:Men's Association,Players Groups
ATTACH;FMTTYPE=image/png:https://sjgc.com/wp-content/uploads/2025/05/golf-club-and-golf-ball.png
END:VEVENT
BEGIN:VEVENT
DTSTART;TZID=America/New_York:20300329T070000
DTEND;TZID=America/New_York:20300329T083000
DTSTAMP:20260421T123246
CREATED:20250509T162709Z
LAST-MODIFIED:20250522T185221Z
UID:10002879-1900998000-1901003400@sjgc.com
SUMMARY:Men's Golf Association (MGA)
DESCRIPTION:The Association includes over 100 active members who play year-round on Mondays\, Wednesdays\, and Fridays.
URL:https://sjgc.com/event/mga/2030-03-29/
LOCATION:St. Johns Golf Club\, 4900 Cypress Links Blvd\, Elkton\, FL\, 32033\, United States
CATEGORIES:Men's Association,Players Groups
ATTACH;FMTTYPE=image/png:https://sjgc.com/wp-content/uploads/2025/05/golf-club-and-golf-ball.png
END:VEVENT
BEGIN:VEVENT
DTSTART;TZID=America/New_York:20300401T070000
DTEND;TZID=America/New_York:20300401T083000
DTSTAMP:20260421T123246
CREATED:20250509T162709Z
LAST-MODIFIED:20250522T185221Z
UID:10002880-1901257200-1901262600@sjgc.com
SUMMARY:Men's Golf Association (MGA)
DESCRIPTION:The Association includes over 100 active members who play year-round on Mondays\, Wednesdays\, and Fridays.
URL:https://sjgc.com/event/mga/2030-04-01/
LOCATION:St. Johns Golf Club\, 4900 Cypress Links Blvd\, Elkton\, FL\, 32033\, United States
CATEGORIES:Men's Association,Players Groups
ATTACH;FMTTYPE=image/png:https://sjgc.com/wp-content/uploads/2025/05/golf-club-and-golf-ball.png
END:VEVENT
BEGIN:VEVENT
DTSTART;TZID=America/New_York:20300403T070000
DTEND;TZID=America/New_York:20300403T083000
DTSTAMP:20260421T123246
CREATED:20250509T162709Z
LAST-MODIFIED:20250522T185221Z
UID:10002881-1901430000-1901435400@sjgc.com
SUMMARY:Men's Golf Association (MGA)
DESCRIPTION:The Association includes over 100 active members who play year-round on Mondays\, Wednesdays\, and Fridays.
URL:https://sjgc.com/event/mga/2030-04-03/
LOCATION:St. Johns Golf Club\, 4900 Cypress Links Blvd\, Elkton\, FL\, 32033\, United States
CATEGORIES:Men's Association,Players Groups
ATTACH;FMTTYPE=image/png:https://sjgc.com/wp-content/uploads/2025/05/golf-club-and-golf-ball.png
END:VEVENT
BEGIN:VEVENT
DTSTART;TZID=America/New_York:20300405T070000
DTEND;TZID=America/New_York:20300405T083000
DTSTAMP:20260421T123246
CREATED:20250509T162709Z
LAST-MODIFIED:20250522T185221Z
UID:10002882-1901602800-1901608200@sjgc.com
SUMMARY:Men's Golf Association (MGA)
DESCRIPTION:The Association includes over 100 active members who play year-round on Mondays\, Wednesdays\, and Fridays.
URL:https://sjgc.com/event/mga/2030-04-05/
LOCATION:St. Johns Golf Club\, 4900 Cypress Links Blvd\, Elkton\, FL\, 32033\, United States
CATEGORIES:Men's Association,Players Groups
ATTACH;FMTTYPE=image/png:https://sjgc.com/wp-content/uploads/2025/05/golf-club-and-golf-ball.png
END:VEVENT
BEGIN:VEVENT
DTSTART;TZID=America/New_York:20300408T070000
DTEND;TZID=America/New_York:20300408T083000
DTSTAMP:20260421T123246
CREATED:20250509T162709Z
LAST-MODIFIED:20250522T185221Z
UID:10002883-1901862000-1901867400@sjgc.com
SUMMARY:Men's Golf Association (MGA)
DESCRIPTION:The Association includes over 100 active members who play year-round on Mondays\, Wednesdays\, and Fridays.
URL:https://sjgc.com/event/mga/2030-04-08/
LOCATION:St. Johns Golf Club\, 4900 Cypress Links Blvd\, Elkton\, FL\, 32033\, United States
CATEGORIES:Men's Association,Players Groups
ATTACH;FMTTYPE=image/png:https://sjgc.com/wp-content/uploads/2025/05/golf-club-and-golf-ball.png
END:VEVENT
BEGIN:VEVENT
DTSTART;TZID=America/New_York:20300410T070000
DTEND;TZID=America/New_York:20300410T083000
DTSTAMP:20260421T123246
CREATED:20250509T162709Z
LAST-MODIFIED:20250522T185221Z
UID:10002884-1902034800-1902040200@sjgc.com
SUMMARY:Men's Golf Association (MGA)
DESCRIPTION:The Association includes over 100 active members who play year-round on Mondays\, Wednesdays\, and Fridays.
URL:https://sjgc.com/event/mga/2030-04-10/
LOCATION:St. Johns Golf Club\, 4900 Cypress Links Blvd\, Elkton\, FL\, 32033\, United States
CATEGORIES:Men's Association,Players Groups
ATTACH;FMTTYPE=image/png:https://sjgc.com/wp-content/uploads/2025/05/golf-club-and-golf-ball.png
END:VEVENT
BEGIN:VEVENT
DTSTART;TZID=America/New_York:20300412T070000
DTEND;TZID=America/New_York:20300412T083000
DTSTAMP:20260421T123246
CREATED:20250509T162709Z
LAST-MODIFIED:20250522T185221Z
UID:10002885-1902207600-1902213000@sjgc.com
SUMMARY:Men's Golf Association (MGA)
DESCRIPTION:The Association includes over 100 active members who play year-round on Mondays\, Wednesdays\, and Fridays.
URL:https://sjgc.com/event/mga/2030-04-12/
LOCATION:St. Johns Golf Club\, 4900 Cypress Links Blvd\, Elkton\, FL\, 32033\, United States
CATEGORIES:Men's Association,Players Groups
ATTACH;FMTTYPE=image/png:https://sjgc.com/wp-content/uploads/2025/05/golf-club-and-golf-ball.png
END:VEVENT
BEGIN:VEVENT
DTSTART;TZID=America/New_York:20300415T070000
DTEND;TZID=America/New_York:20300415T083000
DTSTAMP:20260421T123246
CREATED:20250509T162709Z
LAST-MODIFIED:20250522T185221Z
UID:10002886-1902466800-1902472200@sjgc.com
SUMMARY:Men's Golf Association (MGA)
DESCRIPTION:The Association includes over 100 active members who play year-round on Mondays\, Wednesdays\, and Fridays.
URL:https://sjgc.com/event/mga/2030-04-15/
LOCATION:St. Johns Golf Club\, 4900 Cypress Links Blvd\, Elkton\, FL\, 32033\, United States
CATEGORIES:Men's Association,Players Groups
ATTACH;FMTTYPE=image/png:https://sjgc.com/wp-content/uploads/2025/05/golf-club-and-golf-ball.png
END:VEVENT
BEGIN:VEVENT
DTSTART;TZID=America/New_York:20300417T070000
DTEND;TZID=America/New_York:20300417T083000
DTSTAMP:20260421T123246
CREATED:20250509T162709Z
LAST-MODIFIED:20250522T185221Z
UID:10002887-1902639600-1902645000@sjgc.com
SUMMARY:Men's Golf Association (MGA)
DESCRIPTION:The Association includes over 100 active members who play year-round on Mondays\, Wednesdays\, and Fridays.
URL:https://sjgc.com/event/mga/2030-04-17/
LOCATION:St. Johns Golf Club\, 4900 Cypress Links Blvd\, Elkton\, FL\, 32033\, United States
CATEGORIES:Men's Association,Players Groups
ATTACH;FMTTYPE=image/png:https://sjgc.com/wp-content/uploads/2025/05/golf-club-and-golf-ball.png
END:VEVENT
BEGIN:VEVENT
DTSTART;TZID=America/New_York:20300419T070000
DTEND;TZID=America/New_York:20300419T083000
DTSTAMP:20260421T123246
CREATED:20250509T162709Z
LAST-MODIFIED:20250522T185221Z
UID:10002888-1902812400-1902817800@sjgc.com
SUMMARY:Men's Golf Association (MGA)
DESCRIPTION:The Association includes over 100 active members who play year-round on Mondays\, Wednesdays\, and Fridays.
URL:https://sjgc.com/event/mga/2030-04-19/
LOCATION:St. Johns Golf Club\, 4900 Cypress Links Blvd\, Elkton\, FL\, 32033\, United States
CATEGORIES:Men's Association,Players Groups
ATTACH;FMTTYPE=image/png:https://sjgc.com/wp-content/uploads/2025/05/golf-club-and-golf-ball.png
END:VEVENT
BEGIN:VEVENT
DTSTART;TZID=America/New_York:20300422T070000
DTEND;TZID=America/New_York:20300422T083000
DTSTAMP:20260421T123246
CREATED:20250509T162709Z
LAST-MODIFIED:20250522T185221Z
UID:10002889-1903071600-1903077000@sjgc.com
SUMMARY:Men's Golf Association (MGA)
DESCRIPTION:The Association includes over 100 active members who play year-round on Mondays\, Wednesdays\, and Fridays.
URL:https://sjgc.com/event/mga/2030-04-22/
LOCATION:St. Johns Golf Club\, 4900 Cypress Links Blvd\, Elkton\, FL\, 32033\, United States
CATEGORIES:Men's Association,Players Groups
ATTACH;FMTTYPE=image/png:https://sjgc.com/wp-content/uploads/2025/05/golf-club-and-golf-ball.png
END:VEVENT
BEGIN:VEVENT
DTSTART;TZID=America/New_York:20300424T070000
DTEND;TZID=America/New_York:20300424T083000
DTSTAMP:20260421T123246
CREATED:20250509T162709Z
LAST-MODIFIED:20250522T185221Z
UID:10002890-1903244400-1903249800@sjgc.com
SUMMARY:Men's Golf Association (MGA)
DESCRIPTION:The Association includes over 100 active members who play year-round on Mondays\, Wednesdays\, and Fridays.
URL:https://sjgc.com/event/mga/2030-04-24/
LOCATION:St. Johns Golf Club\, 4900 Cypress Links Blvd\, Elkton\, FL\, 32033\, United States
CATEGORIES:Men's Association,Players Groups
ATTACH;FMTTYPE=image/png:https://sjgc.com/wp-content/uploads/2025/05/golf-club-and-golf-ball.png
END:VEVENT
BEGIN:VEVENT
DTSTART;TZID=America/New_York:20300426T070000
DTEND;TZID=America/New_York:20300426T083000
DTSTAMP:20260421T123246
CREATED:20250509T162709Z
LAST-MODIFIED:20250522T185221Z
UID:10002891-1903417200-1903422600@sjgc.com
SUMMARY:Men's Golf Association (MGA)
DESCRIPTION:The Association includes over 100 active members who play year-round on Mondays\, Wednesdays\, and Fridays.
URL:https://sjgc.com/event/mga/2030-04-26/
LOCATION:St. Johns Golf Club\, 4900 Cypress Links Blvd\, Elkton\, FL\, 32033\, United States
CATEGORIES:Men's Association,Players Groups
ATTACH;FMTTYPE=image/png:https://sjgc.com/wp-content/uploads/2025/05/golf-club-and-golf-ball.png
END:VEVENT
BEGIN:VEVENT
DTSTART;TZID=America/New_York:20300429T070000
DTEND;TZID=America/New_York:20300429T083000
DTSTAMP:20260421T123246
CREATED:20250509T162709Z
LAST-MODIFIED:20250522T185221Z
UID:10002892-1903676400-1903681800@sjgc.com
SUMMARY:Men's Golf Association (MGA)
DESCRIPTION:The Association includes over 100 active members who play year-round on Mondays\, Wednesdays\, and Fridays.
URL:https://sjgc.com/event/mga/2030-04-29/
LOCATION:St. Johns Golf Club\, 4900 Cypress Links Blvd\, Elkton\, FL\, 32033\, United States
CATEGORIES:Men's Association,Players Groups
ATTACH;FMTTYPE=image/png:https://sjgc.com/wp-content/uploads/2025/05/golf-club-and-golf-ball.png
END:VEVENT
BEGIN:VEVENT
DTSTART;TZID=America/New_York:20300501T070000
DTEND;TZID=America/New_York:20300501T083000
DTSTAMP:20260421T123246
CREATED:20250509T162709Z
LAST-MODIFIED:20250522T185221Z
UID:10002893-1903849200-1903854600@sjgc.com
SUMMARY:Men's Golf Association (MGA)
DESCRIPTION:The Association includes over 100 active members who play year-round on Mondays\, Wednesdays\, and Fridays.
URL:https://sjgc.com/event/mga/2030-05-01/
LOCATION:St. Johns Golf Club\, 4900 Cypress Links Blvd\, Elkton\, FL\, 32033\, United States
CATEGORIES:Men's Association,Players Groups
ATTACH;FMTTYPE=image/png:https://sjgc.com/wp-content/uploads/2025/05/golf-club-and-golf-ball.png
END:VEVENT
BEGIN:VEVENT
DTSTART;TZID=America/New_York:20300503T070000
DTEND;TZID=America/New_York:20300503T083000
DTSTAMP:20260421T123246
CREATED:20250509T162709Z
LAST-MODIFIED:20250522T185221Z
UID:10002894-1904022000-1904027400@sjgc.com
SUMMARY:Men's Golf Association (MGA)
DESCRIPTION:The Association includes over 100 active members who play year-round on Mondays\, Wednesdays\, and Fridays.
URL:https://sjgc.com/event/mga/2030-05-03/
LOCATION:St. Johns Golf Club\, 4900 Cypress Links Blvd\, Elkton\, FL\, 32033\, United States
CATEGORIES:Men's Association,Players Groups
ATTACH;FMTTYPE=image/png:https://sjgc.com/wp-content/uploads/2025/05/golf-club-and-golf-ball.png
END:VEVENT
BEGIN:VEVENT
DTSTART;TZID=America/New_York:20300506T070000
DTEND;TZID=America/New_York:20300506T083000
DTSTAMP:20260421T123246
CREATED:20250509T162709Z
LAST-MODIFIED:20250522T185221Z
UID:10002895-1904281200-1904286600@sjgc.com
SUMMARY:Men's Golf Association (MGA)
DESCRIPTION:The Association includes over 100 active members who play year-round on Mondays\, Wednesdays\, and Fridays.
URL:https://sjgc.com/event/mga/2030-05-06/
LOCATION:St. Johns Golf Club\, 4900 Cypress Links Blvd\, Elkton\, FL\, 32033\, United States
CATEGORIES:Men's Association,Players Groups
ATTACH;FMTTYPE=image/png:https://sjgc.com/wp-content/uploads/2025/05/golf-club-and-golf-ball.png
END:VEVENT
BEGIN:VEVENT
DTSTART;TZID=America/New_York:20300508T070000
DTEND;TZID=America/New_York:20300508T083000
DTSTAMP:20260421T123246
CREATED:20250509T162709Z
LAST-MODIFIED:20250522T185221Z
UID:10002896-1904454000-1904459400@sjgc.com
SUMMARY:Men's Golf Association (MGA)
DESCRIPTION:The Association includes over 100 active members who play year-round on Mondays\, Wednesdays\, and Fridays.
URL:https://sjgc.com/event/mga/2030-05-08/
LOCATION:St. Johns Golf Club\, 4900 Cypress Links Blvd\, Elkton\, FL\, 32033\, United States
CATEGORIES:Men's Association,Players Groups
ATTACH;FMTTYPE=image/png:https://sjgc.com/wp-content/uploads/2025/05/golf-club-and-golf-ball.png
END:VEVENT
BEGIN:VEVENT
DTSTART;TZID=America/New_York:20300510T070000
DTEND;TZID=America/New_York:20300510T083000
DTSTAMP:20260421T123246
CREATED:20250509T162709Z
LAST-MODIFIED:20250522T185221Z
UID:10009131-1904626800-1904632200@sjgc.com
SUMMARY:Men's Golf Association (MGA)
DESCRIPTION:The Association includes over 100 active members who play year-round on Mondays\, Wednesdays\, and Fridays.
URL:https://sjgc.com/event/mga/2030-05-10/
LOCATION:St. Johns Golf Club\, 4900 Cypress Links Blvd\, Elkton\, FL\, 32033\, United States
CATEGORIES:Men's Association,Players Groups
ATTACH;FMTTYPE=image/png:https://sjgc.com/wp-content/uploads/2025/05/golf-club-and-golf-ball.png
END:VEVENT
BEGIN:VEVENT
DTSTART;TZID=America/New_York:20300513T070000
DTEND;TZID=America/New_York:20300513T083000
DTSTAMP:20260421T123246
CREATED:20250509T162709Z
LAST-MODIFIED:20250522T185221Z
UID:10009132-1904886000-1904891400@sjgc.com
SUMMARY:Men's Golf Association (MGA)
DESCRIPTION:The Association includes over 100 active members who play year-round on Mondays\, Wednesdays\, and Fridays.
URL:https://sjgc.com/event/mga/2030-05-13/
LOCATION:St. Johns Golf Club\, 4900 Cypress Links Blvd\, Elkton\, FL\, 32033\, United States
CATEGORIES:Men's Association,Players Groups
ATTACH;FMTTYPE=image/png:https://sjgc.com/wp-content/uploads/2025/05/golf-club-and-golf-ball.png
END:VEVENT
BEGIN:VEVENT
DTSTART;TZID=America/New_York:20300515T070000
DTEND;TZID=America/New_York:20300515T083000
DTSTAMP:20260421T123246
CREATED:20250509T162709Z
LAST-MODIFIED:20250522T185221Z
UID:10009133-1905058800-1905064200@sjgc.com
SUMMARY:Men's Golf Association (MGA)
DESCRIPTION:The Association includes over 100 active members who play year-round on Mondays\, Wednesdays\, and Fridays.
URL:https://sjgc.com/event/mga/2030-05-15/
LOCATION:St. Johns Golf Club\, 4900 Cypress Links Blvd\, Elkton\, FL\, 32033\, United States
CATEGORIES:Men's Association,Players Groups
ATTACH;FMTTYPE=image/png:https://sjgc.com/wp-content/uploads/2025/05/golf-club-and-golf-ball.png
END:VEVENT
BEGIN:VEVENT
DTSTART;TZID=America/New_York:20300517T070000
DTEND;TZID=America/New_York:20300517T083000
DTSTAMP:20260421T123246
CREATED:20250509T162709Z
LAST-MODIFIED:20250522T185221Z
UID:10009134-1905231600-1905237000@sjgc.com
SUMMARY:Men's Golf Association (MGA)
DESCRIPTION:The Association includes over 100 active members who play year-round on Mondays\, Wednesdays\, and Fridays.
URL:https://sjgc.com/event/mga/2030-05-17/
LOCATION:St. Johns Golf Club\, 4900 Cypress Links Blvd\, Elkton\, FL\, 32033\, United States
CATEGORIES:Men's Association,Players Groups
ATTACH;FMTTYPE=image/png:https://sjgc.com/wp-content/uploads/2025/05/golf-club-and-golf-ball.png
END:VEVENT
BEGIN:VEVENT
DTSTART;TZID=America/New_York:20300520T070000
DTEND;TZID=America/New_York:20300520T083000
DTSTAMP:20260421T123246
CREATED:20250509T162709Z
LAST-MODIFIED:20250522T185221Z
UID:10009135-1905490800-1905496200@sjgc.com
SUMMARY:Men's Golf Association (MGA)
DESCRIPTION:The Association includes over 100 active members who play year-round on Mondays\, Wednesdays\, and Fridays.
URL:https://sjgc.com/event/mga/2030-05-20/
LOCATION:St. Johns Golf Club\, 4900 Cypress Links Blvd\, Elkton\, FL\, 32033\, United States
CATEGORIES:Men's Association,Players Groups
ATTACH;FMTTYPE=image/png:https://sjgc.com/wp-content/uploads/2025/05/golf-club-and-golf-ball.png
END:VEVENT
BEGIN:VEVENT
DTSTART;TZID=America/New_York:20300522T070000
DTEND;TZID=America/New_York:20300522T083000
DTSTAMP:20260421T123246
CREATED:20250509T162709Z
LAST-MODIFIED:20250522T185221Z
UID:10009282-1905663600-1905669000@sjgc.com
SUMMARY:Men's Golf Association (MGA)
DESCRIPTION:The Association includes over 100 active members who play year-round on Mondays\, Wednesdays\, and Fridays.
URL:https://sjgc.com/event/mga/2030-05-22/
LOCATION:St. Johns Golf Club\, 4900 Cypress Links Blvd\, Elkton\, FL\, 32033\, United States
CATEGORIES:Men's Association,Players Groups
ATTACH;FMTTYPE=image/png:https://sjgc.com/wp-content/uploads/2025/05/golf-club-and-golf-ball.png
END:VEVENT
END:VCALENDAR